Felt | Verdi |
AlreadyApplied | True |
Aperture | 7.1 |
ApertureValue | 7.1 |
ApproximateFocusDistance | 1.91 |
Artist | Eddie Bjerkevoll |
AutoLateralCA | 0 |
BitsPerSample | 8 |
Blacks2012 | +12 |
BlueHue | 0 |
BlueSaturation | 0 |
Brightness | +50 |
By-line | Eddie Bjerkevoll |
CameraProfile | Adobe Standard |
CircleOfConfusion | 0.018 mm |
Clarity | 0 |
Clarity2012 | +39 |
ColorComponents | 3 |
ColorNoiseReduction | 25 |
ColorNoiseReductionDetail | 50 |
ColorTemperature | 8051 |
Contrast | +25 |
Contrast2012 | +46 |
ConvertToGrayscale | False |
Copyright | Eddie Bjerkevoll 6393 Tomrefjord Tlf 91733046 |
CopyrightNotice | Eddie Bjerkevoll 6393 Tomrefjord Tlf 91733046 |
CreateDate (1) | 2013:04:27 21:20:58.84 |
CreateDate | 2013:04:27 21:20:58 |
Creator | Eddie Bjerkevoll |
CreatorTool | Adobe Photoshop Lightroom 4.0 (Windows) |
CropAngle | 0 |
CropBottom | 1 |
CropConstrainToWarp | 0 |
CropHeight | 2336 |
CropLeft | 0.24 |
CropRight | 0.813333 |
CropTop | 0.324 |
CropUnit | pixels |
CropWidth | 2972 |
CustomRendered | Normal |
DateCreated (1) | 2013:04:27 |
DateCreated | 2013:04:27 21:20:58.84 |
DateTimeOriginal | 2013:04:27 21:20:58 |
Defringe | 0 |
DOF | 0.02 m (1.90 - 1.92 m) |
Exposure | 0.00 |
Exposure2012 | +0.37 |
ExposureCompensation | 0 |
ExposureMode | Manual |
ExposureProgram | Manual |
ExposureTime | 1/250 |
FillLight | 0 |
Firmware | 1.2.1 |
Flash | On, Fired |
FlashCompensation | 0 |
FNumber | 7.1 |
FocalLength | 200.0 mm |
FocalLength35efl | 200.0 mm (35 mm equivalent: 329.6 mm) |
Format | image/jpeg |
FOV | 6.3 deg |
GrainAmount | 0 |
GreenHue | 0 |
GreenSaturation | 0 |
HasCrop | True |
HasSettings | True |
HighlightRecovery | 0 |
Highlights2012 | -71 |
HueAdjustmentAqua | 0 |
HueAdjustmentBlue | 0 |
HueAdjustmentGreen | 0 |
HueAdjustmentMagenta | 0 |
HueAdjustmentOrange | 0 |
HueAdjustmentPurple | 0 |
HueAdjustmentRed | 0 |
HueAdjustmentYellow | 0 |
HyperfocalDistance | 309.04 m |
ImageHeight | 2336 |
ImageNumber | 0 |
ImageSize | 2972x2336 |
ImageWidth | 2972 |
ISO | 200 |
Lens | EF70-200mm f/2.8L IS II USM |
LensID (1) | 251 |
LensID | Canon EF 70-200mm f/2.8L IS II USM |
LensInfo | 70-200mm f/? |
LensManualDistortionAmount | 0 |
LensModel | EF70-200mm f/2.8L IS II USM |
LensProfileEnable | 0 |
LensProfileSetup | LensDefaults |
LensSerialNumber | 0000c06cb7 |
LightValue | 12.6 |
LuminanceAdjustmentAqua | 0 |
LuminanceAdjustmentBlue | 0 |
LuminanceAdjustmentGreen | 0 |
LuminanceAdjustmentMagenta | 0 |
LuminanceAdjustmentOrange | 0 |
LuminanceAdjustmentPurple | 0 |
LuminanceAdjustmentRed | 0 |
LuminanceAdjustmentYellow | 0 |
LuminanceNoiseReductionContrast | 39 |
LuminanceNoiseReductionDetail | 50 |
LuminanceSmoothing | 50 |
Make | Canon |
MaxApertureValue | 2.8 |
Megapixels | 6.9 |
MeteringMode | Spot |
Model | Canon EOS-1D X |
ModifyDate (1) | 2013:04:28 01:50:16+02:00 |
ModifyDate | 2013:04:28 01:50:16 |
ParametricDarks | 0 |
ParametricHighlights | 0 |
ParametricHighlightSplit | 75 |
ParametricLights | 0 |
ParametricMidtoneSplit | 50 |
ParametricShadows | 0 |
ParametricShadowSplit | 25 |
PerspectiveHorizontal | 0 |
PerspectiveRotate | 0.0 |
PerspectiveScale | 100 |
PerspectiveVertical | 0 |
PostCropVignetteAmount | 0 |
ProcessVersion | 6.7 |
ProfileDescription | sRGB IEC61966-2.1 |
RecommendedExposureIndex | 200 |
RedHue | 0 |
RedSaturation | 0 |
Rights | Eddie Bjerkevoll 6393 Tomrefjord Tlf 91733046 |
Saturation | 0 |
SaturationAdjustmentAqua | 0 |
SaturationAdjustmentBlue | 0 |
SaturationAdjustmentGreen | 0 |
SaturationAdjustmentMagenta | 0 |
SaturationAdjustmentOrange | 0 |
SaturationAdjustmentPurple | 0 |
SaturationAdjustmentRed | 0 |
SaturationAdjustmentYellow | 0 |
ScaleFactor35efl | 1.6 |
SceneCaptureType | Standard |
SensitivityType | Recommended Exposure Index |
SerialNumber | 053011002695 |
Shadows | 5 |
Shadows2012 | +34 |
ShadowTint | 0 |
SharpenDetail | 65 |
SharpenEdgeMasking | 0 |
SharpenRadius | +2.0 |
Sharpness | 71 |
ShutterSpeed | 1/250 |
ShutterSpeedValue | 1/250 |
Software | Adobe Photoshop Lightroom 4.0 (Windows) |
SplitToningBalance | 0 |
SplitToningHighlightHue | 0 |
SplitToningHighlightSaturation | 0 |
SplitToningShadowHue | 0 |
SplitToningShadowSaturation | 0 |
Tint | +13 |
ToneCurve | 0, 0, 255, 255 |
ToneCurveBlue | 0, 0, 255, 255 |
ToneCurveGreen | 0, 0, 255, 255 |
ToneCurveName | Linear |
ToneCurveName2012 | Linear |
ToneCurvePV2012 | 0, 0, 255, 255 |
ToneCurvePV2012Blue | 0, 0, 255, 255 |
ToneCurvePV2012Green | 0, 0, 255, 255 |
ToneCurvePV2012Red | 0, 0, 255, 255 |
ToneCurveRed | 0, 0, 255, 255 |
Version | 7.0 |
Vibrance | 0 |
VignetteAmount | 0 |
WhiteBalance (1) | Custom |
WhiteBalance | Auto |
Whites2012 | +32 |