Felt | Verdi |
AlreadyApplied | True |
Aperture | 1.8 |
ApertureValue | 1.8 |
AutoLateralCA | 0 |
BitsPerSample | 8 |
Blacks2012 | 0 |
BlueHue | 0 |
BlueSaturation | 0 |
CameraProfile | Adobe Standard |
CircleOfConfusion | 0.019 mm |
Clarity2012 | +100 |
ColorComponents | 1 |
ColorNoiseReduction | 88 |
ColorNoiseReductionDetail | 50 |
ColorTemperature | 4900 |
Contrast2012 | +33 |
ConvertToGrayscale | True |
Copyright | Kenneth Refvik, Reflect. |
CopyrightFlag | True |
CopyrightNotice | Kenneth Refvik, Reflect. |
CreateDate (1) | 2013:01:25 16:30:13.23 |
CreateDate | 2013:01:25 16:30:13 |
CreatorTool | Adobe Photoshop Lightroom 4.2 (Windows) |
CropAngle | 0 |
CropBottom | 1 |
CropConstrainToWarp | 0 |
CropHeight | 3069 |
CropLeft | 0.330254 |
CropRight | 0.678984 |
CropTop | 0.031196 |
CropUnit | pixels |
CropWidth | 1657 |
CustomRendered | Normal |
DateCreated (1) | 2013:01:25 |
DateCreated | 2013:01:25 16:30:13.23 |
DateTimeOriginal | 2013:01:25 16:30:13 |
Exposure2012 | +0.10 |
ExposureCompensation | 0 |
ExposureMode | Manual |
ExposureProgram | Manual |
ExposureTime | 1/400 |
Firmware | 1.0.3 |
Flash | Off, Did not fire |
FlashCompensation | 0 |
FNumber | 1.8 |
FocalLength | 50.0 mm |
FocalLength35efl | 50.0 mm (35 mm equivalent: 79.2 mm) |
Format | image/jpeg |
FOV | 25.6 deg |
GradientBasedCorrActive | true |
GradientBasedCorrAmount | 1.000000 |
GradientBasedCorrBrightness | 0.000000 |
GradientBasedCorrClarity2012 (1) | 1.000000 |
GradientBasedCorrClarity2012 | 0.517240 |
GradientBasedCorrContrast2012 (1) | 0.448280 |
GradientBasedCorrContrast2012 | 0.885060 |
GradientBasedCorrDefringe | 0.000000 |
GradientBasedCorrExposure2012 (1) | -0.195500 |
GradientBasedCorrExposure2012 | -0.218500 |
GradientBasedCorrHighlights2012 (1) | 0.034480 |
GradientBasedCorrHighlights2012 | 0.310340 |
GradientBasedCorrHue | 62.000000 |
GradientBasedCorrLuminanceNoise | 0.000000 |
GradientBasedCorrMaskFullX (1) | 0.637627 |
GradientBasedCorrMaskFullX | 0.336960 |
GradientBasedCorrMaskFullY (1) | 0.603747 |
GradientBasedCorrMaskFullY | 0.454313 |
GradientBasedCorrMaskValue | 1.000000 |
GradientBasedCorrMaskWhat | Mask/Gradient |
GradientBasedCorrMaskZeroX (1) | 0.559192 |
GradientBasedCorrMaskZeroX | 0.473322 |
GradientBasedCorrMaskZeroY (1) | 0.604838 |
GradientBasedCorrMaskZeroY | 0.457671 |
GradientBasedCorrMoire | 0.000000 |
GradientBasedCorrSaturation | 0.000000 |
GradientBasedCorrShadows2012 (1) | -0.632180 |
GradientBasedCorrShadows2012 | 0.000000 |
GradientBasedCorrSharpness | 0.839080 |
GradientBasedCorrTemperature | 0.000000 |
GradientBasedCorrTint | 0.000000 |
GradientBasedCorrWhat | Correction |
GrainAmount | 0 |
GrayMixerAqua | -21 |
GrayMixerBlue | +6 |
GrayMixerGreen | -25 |
GrayMixerMagenta | +9 |
GrayMixerOrange | -14 |
GrayMixerPurple | +16 |
GrayMixerRed | -2 |
GrayMixerYellow | -19 |
GreenHue | 0 |
GreenSaturation | 0 |
HasCrop | True |
HasSettings | True |
Highlights2012 | -83 |
HyperfocalDistance | 73.25 m |
ImageHeight | 3069 |
ImageNumber | 0 |
ImageSize | 1657x3069 |
ImageWidth | 1657 |
ISO | 100 |
Label | Reflect. |
Lens | EF50mm f/1.8 II |
LensID (1) | 29 |
LensID | Canon EF 50mm f/1.8 II |
LensInfo | 50mm f/? |
LensManualDistortionAmount | 0 |
LensModel | EF50mm f/1.8 II |
LensProfileEnable | 0 |
LensProfileSetup | LensDefaults |
LightValue | 10.3 |
LuminanceNoiseReductionContrast | 0 |
LuminanceNoiseReductionDetail | 50 |
LuminanceSmoothing | 68 |
Make | Canon |
Marked | True |
MaxApertureValue | 1.8 |
Megapixels | 5.1 |
MeteringMode | Multi-segment |
Model | Canon EOS 50D |
ModifyDate (1) | 2013:01:26 01:16:36+01:00 |
ModifyDate | 2013:01:26 01:16:36 |
ObjectName | Art Photographer |
PaintCorrectionActive | true |
PaintCorrectionAmount | 1.000000 |
PaintCorrectionBrightness | 0.000000 |
PaintCorrectionClarity2012 (1) | 0.954020 |
PaintCorrectionClarity2012 | 1.000000 |
PaintCorrectionContrast2012 (2) | -0.862070 |
PaintCorrectionContrast2012 | -1.000000 |
PaintCorrectionDefringe | 0.000000 |
PaintCorrectionExposure2012 (1) | 0.195500 |
PaintCorrectionExposure2012 (2) | -0.264250 |
PaintCorrectionExposure2012 | 0.000000 |
PaintCorrectionHighlights2012 (1) | 0.747130 |
PaintCorrectionHighlights2012 (2) | 0.000000 |
PaintCorrectionHighlights2012 | -0.977010 |
PaintCorrectionHue | 62.000000 |
PaintCorrectionLuminanceNoise | 0.000000 |
PaintCorrectionMaskCenterWeight | 1.000000 |
PaintCorrectionMaskFlow (1) | 0.400000 |
PaintCorrectionMaskFlow | 1.000000 |
PaintCorrectionMaskRadius (1) | 0.004609 |
PaintCorrectionMaskRadius (2) | 0.024517 |
PaintCorrectionMaskRadius | 0.003032 |
PaintCorrectionMaskValue | 1.000000 |
PaintCorrectionMaskWhat | Mask/Paint |
PaintCorrectionMoire | 0.000000 |
PaintCorrectionSaturation | 0.000000 |
PaintCorrectionShadows2012 (1) | -0.954020 |
PaintCorrectionShadows2012 | 0.000000 |
PaintCorrectionSharpness (1) | 0.839080 |
PaintCorrectionSharpness | 0.126440 |
PaintCorrectionTemperature | 0.000000 |
PaintCorrectionTint | 0.000000 |
PaintCorrectionWhat | Correction |
ParametricDarks | -65 |
ParametricHighlights | +55 |
ParametricHighlightSplit | 75 |
ParametricLights | -90 |
ParametricMidtoneSplit | 50 |
ParametricShadows | -98 |
ParametricShadowSplit | 25 |
PerspectiveHorizontal | 0 |
PerspectiveRotate | 0.0 |
PerspectiveScale | 100 |
PerspectiveVertical | 0 |
PostCropVignetteAmount | 0 |
ProcessVersion | 6.7 |
ProfileDescription | sRGB IEC61966-2.1 |
Rating | 4 |
RedHue | 0 |
RedSaturation | 0 |
Rights | Kenneth Refvik, Reflect. |
ScaleFactor35efl | 1.6 |
SceneCaptureType | Standard |
SerialNumber | 430353506 |
Shadows2012 | +62 |
ShadowTint | 0 |
SharpenDetail | 25 |
SharpenEdgeMasking | 0 |
SharpenRadius | +1.0 |
Sharpness | 0 |
ShutterSpeed | 1/400 |
ShutterSpeedValue | 1/400 |
Software | Adobe Photoshop Lightroom 4.2 (Windows) |
SplitToningBalance | 0 |
SplitToningHighlightHue | 0 |
SplitToningHighlightSaturation | 0 |
SplitToningShadowHue | 0 |
SplitToningShadowSaturation | 0 |
Tint | +16 |
Title | Art Photographer |
ToneCurveName2012 | Linear |
ToneCurvePV2012 | 0, 0, 255, 255 |
ToneCurvePV2012Blue | 0, 0, 255, 255 |
ToneCurvePV2012Green | 0, 0, 255, 255 |
ToneCurvePV2012Red | 0, 0, 255, 255 |
URL | http://photo.net/photos/KennethRefvik |
UsageTerms | All photos are copyright the photographer, and may not be used without written permission. |
Version | 7.2 |
VignetteAmount | 0 |
WebStatement | http://photo.net/photos/KennethRefvik |
WhiteBalance (1) | As Shot |
WhiteBalance | Auto |
Whites2012 | +10 |