Felt | Verdi |
AlreadyApplied | True |
Aperture | 16.0 |
ApertureValue | 16.0 |
Artist | Anders_Winterstad |
AutoLateralCA | 0 |
BitsPerSample | 8 |
BlackClip | 0.043850 |
Blacks2012 | +3 |
BlueHue | 0 |
BlueSaturation | 0 |
By-line | Anders_Winterstad |
CameraProfile | Embedded |
CircleOfConfusion | 0.020 mm |
Clarity2012 | +53 |
ColorComponents | 3 |
ColorMode | RGB |
ColorNoiseReduction | 0 |
ColorSaturation | 46.0 |
ColorSpace | Uncalibrated |
ColorTemperature | 0.0 |
Contrast | Normal |
Contrast2012 | +23 |
ConvertToGrayscale | False |
Copyright | Anders Winterstad |
CopyrightFlag | True |
CopyrightNotice | Anders Winterstad |
CreateDate | 2013:02:09 18:26:36 |
Creator | Anders_Winterstad |
CreatorTool | Photomatix Pro 4.2 |
CropAngle | 1.351419 |
CropBottom | 0.84858 |
CropConstrainToWarp | 0 |
CropHeight | 1 |
CropLeft | 0.088829 |
CropRight | 0.906961 |
CropTop | 0.298081 |
CropUnit | Unknown (3) |
CropWidth | 2.39 |
CustomRendered | Normal |
DateCreated (1) | 2013:02:09 |
DateCreated | 2013:02:09 18:26:36 |
DateTimeOriginal | 2013:02:09 18:26:36 |
DefringeGreenAmount | 0 |
DefringeGreenHueHi | 60 |
DefringeGreenHueLo | 40 |
DefringePurpleAmount | 0 |
DefringePurpleHueHi | 70 |
DefringePurpleHueLo | 30 |
ExifImageHeight | 571 |
ExifImageWidth | 1366 |
Exposure2012 | -0.65 |
ExposureCompensation | 0 |
ExposureMode | Auto bracket |
ExposureProgram | Aperture-priority AE |
ExposureTime | 1.6 |
Flash | Off, Did not fire |
FNumber | 16.0 |
FocalLength | 10.0 mm |
FocalLength35efl | 10.0 mm (35 mm equivalent: 15.0 mm) |
FocalLengthIn35mmFormat | 15 mm |
Format | image/jpeg |
FOV | 100.4 deg |
Gamma | 1.00 |
GrainAmount | 0 |
GreenHue | 0 |
GreenSaturation | 0 |
HasCrop | True |
HasSettings | True |
HierarchicalSubject | Sortering|HDR Uferdig |
Highlights2012 | +4 |
HighlightsSmoothing | 14.0 |
HueAdjustmentAqua | 0 |
HueAdjustmentBlue | 0 |
HueAdjustmentGreen | 0 |
HueAdjustmentMagenta | 0 |
HueAdjustmentOrange | 0 |
HueAdjustmentPurple | 0 |
HueAdjustmentRed | 0 |
HueAdjustmentYellow | 0 |
HyperfocalDistance | 0.31 m |
ICCProfileName | Adobe RGB (1998) |
ImageHeight | 571 |
ImageSize | 1366x571 |
ImageWidth | 1366 |
IncrementalTemperature | +30 |
IncrementalTint | +23 |
ISO | 800 |
IsPano360 | No |
Keywords | HDR Uferdig |
LensManualDistortionAmount | 0 |
LensProfileChromaticAberrationScale | 100 |
LensProfileDistortionScale | 100 |
LensProfileEnable | 0 |
LensProfileFilename | Canon EOS-1Ds Mark III (Sigma DG 12-24mm f4.5-5.6 EX HSM).lcp |
LensProfileName | Adobe (Sigma DG 12-24mm f/4.5-5.6 EX HSM) |
LensProfileSetup | Custom |
LensProfileVignettingScale | 100 |
LightValue | 4.3 |
LuminanceAdjustmentAqua | 0 |
LuminanceAdjustmentBlue | 0 |
LuminanceAdjustmentGreen | 0 |
LuminanceAdjustmentMagenta | 0 |
LuminanceAdjustmentOrange | 0 |
LuminanceAdjustmentPurple | 0 |
LuminanceAdjustmentRed | 0 |
LuminanceAdjustmentYellow | 0 |
LuminanceNoiseReductionContrast | 0 |
LuminanceNoiseReductionDetail | 50 |
LuminanceSmoothing | 48 |
Luminosity | 0.0 |
Make | PENTAX |
Marked | True |
Megapixels | 0.780 |
MeteringMode | Spot |
Method | Details Enhancer |
Microcontrast | 0.0 |
Microsmoothing | 0.1 |
Model | PENTAX K-5 |
ModifyDate (1) | 2013:02:10 21:06:45+01:00 |
ModifyDate | 2013:02:10 21:06:45 |
Orientation | Horizontal (normal) |
ParametricDarks | 0 |
ParametricHighlights | 0 |
ParametricHighlightSplit | 75 |
ParametricLights | 0 |
ParametricMidtoneSplit | 50 |
ParametricShadows | 0 |
ParametricShadowSplit | 25 |
PerspectiveHorizontal | 0 |
PerspectiveRotate | 0.0 |
PerspectiveScale | 100 |
PerspectiveVertical | -63 |
PhotographicSensitivity | 800 |
PostCropVignetteAmount | 0 |
ProcessVersion | 6.7 |
ProfileDescription | Adobe RGB (1998) |
Rating | 0 |
RawFileName | _IGP4393_4_5_6_7_tonemapped.tif |
RedHue | 0 |
RedSaturation | 0 |
Rights | Anders Winterstad |
Saturation (1) | 0 |
Saturation | Normal |
SaturationAdjustmentAqua | 0 |
SaturationAdjustmentBlue | 0 |
SaturationAdjustmentGreen | 0 |
SaturationAdjustmentMagenta | 0 |
SaturationAdjustmentOrange | 0 |
SaturationAdjustmentPurple | 0 |
SaturationAdjustmentRed | 0 |
SaturationAdjustmentYellow | 0 |
SaturationHighlights | -0.0 |
SaturationShadows | 0.0 |
ScaleFactor35efl | 1.5 |
SceneCaptureType | Standard |
SensingMethod | One-chip color area |
Shadows2012 | 0 |
ShadowsClipping | 0.0 |
ShadowsSmoothing | 0.0 |
ShadowTint | 0 |
SharpenDetail | 25 |
SharpenEdgeMasking | 0 |
SharpenRadius | +1.0 |
Sharpness (1) | 102 |
Sharpness | Normal |
ShutterSpeed | 1.6 |
ShutterSpeedValue | 1.6 |
Smoothing | High |
SmoothingMode | Light |
Software | Adobe Photoshop CS6 (Macintosh) |
SplitToningBalance | 0 |
SplitToningHighlightHue | 0 |
SplitToningHighlightSaturation | 0 |
SplitToningShadowHue | 0 |
SplitToningShadowSaturation | 0 |
Strength | 100.0 |
Subject | HDR Uferdig |
SubjectDistanceRange | Distant |
ToneCurveName2012 | Strong Contrast |
ToneCurvePV2012 | 0, 0, 32, 16, 64, 50, 128, 128, 192, 202, 255, 255 |
ToneCurvePV2012Blue | 0, 0, 255, 255 |
ToneCurvePV2012Green | 0, 0, 255, 255 |
ToneCurvePV2012Red | 0, 0, 255, 255 |
URL_List | |
UsageTerms | |
Version (1) | 4.2 |
Version | 7.2 |
Vibrance | 0 |
VignetteAmount | -42 |
VignetteMidpoint | 6 |
WhiteBalance (1) | Custom |
WhiteBalance | Auto |
WhiteClip | 0.250000 |
Whites2012 | +6 |