Felt | Verdi |
AlreadyApplied | True |
Aperture | 11.0 |
ApertureValue | 11.0 |
AutoLateralCA | 0 |
BitsPerSample | 8 |
BlackClip | 0.000000 |
Blacks2012 | 0 |
BlueHue | 0 |
BlueSaturation | 0 |
Brightness | 0 |
CameraProfile | Embedded |
Clarity | +100 |
Clarity2012 | 0 |
ColorComponents | 3 |
ColorMode | RGB |
ColorNoiseReduction | 0 |
ColorSaturation | 46.0 |
ColorSpace | Uncalibrated |
ColorTemperature | 0.0 |
Contrast | 0 |
Contrast2012 | 0 |
ConvertToGrayscale | False |
Copyright | Anders Winterstad |
CopyrightFlag | True |
CopyrightNotice | Anders Winterstad |
CreateDate | 2012:07:09 15:08:06 |
CreatorTool | Adobe Photoshop CS5.1 Windows |
CropAngle | 1.253145 |
CropBottom | 1 |
CropConstrainToWarp | 1 |
CropLeft | 0.022893 |
CropRight | 0.977107 |
CropTop | 0 |
DateCreated (1) | 2012:07:09 |
DateCreated | 2012:07:09 15:08:06 |
DateTimeOriginal | 2012:07:09 15:08:06 |
Defringe | 0 |
ExifImageHeight | 720 |
ExifImageWidth | 1073 |
Exposure | +0.70 |
Exposure2012 | 0.00 |
ExposureTime | 1/250 |
FillLight | 0 |
FNumber | 11.0 |
FocalLength | 10.0 mm |
FocalLength35efl | 10.0 mm |
Format | image/jpeg |
Gamma | 1.00 |
GrainAmount | 0 |
GreenHue | 0 |
GreenSaturation | 0 |
HasCrop | True |
HasSettings | True |
HierarchicalSubject | Other Keywords|Ferdig, Steder|Land|Island |
HighlightRecovery | 0 |
Highlights2012 | 0 |
HighlightsSmoothing | 0.0 |
HueAdjustmentAqua | 0 |
HueAdjustmentBlue | 0 |
HueAdjustmentGreen | 0 |
HueAdjustmentMagenta | 0 |
HueAdjustmentOrange | 0 |
HueAdjustmentPurple | 0 |
HueAdjustmentRed | 0 |
HueAdjustmentYellow | 0 |
ICCProfileName | Adobe RGB (1998) |
ImageHeight | 720 |
ImageSize | 1073x720 |
ImageWidth | 1073 |
IncrementalTemperature | -10 |
IncrementalTint | -9 |
ISO | 80 |
IsPano360 | No |
Keywords | Ferdig, Island |
LensManualDistortionAmount | 0 |
LensProfileEnable | 0 |
LensProfileSetup | LensDefaults |
LightValue | 15.2 |
LuminanceAdjustmentAqua | 0 |
LuminanceAdjustmentBlue | 0 |
LuminanceAdjustmentGreen | 0 |
LuminanceAdjustmentMagenta | 0 |
LuminanceAdjustmentOrange | 0 |
LuminanceAdjustmentPurple | 0 |
LuminanceAdjustmentRed | 0 |
LuminanceAdjustmentYellow | 0 |
LuminanceSmoothing | 0 |
Luminosity | 0.0 |
Marked | True |
Megapixels | 0.773 |
Method | Details Enhancer |
Microcontrast | 0.0 |
Microsmoothing | 0.0 |
Model | PENTAX K-5 |
ModifyDate (1) | 2012:12:18 23:08:50+01:00 |
ModifyDate | 2012:12:18 23:08:50 |
Orientation | Horizontal (normal) |
ParametricDarks | +14 |
ParametricHighlights | -17 |
ParametricHighlightSplit | 75 |
ParametricLights | -16 |
ParametricMidtoneSplit | 50 |
ParametricShadows | +13 |
ParametricShadowSplit | 25 |
PerspectiveHorizontal | 0 |
PerspectiveRotate | 0.0 |
PerspectiveScale | 100 |
PerspectiveVertical | 0 |
PostCropVignetteAmount | 0 |
ProcessVersion | 5.7 |
ProfileDescription | Adobe RGB (1998) |
Rating | 4 |
RawFileName | _IGP8144_5_6_7_8_tonemapped.tif |
RedHue | 0 |
RedSaturation | 0 |
Rights | Anders Winterstad |
Saturation | 0 |
SaturationAdjustmentAqua | 0 |
SaturationAdjustmentBlue | 0 |
SaturationAdjustmentGreen | 0 |
SaturationAdjustmentMagenta | 0 |
SaturationAdjustmentOrange | 0 |
SaturationAdjustmentPurple | 0 |
SaturationAdjustmentRed | 0 |
SaturationAdjustmentYellow | 0 |
SaturationHighlights | 0.0 |
SaturationShadows | 0.0 |
Shadows | 15 |
Shadows2012 | 0 |
ShadowsClipping | 0.0 |
ShadowsSmoothing | 0.0 |
ShadowTint | 0 |
SharpenDetail | 25 |
SharpenEdgeMasking | 0 |
SharpenRadius | +1.0 |
Sharpness | 0 |
ShutterSpeed | 1/250 |
ShutterSpeedValue | 1/250 |
Smoothing | Medium |
SmoothingMode | Light |
Software | Adobe Photoshop CS6 (Macintosh) |
SplitToningBalance | 0 |
SplitToningHighlightHue | 0 |
SplitToningHighlightSaturation | 0 |
SplitToningShadowHue | 0 |
SplitToningShadowSaturation | 0 |
Strength | 100.0 |
Subject | Ferdig, Island |
ToneCurve | 0, 0, 32, 16, 64, 50, 128, 128, 192, 202, 255, 255 |
ToneCurveBlue | 0, 0, 255, 255 |
ToneCurveGreen | 0, 0, 255, 255 |
ToneCurveName | Strong Contrast |
ToneCurveName2012 | Linear |
ToneCurvePV2012 | 0, 0, 255, 255 |
ToneCurvePV2012Blue | 0, 0, 255, 255 |
ToneCurvePV2012Green | 0, 0, 255, 255 |
ToneCurvePV2012Red | 0, 0, 255, 255 |
ToneCurveRed | 0, 0, 255, 255 |
URL_List | |
UsageTerms | |
Version (1) | 4.1 |
Version | 6.7 |
Vibrance | +13 |
VignetteAmount | 0 |
WhiteBalance | Custom |
WhiteClip | 0.250000 |
Whites2012 | 0 |