Felt | Verdi |
AlreadyApplied | True |
Aperture | 8.0 |
ApertureValue | 8.0 |
BitsPerSample | 8 |
BlueHue | 0 |
BlueSaturation | 0 |
Brightness | +65 |
CameraProfile | Adobe Standard |
CFAPattern | [Blue,Green][Green,Red] |
ChromaticAberrationB | 0 |
ChromaticAberrationR | 0 |
CircleOfConfusion | 0.020 mm |
Clarity | 0 |
ColorComponents | 1 |
ColorMode | RGB |
ColorNoiseReduction | 25 |
ColorNoiseReductionDetail | 50 |
ColorSpace | sRGB |
ColorTemperature | 5050 |
Contrast (1) | +26 |
Contrast | High |
ConvertToGrayscale | True |
CreateDate | 2012:04:07 20:01:11 |
CreatorTool | Adobe Photoshop CS5.1 Windows |
CropAngle | -0.08145 |
CropBottom | 0.717067 |
CropConstrainToWarp | 1 |
CropHeight | 1 |
CropLeft | 0.25466 |
CropRight | 0.621858 |
CropTop | 0.165946 |
CropUnit | Unknown (3) |
CropWidth | 1 |
CustomRendered | Normal |
DateCreated (1) | 2012:04:07 |
DateCreated | 2012:04:07 20:01:11 |
DateTimeOriginal | 2012:04:07 20:01:11 |
Defringe | 0 |
ExifImageHeight | 1024 |
ExifImageWidth | 1024 |
Exposure | +0.25 |
ExposureCompensation | 0 |
ExposureMode | Auto |
ExposureProgram | Aperture-priority AE |
ExposureTime | 15 |
FillLight | 0 |
Flash | Off, Did not fire |
FNumber | 8.0 |
FocalLength | 90.0 mm |
FocalLength35efl | 90.0 mm (35 mm equivalent: 135.0 mm) |
FocalLengthIn35mmFormat | 135 mm |
Format | image/jpeg |
FOV | 15.2 deg |
GrainAmount | 0 |
GrayMixerAqua | -16 |
GrayMixerBlue | +16 |
GrayMixerGreen | -28 |
GrayMixerMagenta | +4 |
GrayMixerOrange | -21 |
GrayMixerPurple | +20 |
GrayMixerRed | -12 |
GrayMixerYellow | -25 |
GreenHue | 0 |
GreenSaturation | 0 |
HasCrop | True |
HasSettings | True |
HighlightRecovery | 0 |
HyperfocalDistance | 50.55 m |
ICCProfileName | sRGB IEC61966-2.1 |
ImageHeight | 1024 |
ImageSize | 1024x1024 |
ImageWidth | 1024 |
ISO | 100 |
Lens | TAMRON SP AF 90mm F2.8 |
LensID (1) | 4 19 |
LensID | Tamron SP AF 90mm F2.8 (172E) |
LensInfo | 90mm f/2.8 |
LensManualDistortionAmount | 0 |
LensModel | TAMRON SP AF 90mm F2.8 |
LensProfileChromaticAberrationScale | 100 |
LensProfileDistortionScale | 100 |
LensProfileEnable | 1 |
LensProfileFilename | PENTAX (TAMRON SP 90mm F2.8 Di MACRO 272EP) - RAW.lcp |
LensProfileName | Adobe (TAMRON SP 90mm F/2.8 Di MACRO 1:1 272EP, PENTAX) |
LensProfileSetup | Custom |
LensProfileVignettingScale | 100 |
LightValue | 2.1 |
LuminanceSmoothing | 0 |
Make | PENTAX |
Megapixels | 1.0 |
MeteringMode | Multi-segment |
Model | PENTAX K20D |
ModifyDate (1) | 2012:06:18 22:49:08+02:00 |
ModifyDate | 2012:06:18 22:49:08 |
Orientation | Horizontal (normal) |
PaintCorrectionActive | true |
PaintCorrectionAmount | 1.000000 |
PaintCorrectionBrightness | -0.500000 |
PaintCorrectionClarity | 0.280000 |
PaintCorrectionContrast | 0.000000 |
PaintCorrectionExposure | -0.537500 |
PaintCorrectionHue | 0.000000 |
PaintCorrectionMaskCenterWeight | 0.000000 |
PaintCorrectionMaskFlow | 0.888889 |
PaintCorrectionMaskRadius (1) | 0.038555 |
PaintCorrectionMaskRadius (2) | 0.038550 |
PaintCorrectionMaskRadius (3) | 0.038554 |
PaintCorrectionMaskRadius | 0.038558 |
PaintCorrectionMaskValue | 1.000000 |
PaintCorrectionMaskWhat | Mask/Paint |
PaintCorrectionSaturation (1) | 0.170000 |
PaintCorrectionSaturation | 0.000000 |
PaintCorrectionSharpness | 0.300000 |
PaintCorrectionWhat | Correction |
ParametricDarks | +23 |
ParametricHighlights | +41 |
ParametricHighlightSplit | 75 |
ParametricLights | 0 |
ParametricMidtoneSplit | 50 |
ParametricShadows | 0 |
ParametricShadowSplit | 25 |
PerspectiveHorizontal | 0 |
PerspectiveRotate | 0.0 |
PerspectiveScale | 100 |
PerspectiveVertical | 0 |
PostCropVignetteAmount | 0 |
ProcessVersion | 5.7 |
ProfileDescription | sRGB IEC61966-2.1 |
Rating | 0 |
RawFileName | _AKH4650.PEF |
RedHue | 0 |
RedSaturation | 0 |
Saturation | Normal |
ScaleFactor35efl | 1.5 |
SceneCaptureType | Standard |
SensingMethod | One-chip color area |
Shadows | 2 |
ShadowTint | 0 |
SharpenDetail | 25 |
SharpenEdgeMasking | 0 |
SharpenRadius | +1.0 |
Sharpness (1) | 0 |
Sharpness | Hard |
ShutterSpeed | 15 |
ShutterSpeedValue | 15 |
Software | Adobe Photoshop CS5.1 Windows |
SplitToningBalance | 0 |
SplitToningHighlightHue | 0 |
SplitToningHighlightSaturation | 0 |
SplitToningShadowHue | 0 |
SplitToningShadowSaturation | 0 |
SubjectDistanceRange | Macro |
Tint | -10 |
ToneCurve | 0, 0, 32, 22, 64, 56, 128, 128, 192, 196, 255, 255 |
ToneCurveName | Medium Contrast |
URL_List | |
Version | 6.6 |
VignetteAmount | 0 |
WhiteBalance (1) | As Shot |
WhiteBalance | Manual |