Felt | Verdi |
AlreadyApplied | True |
Aperture | 6.3 |
ApertureValue | 6.3 |
ApproximateFocusDistance | 50.1 |
BitsPerSample | 8 |
BlueHue | 0 |
BlueSaturation | 0 |
Brightness (1) | 0.000000 |
Brightness | +81 |
CameraModelID | |
CameraProfile | Adobe Standard |
CFAPattern | [Red,Green][Green,Blue] |
ChromaticAberrationB | 0 |
ChromaticAberrationR | 0 |
CircleOfConfusion | 0.020 mm |
Clarity | +77 |
ColorComponents | 3 |
ColorNoiseReduction | 25 |
ColorNoiseReductionDetail | 50 |
ColorTemperature | 7000 |
Contrast (1) | +100 |
Contrast (2) | 0.000000 |
Contrast | Normal |
ConvertToGrayscale | False |
Copyright | Rita Jakobsen |
CopyrightNotice | Rita Jakobsen |
CreateDate (1) | 2012:03:27 18:24:01.00 |
CreateDate | 2012:03:27 18:24:01 |
CreatorTool | Microsoft Windows Live Photo Gallery 15.4.3508.1109 |
CustomRendered | Normal |
DateCreated (1) | 2012:03:27 |
DateCreated | 2012:03:27 18:24:01.00 |
DateTimeOriginal | 2012:03:27 18:24:01 |
Defringe | 0 |
DigitalZoomRatio | 1 |
DOF | 16.18 m (43.29 - 59.46 m) |
Exposure | +0.51 |
ExposureCompensation (1) | 0.000000 |
ExposureCompensation | 0 |
ExposureMode | Auto |
ExposureProgram | Not Defined |
ExposureTime | 1/320 |
FillLight | 0 |
Flash | Auto, Did not fire |
FNumber | 6.3 |
FocalLength | 200.0 mm |
FocalLength35efl | 200.0 mm (35 mm equivalent: 300.0 mm) |
FocalLengthIn35mmFormat | 300 mm |
FOV | 6.9 deg |
GainControl | Low gain up |
GrainAmount | 0 |
GreenHue | 0 |
GreenSaturation | 0 |
HasCrop | False |
HasSettings | True |
HighlightRecovery | 0 |
HueAdjustmentAqua | -55 |
HueAdjustmentBlue | -7 |
HueAdjustmentGreen | 0 |
HueAdjustmentMagenta | 0 |
HueAdjustmentOrange | 0 |
HueAdjustmentPurple | -23 |
HueAdjustmentRed | 0 |
HueAdjustmentYellow | 0 |
HyperfocalDistance | 316.97 m |
ImageHeight | 3264 |
ImageNumber | 20766 |
ImageSize | 4928x3264 |
ImageWidth | 4928 |
ISO | 400 |
Keywords | Bølger, Mine nøkkelord, Vinter, kalender-13, lototrur m nordlændingen, surfing, unstad, Årstider |
Lens | 18.0-200.0 mm f/3.5-6.3 |
LensID (1) | 38 |
LensID | Sigma 18-200mm F3.5-6.3 DC |
LensInfo | 18-200mm f/3.5-6.3 |
LensManualDistortionAmount | 0 |
LensModel | 18.0-200.0 mm f/3.5-6.3 |
LensProfileEnable | 0 |
LensProfileSetup | LensDefaults |
LightSource | Unknown |
LightValue | 11.6 |
LuminanceAdjustmentAqua | 0 |
LuminanceAdjustmentBlue | 0 |
LuminanceAdjustmentGreen | 0 |
LuminanceAdjustmentMagenta | 0 |
LuminanceAdjustmentOrange | 0 |
LuminanceAdjustmentPurple | 0 |
LuminanceAdjustmentRed | 0 |
LuminanceAdjustmentYellow | 0 |
LuminanceSmoothing | 0 |
Make | NIKON CORPORATION |
MaxApertureValue | 6.3 |
Megapixels | 16.1 |
MeteringMode | Multi-segment |
Model | NIKON D7000 |
ModifyDate (1) | 2012:04:15 16:35:42+02:00 |
ModifyDate | 2012:04:15 23:28:24 |
Orientation | Horizontal (normal) |
ParametricDarks | 0 |
ParametricHighlights | 0 |
ParametricHighlightSplit | 75 |
ParametricLights | 0 |
ParametricMidtoneSplit | 50 |
ParametricShadows | 0 |
ParametricShadowSplit | 25 |
PerspectiveHorizontal | 0 |
PerspectiveRotate | 0.0 |
PerspectiveScale | 100 |
PerspectiveVertical | 0 |
PipelineVersion | 01.00 |
PostCropVignetteAmount | 0 |
ProcessVersion | 5.7 |
ProfileDescription | sRGB IEC61966-2.1 |
RedHue | 0 |
RedSaturation | 0 |
Rights | Rita Jakobsen |
Saturation (1) | +43 |
Saturation | Normal |
SaturationAdjustmentAqua | 0 |
SaturationAdjustmentBlue | 0 |
SaturationAdjustmentGreen | 0 |
SaturationAdjustmentMagenta | 0 |
SaturationAdjustmentOrange | 0 |
SaturationAdjustmentPurple | 0 |
SaturationAdjustmentRed | 0 |
SaturationAdjustmentYellow | 0 |
ScaleFactor35efl | 1.5 |
SceneCaptureType | Standard |
SceneType | Directly photographed |
SensingMethod | One-chip color area |
SensitivityType | Recommended Exposure Index |
SerialNumber | 6073865 |
Shadows | 11 |
ShadowTint | 0 |
SharpenDetail | 25 |
SharpenEdgeMasking | 0 |
SharpenRadius | +1.0 |
Sharpness (1) | 25 |
Sharpness | Normal |
ShutterSpeed | 1/320 |
ShutterSpeedValue | 1/320 |
Software | Adobe Photoshop Lightroom 3.5 (Windows) |
SplitToningBalance | +8 |
SplitToningHighlightHue | 0 |
SplitToningHighlightSaturation | 0 |
SplitToningShadowHue | 265 |
SplitToningShadowSaturation | 0 |
StreamType | 3 |
Subject | Bølger, Mine nøkkelord, Vinter, kalender-13, lototrur m nordlændingen, surfing, unstad, Årstider |
SubjectDistance | 50.1 m |
SubjectDistanceRange | Unknown |
Tint | +6 |
ToneCurve | 0, 0, 32, 18, 64, 56, 128, 128, 192, 196, 235, 246, 255, 255 |
ToneCurveName | Custom |
Version | 6.5 |
Vibrance | 0 |
VignetteAmount | 0 |
WhiteBalance (1) | As Shot |
WhiteBalance | Auto |
WhiteBalance0 | 2.497562 |
WhiteBalance1 | 1.000000 |
WhiteBalance2 | 1.051616 |