Felt | Verdi |
AlreadyApplied | True |
Aperture | 8.0 |
ApertureValue | 8.0 |
Artist | Simen Soltvedt |
BitsPerSample | 8 |
BlueHue | 0 |
BlueSaturation | 0 |
Brightness | +50 |
By-line | Simen Soltvedt |
CameraProfile | Adobe Standard |
Caption-Abstract | Old chair waiting |
CFAPattern | [Blue,Green][Green,Red] |
ChromaticAberrationB | 0 |
ChromaticAberrationR | 0 |
CircleOfConfusion | 0.020 mm |
Clarity | +100 |
ColorComponents | 3 |
ColorNoiseReduction | 25 |
ColorNoiseReductionDetail | 50 |
ColorTemperature | 5000 |
Contrast (1) | +25 |
Contrast | Normal |
ConvertToGrayscale | False |
CopyrightFlag | True |
CreateDate (1) | 2012:02:18 13:40:48.90 |
CreateDate | 2012:02:18 13:40:48 |
Creator | Simen Soltvedt |
CreatorTool | Adobe Photoshop Lightroom 3.6 (Windows) |
CropAngle | 1.23859 |
CropBottom | 0.995524 |
CropConstrainToWarp | 0 |
CropHeight | 1918 |
CropLeft | 0.098224 |
CropRight | 0.961017 |
CropTop | 0.008057 |
CropUnit | pixels |
CropWidth | 2638 |
CustomRendered | Custom |
DateCreated (1) | 2012:02:18 |
DateCreated | 2012:02:18 13:40:48.90 |
DateTimeOriginal | 2012:02:18 13:40:48 |
Defringe | 0 |
Description | Old chair waiting |
DigitalZoomRatio | 1 |
Exposure | 0.00 |
ExposureCompensation | -1/2 |
ExposureMode | Auto |
ExposureProgram | Aperture-priority AE |
ExposureTime | 4 |
FillLight | 0 |
Flash | No Flash |
FNumber | 8.0 |
FocalLength | 20.0 mm |
FocalLength35efl | 20.0 mm (35 mm equivalent: 30.0 mm) |
FocalLengthIn35mmFormat | 30 mm |
Format | image/jpeg |
FOV | 61.9 deg |
GainControl | None |
GrainAmount | 0 |
GreenHue | 0 |
GreenSaturation | 0 |
HasCrop | True |
HasSettings | True |
HighlightRecovery | 0 |
HueAdjustmentAqua | 0 |
HueAdjustmentBlue | 0 |
HueAdjustmentGreen | 0 |
HueAdjustmentMagenta | 0 |
HueAdjustmentOrange | 0 |
HueAdjustmentPurple | 0 |
HueAdjustmentRed | 0 |
HueAdjustmentYellow | 0 |
HyperfocalDistance | 2.50 m |
ImageDescription | Old chair waiting |
ImageHeight | 2638 |
ImageNumber | 22572 |
ImageSize | 1918x2638 |
ImageWidth | 1918 |
ISO | 200 |
Keywords | 120218, Menneskeskapt, Portfolio, Portfolio2012, Simenfoto, Simenfoto2012, Simenfoto201202, Stol |
Lens | 17.0-50.0 mm f/2.8 |
LensInfo | 17-50mm f/2.8 |
LensManualDistortionAmount | 0 |
LensModel | 17.0-50.0 mm f/2.8 |
LensProfileChromaticAberrationScale | 100 |
LensProfileDistortionScale | 100 |
LensProfileEnable | 1 |
LensProfileFilename | NIKON CORPORATION (TAMRON SP 17-50mm F2.8 DiII A16N) - RAW.lcp |
LensProfileName | Adobe (TAMRON SP 17-50mm F/2.8 DiII A16N, NIKON CORPORATION) |
LensProfileSetup | Custom |
LensProfileVignettingScale | 100 |
LightSource | Unknown |
LightValue | 3.0 |
LuminanceAdjustmentAqua | 0 |
LuminanceAdjustmentBlue | 0 |
LuminanceAdjustmentGreen | 0 |
LuminanceAdjustmentMagenta | 0 |
LuminanceAdjustmentOrange | 0 |
LuminanceAdjustmentPurple | 0 |
LuminanceAdjustmentRed | 0 |
LuminanceAdjustmentYellow | 0 |
LuminanceNoiseReductionContrast | 0 |
LuminanceNoiseReductionDetail | 50 |
LuminanceSmoothing | 8 |
Make | NIKON CORPORATION |
Marked | True |
MaxApertureValue | 2.8 |
Megapixels | 5.1 |
MeteringMode | Multi-segment |
Model | NIKON D50 |
ModifyDate (1) | 2012:02:18 22:43:54+01:00 |
ModifyDate | 2012:02:18 22:43:54 |
ObjectName | Old chair waiting |
PaintCorrectionActive | true |
PaintCorrectionAmount | 1.000000 |
PaintCorrectionBrightness | 0.000000 |
PaintCorrectionClarity (4) | 0.500000 |
PaintCorrectionClarity | 0.000000 |
PaintCorrectionContrast | 0.000000 |
PaintCorrectionExposure (2) | -0.487750 |
PaintCorrectionExposure (3) | 0.057471 |
PaintCorrectionExposure (4) | 0.000000 |
PaintCorrectionExposure | -0.219500 |
PaintCorrectionHue | 240.000000 |
PaintCorrectionMaskCenterWeight | 0.000000 |
PaintCorrectionMaskFlow | 1.000000 |
PaintCorrectionMaskRadius (1) | 0.052319 |
PaintCorrectionMaskRadius (10) | 0.216610 |
PaintCorrectionMaskRadius (11) | 0.216683 |
PaintCorrectionMaskRadius (12) | 0.336694 |
PaintCorrectionMaskRadius (13) | 0.337329 |
PaintCorrectionMaskRadius (14) | 0.014293 |
PaintCorrectionMaskRadius (15) | 0.014295 |
PaintCorrectionMaskRadius (17) | 0.014297 |
PaintCorrectionMaskRadius (19) | 0.014298 |
PaintCorrectionMaskRadius (2) | 0.051960 |
PaintCorrectionMaskRadius (20) | 0.014299 |
PaintCorrectionMaskRadius (3) | 0.052591 |
PaintCorrectionMaskRadius (4) | 0.052005 |
PaintCorrectionMaskRadius (5) | 0.051950 |
PaintCorrectionMaskRadius (6) | 0.217282 |
PaintCorrectionMaskRadius (7) | 0.217762 |
PaintCorrectionMaskRadius (8) | 0.216604 |
PaintCorrectionMaskRadius (9) | 0.216594 |
PaintCorrectionMaskRadius | 0.014294 |
PaintCorrectionMaskValue | 1.000000 |
PaintCorrectionMaskWhat | Mask/Paint |
PaintCorrectionSaturation | 0.000000 |
PaintCorrectionSharpness | 0.000000 |
PaintCorrectionWhat | Correction |
ParametricDarks | 0 |
ParametricHighlights | 0 |
ParametricHighlightSplit | 75 |
ParametricLights | 0 |
ParametricMidtoneSplit | 50 |
ParametricShadows | -45 |
ParametricShadowSplit | 25 |
PerspectiveHorizontal | 0 |
PerspectiveRotate | 0.0 |
PerspectiveScale | 100 |
PerspectiveVertical | 0 |
PostCropVignetteAmount | -47 |
PostCropVignetteFeather | 50 |
PostCropVignetteHighlightContrast | 9 |
PostCropVignetteMidpoint | 48 |
PostCropVignetteRoundness | +13 |
PostCropVignetteStyle | 1 |
ProcessVersion | 5.7 |
ProfileDescription | sRGB IEC61966-2.1 |
RedHue | 0 |
RedSaturation | 0 |
Saturation (1) | 0 |
Saturation | Normal |
SaturationAdjustmentAqua | -100 |
SaturationAdjustmentBlue | -100 |
SaturationAdjustmentGreen | +73 |
SaturationAdjustmentMagenta | 0 |
SaturationAdjustmentOrange | +100 |
SaturationAdjustmentPurple | 0 |
SaturationAdjustmentRed | 0 |
SaturationAdjustmentYellow | +68 |
ScaleFactor35efl | 1.5 |
SceneCaptureType | Standard |
SceneType | Directly photographed |
SensingMethod | One-chip color area |
Shadows | 56 |
ShadowTint | 0 |
SharpenDetail | 42 |
SharpenEdgeMasking | 48 |
SharpenRadius | +1.5 |
Sharpness (1) | 28 |
Sharpness | Hard |
ShutterSpeed | 4 |
ShutterSpeedValue | 4 |
Software | Adobe Photoshop Lightroom 3.6 (Windows) |
SplitToningBalance | 0 |
SplitToningHighlightHue | 0 |
SplitToningHighlightSaturation | 0 |
SplitToningShadowHue | 0 |
SplitToningShadowSaturation | 0 |
Subject | 120218, Menneskeskapt, Portfolio, Portfolio2012, Simenfoto, Simenfoto2012, Simenfoto201202, Stol |
SubjectDistanceRange | Unknown |
Tint | -12 |
Title | Old chair waiting |
ToneCurve | 0, 0, 32, 22, 64, 56, 128, 128, 192, 196, 255, 255 |
ToneCurveName | Medium Contrast |
Version | 6.6 |
Vibrance | 0 |
VignetteAmount | 0 |
WhiteBalance (1) | As Shot |
WhiteBalance | Auto |