Felt | Verdi |
AlreadyApplied | True |
Aperture | 6.3 |
ApertureValue | 6.3 |
ApproximateFocusDistance | 8.89 |
BitsPerSample | 8 |
BlueHue | 0 |
BlueSaturation | 0 |
Brightness | +34 |
CameraProfile | Camera Standard |
ChromaticAberrationB | 0 |
ChromaticAberrationR | 0 |
CircleOfConfusion | 0.019 mm |
Clarity | +43 |
ColorComponents | 3 |
ColorMode | RGB |
ColorNoiseReduction | 1 |
ColorNoiseReductionDetail | 100 |
ColorSpace | sRGB |
ColorTemperature | 6205 |
Contrast | +86 |
ConvertToGrayscale | False |
CreateDate (1) | 2011:11:08 16:22:29.21 |
CreateDate | 2011:11:08 16:22:29 |
CreatorTool | Adobe Photoshop Lightroom 3.6 (Macintosh) |
CropAngle | 0 |
CropBottom | 0.736212 |
CropConstrainToWarp | 0 |
CropHeight | 1065 |
CropLeft | 0.3456 |
CropRight | 0.7184 |
CropTop | 0.119904 |
CropUnit | pixels |
CropWidth | 966 |
CustomRendered | Normal |
DateCreated | 2011:11:08 |
DateTimeDigitized | 2011:11:08 16:22:29+01:00 |
DateTimeOriginal (1) | 2011:11:08 16:22:29+01:00 |
DateTimeOriginal | 2011:11:08 16:22:29 |
Defringe | 0 |
DOF | 0.09 m (8.85 - 8.93 m) |
ExifImageHeight | 957 |
ExifImageWidth | 1043 |
Exposure | +0.24 |
ExposureCompensation | 0 |
ExposureMode | Manual |
ExposureProgram | Manual |
ExposureTime | 1/30 |
FillLight | 6 |
Firmware | 1.0.8 |
Flash | Off, Did not fire |
FlashCompensation | 0 |
FlashFired | False |
FlashFunction | False |
FlashMode | Off |
FlashRedEyeMode | False |
FlashReturn | No return detection |
FNumber | 6.3 |
FocalLength | 450.0 mm |
FocalLength35efl | 450.0 mm (35 mm equivalent: 707.7 mm) |
Format | image/jpeg |
FOV | 2.9 deg |
GrainAmount | 0 |
GreenHue | 0 |
GreenSaturation | 0 |
HasCrop | True |
HasSettings | True |
HighlightRecovery | 38 |
HueAdjustmentAqua | 0 |
HueAdjustmentBlue | 0 |
HueAdjustmentGreen | 0 |
HueAdjustmentMagenta | 0 |
HueAdjustmentOrange | 0 |
HueAdjustmentPurple | 0 |
HueAdjustmentRed | 0 |
HueAdjustmentYellow | 0 |
HyperfocalDistance | 1682.50 m |
ICCProfileName | sRGB IEC61966-2.1 |
ImageHeight | 957 |
ImageNumber | 0 |
ImageSize | 1043x957 |
ImageWidth | 1043 |
ISO | 500 |
Lens | 50-500mm |
LensID (1) | 174 |
LensID | Sigma 50-500mm f/4.5-6.3 APO DG OS HSM |
LensInfo | 50-500mm f/? |
LensManualDistortionAmount | 0 |
LensModel | 50-500mm |
LensProfileEnable | 0 |
LensProfileSetup | LensDefaults |
LensSerialNumber | 0000000000 |
LightValue | 7.9 |
LuminanceAdjustmentAqua | 0 |
LuminanceAdjustmentBlue | 0 |
LuminanceAdjustmentGreen | 0 |
LuminanceAdjustmentMagenta | 0 |
LuminanceAdjustmentOrange | 0 |
LuminanceAdjustmentPurple | 0 |
LuminanceAdjustmentRed | -15 |
LuminanceAdjustmentYellow | +21 |
LuminanceNoiseReductionContrast | 1 |
LuminanceNoiseReductionDetail | 0 |
LuminanceSmoothing | 1 |
Make | Canon |
MaxApertureValue | 6.2 |
Megapixels | 0.998 |
MeteringMode | Spot |
Model | Canon EOS 60D |
ModifyDate (1) | 2012:01:08 15:40:01+01:00 |
ModifyDate | 2012:01:08 15:40:01 |
Orientation | Horizontal (normal) |
ParametricDarks | +21 |
ParametricHighlights | +56 |
ParametricHighlightSplit | 75 |
ParametricLights | -35 |
ParametricMidtoneSplit | 50 |
ParametricShadows | +43 |
ParametricShadowSplit | 25 |
PerspectiveHorizontal | +11 |
PerspectiveRotate | -6.4 |
PerspectiveScale | 100 |
PerspectiveVertical | +14 |
PostCropVignetteAmount | -48 |
PostCropVignetteFeather | 69 |
PostCropVignetteHighlightContrast | 0 |
PostCropVignetteMidpoint | 50 |
PostCropVignetteRoundness | -7 |
PostCropVignetteStyle | 1 |
ProcessVersion | 5.7 |
ProfileDescription | sRGB IEC61966-2.1 |
RecommendedExposureIndex | 500 |
RedHue | 0 |
RedSaturation | +70 |
Saturation | 0 |
SaturationAdjustmentAqua | 0 |
SaturationAdjustmentBlue | 0 |
SaturationAdjustmentGreen | 0 |
SaturationAdjustmentMagenta | 0 |
SaturationAdjustmentOrange | 0 |
SaturationAdjustmentPurple | 0 |
SaturationAdjustmentRed | 0 |
SaturationAdjustmentYellow | +4 |
ScaleFactor35efl | 1.6 |
SceneCaptureType | Standard |
SensitivityType | Recommended Exposure Index |
SerialNumber | 0780444536 |
Shadows | 5 |
ShadowTint | 0 |
SharpenDetail | 36 |
SharpenEdgeMasking | 10 |
SharpenRadius | +0.9 |
Sharpness | 107 |
ShutterSpeed | 1/30 |
ShutterSpeedValue | 1/30 |
Software | Adobe Photoshop CS4 Macintosh |
SplitToningBalance | 0 |
SplitToningHighlightHue | 0 |
SplitToningHighlightSaturation | 0 |
SplitToningShadowHue | 0 |
SplitToningShadowSaturation | 0 |
SubjectDistance | 8.89 m |
Tint | +8 |
ToneCurve | 0, 0, 32, 22, 64, 56, 128, 128, 192, 196, 255, 255 |
ToneCurveName | Medium Contrast |
URL_List | |
Version | 6.6 |
Vibrance | +7 |
VignetteAmount | -100 |
VignetteMidpoint | 50 |
WhiteBalance (1) | Custom |
WhiteBalance | Auto |