Felt | Verdi |
AlreadyApplied | True |
Aperture | 5.6 |
ApertureValue | 5.6 |
ApproximateFocusDistance | 33.1 |
Artist | Photographer: Aslak Tegle Sande |
BitsPerSample | 8 |
BlueHue | 0 |
BlueSaturation | 0 |
Brightness | +50 |
By-line | Photographer: Aslak Tegle Sande |
CameraProfile | Adobe Standard |
ChromaticAberrationB | 0 |
ChromaticAberrationR | 0 |
CircleOfConfusion | 0.019 mm |
Clarity | +18 |
ColorComponents | 1 |
ColorMode | Grayscale |
ColorNoiseReduction | 25 |
ColorNoiseReductionDetail | 50 |
ColorSpace | Uncalibrated |
ColorTemperature | 6050 |
Contrast | +100 |
ConvertToGrayscale | True |
Copyright | Copyright: Aslak Tegle Sande |
CopyrightNotice | Copyright: Aslak Tegle Sande |
CreateDate (1) | 2011:10:12 11:00:35.01 |
CreateDate | 2011:10:12 11:00:35 |
Creator | Photographer: Aslak Tegle Sande |
CropAngle | 0.11502 |
CropBottom | 0.893205 |
CropConstrainToWarp | 1 |
CropHeight | 3 |
CropLeft | 0.00446 |
CropRight | 0.88355 |
CropTop | 0.010286 |
CropUnit | Unknown (3) |
CropWidth | 2 |
CustomRendered | Normal |
DateCreated (1) | 2011:10:12 |
DateCreated | 2011:10:12 11:00:35.001 |
DateTimeOriginal | 2011:10:12 11:00:35 |
Defringe | 0 |
DOF | 3.70 m (31.35 - 35.05 m) |
ExifImageHeight | 853 |
ExifImageWidth | 1280 |
Exposure | +1.55 |
ExposureCompensation | 0 |
ExposureMode | Auto |
ExposureProgram | Aperture-priority AE |
ExposureTime | 1/1250 |
FillLight | 4 |
Firmware | 1.1.0 |
Flash | Off, Did not fire |
FlashCompensation | 0 |
FNumber | 5.6 |
FocalLength | 250.0 mm |
FocalLength35efl | 250.0 mm (35 mm equivalent: 397.0 mm) |
Format | image/jpeg |
FOV | 5.2 deg |
GrainAmount | 0 |
GrayMixerAqua | -18 |
GrayMixerBlue | +10 |
GrayMixerGreen | -23 |
GrayMixerMagenta | +4 |
GrayMixerOrange | +22 |
GrayMixerPurple | +16 |
GrayMixerRed | +28 |
GrayMixerYellow | +8 |
GreenHue | 0 |
GreenSaturation | 0 |
HasCrop | True |
HasSettings | True |
HighlightRecovery | 11 |
HyperfocalDistance | 589.80 m |
ICCProfileName | Gray Gamma 2.2 |
ImageHeight | 853 |
ImageNumber | 0 |
ImageSize | 1280x853 |
ImageWidth | 1280 |
ISO | 400 |
Lens | EF-S55-250mm f/4-5.6 IS |
LensID (1) | 49 |
LensID | Canon EF-S 55-250mm f/4-5.6 IS |
LensInfo | 55-250mm f/? |
LensManualDistortionAmount | 0 |
LensModel | EF-S55-250mm f/4-5.6 IS |
LensProfileChromaticAberrationScale | 100 |
LensProfileDistortionScale | 100 |
LensProfileEnable | 1 |
LensProfileFilename | Canon EOS 50D (Canon EF-S 55-250mm f4-5.6 IS) - RAW.lcp |
LensProfileName | Adobe (Canon EF-S 55-250mm f/4-5.6 IS) |
LensProfileSetup | LensDefaults |
LensProfileVignettingScale | 100 |
LightValue | 13.3 |
LuminanceNoiseReductionContrast | 0 |
LuminanceNoiseReductionDetail | 50 |
LuminanceSmoothing | 18 |
Make | Canon |
MaxApertureValue | 5.7 |
Megapixels | 1.1 |
MeteringMode | Multi-segment |
Model | Canon EOS 500D |
ModifyDate (1) | 2011:10:14 22:57:17+02:00 |
ModifyDate | 2011:10:14 22:57:17 |
Orientation | Horizontal (normal) |
OwnerName | Aslak egle Sande |
ParametricDarks | 0 |
ParametricHighlights | 0 |
ParametricHighlightSplit | 75 |
ParametricLights | 0 |
ParametricMidtoneSplit | 50 |
ParametricShadows | 0 |
ParametricShadowSplit | 25 |
PerspectiveHorizontal | 0 |
PerspectiveRotate | 0.0 |
PerspectiveScale | 100 |
PerspectiveVertical | 0 |
PostCropVignetteAmount | 0 |
ProcessVersion | 5.7 |
ProfileDescription | Gray Gamma 2.2 |
Rating | 5 |
RawFileName | IMG_0375.CR2 |
RedHue | 0 |
RedSaturation | 0 |
Rights | Copyright: Aslak Tegle Sande |
ScaleFactor35efl | 1.6 |
SceneCaptureType | Standard |
SerialNumber | 1080473938 |
Shadows | 5 |
ShadowTint | 0 |
SharpenDetail | 25 |
SharpenEdgeMasking | 0 |
SharpenRadius | +1.0 |
Sharpness | 25 |
ShutterSpeed | 1/1250 |
ShutterSpeedValue | 1/1250 |
Software | Adobe Photoshop CS5 Windows |
SplitToningBalance | 0 |
SplitToningHighlightHue | 0 |
SplitToningHighlightSaturation | 0 |
SplitToningShadowHue | 0 |
SplitToningShadowSaturation | 0 |
SubjectDistance | 33.1 m |
Tint | +10 |
ToneCurve | 0, 0, 32, 22, 64, 56, 128, 128, 192, 196, 255, 255 |
ToneCurveName | Medium Contrast |
URL_List | |
Version | 6.5 |
VignetteAmount | 0 |
WhiteBalance (1) | Custom |
WhiteBalance | Auto |