Felt | Verdi |
2011-06-13T17:11:28+02:00 File C:\Users\Rune\Pictures\Ved\TIFF\dagens.tif saved
AlreadyApplied | True |
Aperture | 4.0 |
ApertureValue | 4.0 |
Artist | RUNE*NILSSEN |
BitsPerSample | 8 |
BlueHue | 0 |
BlueSaturation | 0 |
Brightness | -19 |
By-line | RUNE*NILSSEN |
CameraProfile | Adobe Standard |
ChromaticAberrationB | 0 |
ChromaticAberrationR | 0 |
CircleOfConfusion | 0.020 mm |
Clarity | +38 |
ColorComponents | 1 |
ColorMode | RGB |
ColorNoiseReduction | 25 |
ColorNoiseReductionDetail | 50 |
ColorSpace | sRGB |
ColorTemperature | 5650 |
Contrast (1) | +25 |
Contrast | High |
ConvertToGrayscale | True |
Copyright | Rune Nilssen |
CopyrightFlag | True |
CopyrightNotice | Rune Nilssen |
CreateDate (1) | 2011:08:11 15:54:35+02:00 |
CreateDate | 2011:08:11 15:54:35 |
Creator | RUNE*NILSSEN |
CreatorTool | Adobe Photoshop CS5 Windows |
CropAngle | 0 |
CropBottom | 0.848896 |
CropLeft | 0.00225 |
CropRight | 0.907762 |
CropTop | 0.13073 |
CustomRendered | Normal |
DateCreated (1) | 2011:08:11 |
DateCreated | 2011:08:11 15:54:35 |
DateTimeOriginal | 2011:08:11 15:54:35 |
Defringe | 0 |
ExifImageHeight | 538 |
ExifImageWidth | 1024 |
Exposure | +0.05 |
ExposureCompensation | +3/2 |
ExposureMode | Manual |
ExposureProgram | Aperture-priority AE |
ExposureTime | 1/60 |
FillLight | 0 |
Flash | Off, Did not fire |
FNumber | 4.0 |
FocalLength | 16.0 mm |
FocalLength35efl | 16.0 mm (35 mm equivalent: 24.0 mm) |
FocalLengthIn35mmFormat | 24 mm |
Format | image/jpeg |
FOV | 73.7 deg |
GradientBasedCorrActive | true |
GradientBasedCorrAmount | 1.000000 |
GradientBasedCorrBrightness | -0.380000 |
GradientBasedCorrClarity | 0.000000 |
GradientBasedCorrContrast | -0.010000 |
GradientBasedCorrExposure | 0.012500 |
GradientBasedCorrHue | 230.000000 |
GradientBasedCorrMaskFullX | 0.457818 |
GradientBasedCorrMaskFullY | -0.015280 |
GradientBasedCorrMaskValue | 1.000000 |
GradientBasedCorrMaskWhat | Mask/Gradient |
GradientBasedCorrMaskZeroX | 0.463442 |
GradientBasedCorrMaskZeroY | 1.003396 |
GradientBasedCorrSaturation (1) | 0.300000 |
GradientBasedCorrSaturation | 0.000000 |
GradientBasedCorrSharpness | 0.000000 |
GradientBasedCorrWhat | Correction |
GrainAmount | 0 |
GrayMixerAqua | -19 |
GrayMixerBlue | -45 |
GrayMixerGreen | -27 |
GrayMixerMagenta | +4 |
GrayMixerOrange | -19 |
GrayMixerPurple | +15 |
GrayMixerRed | -9 |
GrayMixerYellow | -23 |
GreenHue | 0 |
GreenSaturation | 0 |
HasCrop | True |
HasSettings | True |
HighlightRecovery | 0 |
HyperfocalDistance | 3.20 m |
ICCProfileName | sRGB IEC61966-2.1 |
ImageHeight | 538 |
ImageSize | 1024x538 |
ImageWidth | 1024 |
ISO | 200 |
Lens | smc PENTAX-DA 16-45mm F4 ED AL |
LensID (1) | 4 254 |
LensID | smc PENTAX-DA 16-45mm F4 ED AL |
LensInfo | 16-45mm f/4 |
LightValue | 8.9 |
LuminanceSmoothing | 0 |
Make | PENTAX |
Marked | True |
Megapixels | 0.551 |
MeteringMode | Multi-segment |
Model | PENTAX K-5 |
ModifyDate (1) | 2011:06:13 17:11:43+02:00 |
ModifyDate | 2011:06:13 17:11:43 |
Orientation | Horizontal (normal) |
ParametricDarks | +34 |
ParametricHighlights | -37 |
ParametricHighlightSplit | 75 |
ParametricLights | -21 |
ParametricMidtoneSplit | 50 |
ParametricShadows | +21 |
ParametricShadowSplit | 25 |
PostCropVignetteAmount | 0 |
ProcessVersion | 5.7 |
ProfileDescription | sRGB IEC61966-2.1 |
Rating | 0 |
RawFileName | _IGP0178.DNG |
RedHue | 0 |
RedSaturation | 0 |
Rights | Rune Nilssen |
Saturation | Normal |
ScaleFactor35efl | 1.5 |
SceneCaptureType | Standard |
SensingMethod | One-chip color area |
Shadows | 5 |
ShadowTint | 0 |
SharpenDetail | 25 |
SharpenEdgeMasking | 0 |
SharpenRadius | +1.0 |
Sharpness (1) | 0 |
Sharpness | Hard |
ShutterSpeed | 1/60 |
ShutterSpeedValue | 1/60 |
Software | Adobe Photoshop CS5 Windows |
SplitToningBalance | 0 |
SplitToningHighlightHue | 0 |
SplitToningHighlightSaturation | 0 |
SplitToningShadowHue | 0 |
SplitToningShadowSaturation | 0 |
SubjectDistanceRange | Close |
Tint | +22 |
ToneCurve | 0, 0, 32, 22, 64, 56, 128, 128, 192, 196, 255, 255 |
ToneCurveName | Medium Contrast |
URL_List | |
UsageTerms | |
Version | 6.0 |
VignetteAmount | 0 |
WhiteBalance (1) | As Shot |
WhiteBalance | Manual |