Felt | Verdi |
AlreadyApplied | True |
Aperture | 9.0 |
ApertureValue | 9.0 |
ApproximateFocusDistance | 15.7 |
Artist | Ole-Markus Andsersen |
BitsPerSample | 8 |
BlueHue | 0 |
BlueSaturation | 0 |
Brightness | +50 |
By-line | Ole-Markus Andersen |
CameraProfile | Embedded |
ChromaticAberrationB | 0 |
ChromaticAberrationR | 0 |
CircleOfConfusion | 0.019 mm |
Clarity | +89 |
ColorComponents | 1 |
ColorNoiseReduction | 25 |
ColorNoiseReductionDetail | 50 |
Contrast | +74 |
ConvertToGrayscale | False |
Copyright | Ole-Markus Andersen |
CopyrightFlag | True |
CopyrightNotice | Ole-Markus Andersen |
CreateDate (1) | 2009:10:24 23:21:45+02:00 |
CreateDate | 2009:10:24 23:21:45 |
Creator | Ole-Markus Andersen |
CreatorCountry | Norway |
CreatorTool | Adobe Photoshop Lightroom 3.3 |
CreatorWorkEmail | ole-ma@online.no |
CreatorWorkURL | www.flickr.com/omaomaoma |
CropAngle | 0.716323 |
CropBottom | 1 |
CropConstrainToWarp | 0 |
CropHeight | 2188 |
CropLeft | 0.032644 |
CropRight | 0.967356 |
CropTop | 0 |
CropUnit | pixels |
CropWidth | 11788 |
CustomRendered | Normal |
DateCreated (1) | 2009:10:24 |
DateCreated | 2009:10:24 23:21:45 |
DateTimeDigitized | 2009:10:24 23:21:45+02:00 |
DateTimeOriginal (1) | 2009:10:24 23:21:45+02:00 |
DateTimeOriginal | 2009:10:24 23:21:45 |
Defringe | 0 |
DOF | inf (3.62 m - inf) |
ExifImageHeight | 2188 |
ExifImageWidth | 11788 |
Exposure | -0.75 |
ExposureCompensation | 0 |
ExposureMode | Auto |
ExposureProgram | Aperture-priority AE |
ExposureTime | 1/400 |
FillLight | 88 |
Firmware | 1.1.1 |
Flash | Off, Did not fire |
FlashCompensation | 0 |
FlashFired | False |
FlashFunction | False |
FlashMode | Off |
FlashRedEyeMode | False |
FlashReturn | No return detection |
FNumber | 9.0 |
FocalLength | 28.0 mm |
FocalLength35efl | 28.0 mm (35 mm equivalent: 45.3 mm) |
Format | image/tiff |
FOV | 43.3 deg |
GrainAmount | 0 |
GreenHue | 0 |
GreenSaturation | 0 |
HasCrop | True |
HasSettings | True |
HighlightRecovery | 100 |
HueAdjustmentAqua | 0 |
HueAdjustmentBlue | 0 |
HueAdjustmentGreen | 0 |
HueAdjustmentMagenta | 0 |
HueAdjustmentOrange | 0 |
HueAdjustmentPurple | 0 |
HueAdjustmentRed | 0 |
HueAdjustmentYellow | 0 |
HyperfocalDistance | 4.69 m |
ImageHeight | 2188 |
ImageNumber | 0 |
ImageSize | 11788x2188 |
ImageWidth | 11788 |
IncrementalTemperature | +21 |
IncrementalTint | -1 |
ISO | 200 |
Lens | EF28-135mm f/3.5-5.6 IS USM |
LensID (1) | 178 |
LensID | Canon EF 28-135mm f/3.5-5.6 IS |
LensInfo | 28-135mm f/? |
LensManualDistortionAmount | 0 |
LensModel | EF28-135mm f/3.5-5.6 IS USM |
LensProfileEnable | 0 |
LensProfileSetup | LensDefaults |
LightValue | 14.0 |
LuminanceAdjustmentAqua | 0 |
LuminanceAdjustmentBlue | +7 |
LuminanceAdjustmentGreen | -4 |
LuminanceAdjustmentMagenta | 0 |
LuminanceAdjustmentOrange | 0 |
LuminanceAdjustmentPurple | 0 |
LuminanceAdjustmentRed | 0 |
LuminanceAdjustmentYellow | 0 |
LuminanceSmoothing | 0 |
Make | Canon |
Marked | True |
MaxApertureValue | 3.7 |
Megapixels | 25.8 |
MeteringMode | Multi-segment |
Model | Canon EOS 40D |
ModifyDate (1) | 2010:12:12 02:02:10+01:00 |
ModifyDate | 2010:12:12 02:02:10 |
ParametricDarks | -15 |
ParametricHighlights | -10 |
ParametricHighlightSplit | 75 |
ParametricLights | -65 |
ParametricMidtoneSplit | 50 |
ParametricShadows | +19 |
ParametricShadowSplit | 25 |
PerspectiveHorizontal | 0 |
PerspectiveRotate | 0.0 |
PerspectiveScale | 100 |
PerspectiveVertical | 0 |
PostCropVignetteAmount | -35 |
PostCropVignetteFeather | 50 |
PostCropVignetteHighlightContrast | 0 |
PostCropVignetteMidpoint | 50 |
PostCropVignetteRoundness | 0 |
PostCropVignetteStyle | 1 |
ProcessVersion | 5.7 |
ProfileDescription | sRGB IEC61966-2.1 |
RedHue | 0 |
RedSaturation | 0 |
Rights | Ole-Markus Andersen |
Saturation | -100 |
SaturationAdjustmentAqua | 0 |
SaturationAdjustmentBlue | 0 |
SaturationAdjustmentGreen | 0 |
SaturationAdjustmentMagenta | 0 |
SaturationAdjustmentOrange | 0 |
SaturationAdjustmentPurple | 0 |
SaturationAdjustmentRed | 0 |
SaturationAdjustmentYellow | 0 |
ScaleFactor35efl | 1.6 |
SceneCaptureType | Standard |
SensitivityType | Unknown |
SerialNumber | 1831002818 |
Shadows | 47 |
ShadowTint | 0 |
SharpenDetail | 25 |
SharpenEdgeMasking | 0 |
SharpenRadius | +1.0 |
Sharpness | 25 |
ShutterSpeed | 1/400 |
ShutterSpeedValue | 1/400 |
Software | Adobe Photoshop CS5 Macintosh |
SplitToningBalance | 0 |
SplitToningHighlightHue | 0 |
SplitToningHighlightSaturation | 0 |
SplitToningShadowHue | 0 |
SplitToningShadowSaturation | 0 |
SubjectDistance | 15.7 m |
ToneCurve | 0, 0, 32, 22, 64, 56, 128, 128, 192, 196, 255, 255 |
ToneCurveName | Medium Contrast |
Version | 6.3 |
Vibrance | +49 |
VignetteAmount | 0 |
WhiteBalance (2) | Custom |
WhiteBalance | Auto |