Felt | Verdi |
AlreadyApplied | True |
Aperture | 4.0 |
ApertureValue | 4.0 |
BitsPerSample | 8 |
BlueHue | 0 |
BlueSaturation | 0 |
Brightness | +50 |
CameraProfile | Adobe Standard |
ChromaticAberrationB | 0 |
ChromaticAberrationR | 0 |
CircleOfConfusion | 0.005 mm |
Clarity | -3 |
ColorComponents | 3 |
ColorNoiseReduction | 25 |
Contrast | +68 |
ConvertToGrayscale | False |
CreateDate (1) | 2007:02:15 14:07:08+01:00 |
CreateDate | 2007:02:15 14:07:08 |
CreatorTool | Adobe Photoshop Lightroom |
CropAngle | 2.25 |
CropBottom | 0.738481 |
CropHeight | 1216 |
CropLeft | 0.293419 |
CropRight | 0.968816 |
CropTop | 0.126702 |
CropUnit | pixels |
CropWidth | 1952 |
CustomRendered | Normal |
DateTimeDigitized | 2007:02:15 14:07:08+01:00 |
DateTimeOriginal (1) | 2007:02:15 14:07:08+01:00 |
DateTimeOriginal | 2007:02:15 14:07:08 |
Defringe | 0 |
DigitalZoomRatio | 1 |
ExifImageHeight | 1216 |
ExifImageWidth | 1952 |
Exposure | +0.58 |
ExposureCompensation | 0 |
ExposureMode | Manual |
ExposureTime | 1/400 |
FillLight | 0 |
Firmware | 1.00 |
Flash | Auto, Did not fire |
FlashCompensation | 0 |
FlashFired | False |
FlashFunction | False |
FlashMode | Auto |
FlashRedEyeMode | False |
FlashReturn | No return detection |
FNumber | 4.0 |
FocalLength | 11.8 mm |
FocalLength35efl | 11.8 mm (35 mm equivalent: 71.5 mm) |
FOV | 28.2 deg |
GreenHue | 0 |
GreenSaturation | 0 |
HasCrop | True |
HasSettings | True |
HighlightRecovery | 0 |
HueAdjustmentAqua | 0 |
HueAdjustmentBlue | 0 |
HueAdjustmentGreen | 0 |
HueAdjustmentMagenta | 0 |
HueAdjustmentOrange | 0 |
HueAdjustmentPurple | 0 |
HueAdjustmentRed | 0 |
HueAdjustmentYellow | 0 |
HyperfocalDistance | 7.03 m |
ImageHeight | 1216 |
ImageSize | 1952x1216 |
ImageWidth | 1952 |
IncrementalTemperature | 0 |
IncrementalTint | 0 |
Lens | 5.8-23.2 mm |
LensInfo | 5.8-23.2mm f/? |
LuminanceAdjustmentAqua | 0 |
LuminanceAdjustmentBlue | 0 |
LuminanceAdjustmentGreen | 0 |
LuminanceAdjustmentMagenta | 0 |
LuminanceAdjustmentOrange | 0 |
LuminanceAdjustmentPurple | 0 |
LuminanceAdjustmentRed | 0 |
LuminanceAdjustmentYellow | 0 |
LuminanceSmoothing | 0 |
Make | Canon |
MaxApertureValue | 4.0 |
Megapixels | 2.4 |
MeteringMode | Multi-segment |
Model | Canon DIGITAL IXUS 800 IS |
ModifyDate (1) | 2010:09:14 20:26:47+02:00 |
ModifyDate | 2010:09:14 20:26:47 |
ParametricDarks | -5 |
ParametricHighlights | 0 |
ParametricHighlightSplit | 75 |
ParametricLights | +1 |
ParametricMidtoneSplit | 50 |
ParametricShadows | -53 |
ParametricShadowSplit | 25 |
PostCropVignetteAmount | 0 |
ProfileDescription | sRGB IEC61966-2.1 |
RedHue | 0 |
RedSaturation | 0 |
Saturation | -42 |
SaturationAdjustmentAqua | 0 |
SaturationAdjustmentBlue | -60 |
SaturationAdjustmentGreen | 0 |
SaturationAdjustmentMagenta | 0 |
SaturationAdjustmentOrange | 0 |
SaturationAdjustmentPurple | 0 |
SaturationAdjustmentRed | 0 |
SaturationAdjustmentYellow | -29 |
ScaleFactor35efl | 6.1 |
SceneCaptureType | Standard |
SensingMethod | One-chip color area |
Shadows | 12 |
ShadowTint | 0 |
SharpenDetail | 25 |
SharpenEdgeMasking | 0 |
SharpenRadius | +1.0 |
Sharpness | 25 |
ShutterSpeed | 1/400 |
ShutterSpeedValue | 1/400 |
SplitToningBalance | 0 |
SplitToningHighlightHue | 0 |
SplitToningHighlightSaturation | 0 |
SplitToningShadowHue | 0 |
SplitToningShadowSaturation | 0 |
ToneCurve | 0, 0, 32, 22, 64, 56, 128, 128, 192, 196, 255, 255 |
ToneCurveName | Medium Contrast |
Version | 5.2 |
Vibrance | +61 |
VignetteAmount | 0 |
WhiteBalance (2) | As Shot |
WhiteBalance | Manual |