Felt | Verdi |
AlreadyApplied | True |
Aperture | 23.0 |
ApertureValue | 23.0 |
BitsPerSample | 8 |
BlueHue | 0 |
BlueSaturation | 0 |
Brightness | -25 |
By-line | Jarle Nilssen |
CameraProfile | Embedded |
ChromaticAberrationB | 0 |
ChromaticAberrationR | 0 |
Clarity | 0 |
ColorComponents | 3 |
ColorNoiseReduction | 0 |
Contrast | +13 |
ConvertToGrayscale | False |
Copyright | Jarle Nilssen |
CopyrightFlag | True |
CopyrightNotice | Jarle Nilssen |
CreateDate | 2010:08:01 10:42:35+02:00 |
Creator | Jarle Nilssen |
CreatorAddress | Maleniusåsen 21 |
CreatorCity | Sand |
CreatorCountry | Norway |
CreatorPostalCode | 4230 |
CreatorTool | Adobe Photoshop Lightroom |
CreatorWorkEmail | jarle.nilssen@haugnett.no |
CreatorWorkTelephone | 92831777 |
CreatorWorkURL | www.jarle-nilssen.no |
DateTimeOriginal (1) | 2010:08:01 10:42:35+02:00 |
DateTimeOriginal | 2010:08:01 10:42:35 |
Defringe | 0 |
ExifImageHeight | 1000 |
ExifImageWidth | 666 |
Exposure | +0.10 |
ExposureTime | 1/25 |
FillLight | 0 |
FNumber | 23.0 |
FocalLength | 17.0 mm |
FocalLength35efl | 17.0 mm |
GradientBasedCorrActive | true |
GradientBasedCorrAmount | 1.000000 |
GradientBasedCorrBrightness | 0.000000 |
GradientBasedCorrClarity | 0.000000 |
GradientBasedCorrContrast | -0.098000 |
GradientBasedCorrExposure | -0.317000 |
GradientBasedCorrHue | 0.000000 |
GradientBasedCorrMaskFullX | 0.816489 |
GradientBasedCorrMaskFullY | 0.356383 |
GradientBasedCorrMaskValue | 1.000000 |
GradientBasedCorrMaskWhat | Mask/Gradient |
GradientBasedCorrMaskZeroX | 0.654255 |
GradientBasedCorrMaskZeroY | -0.125887 |
GradientBasedCorrSaturation | 0.000000 |
GradientBasedCorrSharpness | 0.000000 |
GradientBasedCorrWhat | Correction |
GrainAmount | 0 |
GreenHue | 0 |
GreenSaturation | 0 |
HasCrop | False |
HasSettings | True |
HighlightRecovery | 0 |
HueAdjustmentAqua | 0 |
HueAdjustmentBlue | 0 |
HueAdjustmentGreen | 0 |
HueAdjustmentMagenta | 0 |
HueAdjustmentOrange | 0 |
HueAdjustmentPurple | 0 |
HueAdjustmentRed | 0 |
HueAdjustmentYellow | 0 |
ImageHeight | 1000 |
ImageSize | 666x1000 |
ImageWidth | 666 |
IncrementalTemperature | +4 |
IncrementalTint | -5 |
ISO | 100 |
Keywords | HDR |
LensManualDistortionAmount | 0 |
LensProfileEnable | 0 |
LensProfileSetup | LensDefaults |
LightValue | 13.7 |
LuminanceAdjustmentAqua | 0 |
LuminanceAdjustmentBlue | -30 |
LuminanceAdjustmentGreen | 0 |
LuminanceAdjustmentMagenta | 0 |
LuminanceAdjustmentOrange | 0 |
LuminanceAdjustmentPurple | 0 |
LuminanceAdjustmentRed | 0 |
LuminanceAdjustmentYellow | 0 |
LuminanceSmoothing | 0 |
Marked | True |
Megapixels | 0.666 |
Model | Canon EOS 7D |
ModifyDate (1) | 2010:08:02 16:45:36+02:00 |
ModifyDate | 2010:08:02 16:45:36 |
ParametricDarks | -24 |
ParametricHighlights | 0 |
ParametricHighlightSplit | 75 |
ParametricLights | +26 |
ParametricMidtoneSplit | 50 |
ParametricShadows | 0 |
ParametricShadowSplit | 25 |
PerspectiveHorizontal | 0 |
PerspectiveRotate | 0.0 |
PerspectiveScale | 100 |
PerspectiveVertical | 0 |
PostCropVignetteAmount | 0 |
ProcessVersion | 5.7 |
ProfileDescription | sRGB IEC61966-2.1 |
RedHue | 0 |
RedSaturation | 0 |
Rights | Jarle Nilssen |
Saturation | 0 |
SaturationAdjustmentAqua | 0 |
SaturationAdjustmentBlue | 0 |
SaturationAdjustmentGreen | 0 |
SaturationAdjustmentMagenta | 0 |
SaturationAdjustmentOrange | 0 |
SaturationAdjustmentPurple | 0 |
SaturationAdjustmentRed | 0 |
SaturationAdjustmentYellow | 0 |
Shadows | 9 |
ShadowTint | 0 |
SharpenDetail | 25 |
SharpenEdgeMasking | 0 |
SharpenRadius | +1.0 |
Sharpness | 0 |
ShutterSpeed | 1/25 |
ShutterSpeedValue | 1/25 |
SplitToningBalance | 0 |
SplitToningHighlightHue | 0 |
SplitToningHighlightSaturation | 0 |
SplitToningShadowHue | 0 |
SplitToningShadowSaturation | 0 |
Subject | HDR |
ToneCurve | 0, 0, 255, 255 |
ToneCurveName | Linear |
UsageTerms | No reproduction of any kind without prior written |
Version | 6.1 |
Vibrance | 0 |
VignetteAmount | 0 |
WhiteBalance | Auto |