Felt | Verdi |
AlreadyApplied | True |
Aperture | 5.7 |
ApertureValue | 5.7 |
BitsPerSample | 8 |
BlueHue | 0 |
BlueSaturation | 0 |
Brightness | 0 |
CameraProfile | Embedded |
ChromaticAberrationB | 0 |
ChromaticAberrationR | 0 |
Clarity | +42 |
ColorComponents | 3 |
ColorNoiseReduction | 0 |
Contrast | 0 |
ConvertToGrayscale | False |
CreateDate (1) | 2010:07:19 16:17:35+02:00 |
CreateDate | 2010:07:19 16:17:35 |
CreatorTool | Adobe Photoshop Lightroom |
CropAngle | 0 |
CropBottom | 0.855845 |
CropHeight | 1905 |
CropLeft | 0 |
CropRight | 0.736527 |
CropTop | 0.119318 |
CropUnit | pixels |
CropWidth | 2867 |
DateTimeDigitized | 2010:07:19 16:17:35+02:00 |
DateTimeOriginal (1) | 2010:07:19 16:17:35+02:00 |
DateTimeOriginal | 2010:07:19 16:17:35 |
Defringe | 0 |
ExifImageHeight | 1905 |
ExifImageWidth | 2867 |
Exposure | 0.00 |
ExposureCompensation | 0 |
ExposureProgram | Aperture-priority AE |
ExposureTime | 1/800 |
FillLight | 0 |
Flash | Off, Did not fire |
FlashFired | False |
FlashFunction | False |
FlashMode | Off |
FlashRedEyeMode | False |
FlashReturn | No return detection |
FNumber | 5.7 |
FocalLength | 50.0 mm |
FocalLength35efl | 50.0 mm |
GradientBasedCorrActive | true |
GradientBasedCorrAmount | 1.000000 |
GradientBasedCorrBrightness | -1.000000 |
GradientBasedCorrClarity | 0.264368 |
GradientBasedCorrContrast | 1.000000 |
GradientBasedCorrExposure | -1.000000 |
GradientBasedCorrHue | 240.000000 |
GradientBasedCorrMaskFullX | 0.000882 |
GradientBasedCorrMaskFullY | 0.857172 |
GradientBasedCorrMaskValue | 1.000000 |
GradientBasedCorrMaskWhat | Mask/Gradient |
GradientBasedCorrMaskZeroX | 0.089089 |
GradientBasedCorrMaskZeroY | 0.786837 |
GradientBasedCorrSaturation (1) | 0.379310 |
GradientBasedCorrSaturation | 0.000000 |
GradientBasedCorrSharpness | 0.250000 |
GradientBasedCorrWhat | Correction |
GreenHue | 0 |
GreenSaturation | 0 |
HasCrop | True |
HasSettings | True |
HighlightRecovery | 0 |
HueAdjustmentAqua | 0 |
HueAdjustmentBlue | 0 |
HueAdjustmentGreen | 0 |
HueAdjustmentMagenta | 0 |
HueAdjustmentOrange | 0 |
HueAdjustmentPurple | 0 |
HueAdjustmentRed | 0 |
HueAdjustmentYellow | 0 |
ImageHeight | 1905 |
ImageSize | 2867x1905 |
ImageWidth | 2867 |
IncrementalTemperature | +17 |
IncrementalTint | 0 |
ISO | 100 |
LightValue | 14.7 |
LuminanceAdjustmentAqua | 0 |
LuminanceAdjustmentBlue | 0 |
LuminanceAdjustmentGreen | 0 |
LuminanceAdjustmentMagenta | 0 |
LuminanceAdjustmentOrange | 0 |
LuminanceAdjustmentPurple | 0 |
LuminanceAdjustmentRed | 0 |
LuminanceAdjustmentYellow | 0 |
LuminanceSmoothing | 0 |
Make | Canon |
Megapixels | 5.5 |
MeteringMode | Multi-segment |
Model | Canon EOS 40D |
ModifyDate (1) | 2010:07:05 00:41:53+02:00 |
ModifyDate | 2010:07:05 00:41:53 |
ParametricDarks | -25 |
ParametricHighlights | 0 |
ParametricHighlightSplit | 75 |
ParametricLights | 0 |
ParametricMidtoneSplit | 50 |
ParametricShadows | -10 |
ParametricShadowSplit | 25 |
PostCropVignetteAmount | 0 |
ProfileDescription | sRGB IEC61966-2.1 |
RedHue | 0 |
RedSaturation | 0 |
Saturation | +56 |
SaturationAdjustmentAqua | 0 |
SaturationAdjustmentBlue | 0 |
SaturationAdjustmentGreen | 0 |
SaturationAdjustmentMagenta | 0 |
SaturationAdjustmentOrange | 0 |
SaturationAdjustmentPurple | 0 |
SaturationAdjustmentRed | 0 |
SaturationAdjustmentYellow | 0 |
Shadows | 0 |
ShadowTint | 0 |
SharpenDetail | 52 |
SharpenEdgeMasking | 45 |
SharpenRadius | +0.5 |
Sharpness | 91 |
ShutterSpeed | 1/800 |
ShutterSpeedValue | 1/800 |
Software | QuickTime 7.6.4 |
SplitToningBalance | 0 |
SplitToningHighlightHue | 244 |
SplitToningHighlightSaturation | 75 |
SplitToningShadowHue | 236 |
SplitToningShadowSaturation | 0 |
ToneCurve | 0, 0, 255, 255 |
ToneCurveName | Linear |
Version | 5.4 |
Vibrance | +54 |
VignetteAmount | 0 |
WhiteBalance | Custom |