Felt | Verdi |
AlreadyApplied | True |
Aperture | 8.0 |
ApertureValue | 8.0 |
BitsPerSample | 8 |
BlueHue | 0 |
BlueSaturation | 0 |
Brightness | 0 |
CameraProfile | Embedded |
ChromaticAberrationB | 0 |
ChromaticAberrationR | 0 |
Clarity | 0 |
ColorComponents | 3 |
ColorNoiseReduction | 0 |
Contrast | +42 |
ConvertToGrayscale | False |
CreateDate (1) | 2010:07:22 17:18:38+02:00 |
CreateDate | 2010:07:22 17:18:38 |
CreatorTool | Adobe Photoshop Lightroom |
CropAngle | 0 |
CropBottom | 0.717349 |
CropHeight | 1527 |
CropLeft | 0.060531 |
CropRight | 0.967968 |
CropTop | 0.126706 |
CropUnit | pixels |
CropWidth | 3532 |
DateTimeDigitized | 2010:07:22 17:18:38+02:00 |
DateTimeOriginal (1) | 2010:07:22 17:18:38+02:00 |
DateTimeOriginal | 2010:07:22 17:18:38 |
Defringe | 0 |
ExifImageHeight | 1527 |
ExifImageWidth | 3532 |
Exposure | 0.00 |
ExposureCompensation | 0 |
ExposureProgram | Aperture-priority AE |
ExposureTime | 1/320 |
FillLight | 0 |
Flash | Off, Did not fire |
FlashFired | False |
FlashFunction | False |
FlashMode | Off |
FlashRedEyeMode | False |
FlashReturn | No return detection |
FNumber | 8.0 |
FocalLength | 22.0 mm |
FocalLength35efl | 22.0 mm |
GradientBasedCorrActive | true |
GradientBasedCorrAmount | 1.000000 |
GradientBasedCorrBrightness (1) | 0.517241 |
GradientBasedCorrBrightness | 0.816092 |
GradientBasedCorrClarity | 0.264368 |
GradientBasedCorrContrast | 1.000000 |
GradientBasedCorrExposure (1) | -1.000000 |
GradientBasedCorrExposure | -0.816092 |
GradientBasedCorrHue | 240.000000 |
GradientBasedCorrMaskFullX (1) | 0.467656 |
GradientBasedCorrMaskFullX | 0.470376 |
GradientBasedCorrMaskFullY (1) | 0.236009 |
GradientBasedCorrMaskFullY | 0.669067 |
GradientBasedCorrMaskValue | 1.000000 |
GradientBasedCorrMaskWhat | Mask/Gradient |
GradientBasedCorrMaskZeroX (1) | 0.465788 |
GradientBasedCorrMaskZeroX | 0.470376 |
GradientBasedCorrMaskZeroY (1) | 0.656346 |
GradientBasedCorrMaskZeroY | 0.429269 |
GradientBasedCorrSaturation (1) | 0.379310 |
GradientBasedCorrSaturation | 0.000000 |
GradientBasedCorrSharpness | 0.250000 |
GradientBasedCorrWhat | Correction |
GreenHue | 0 |
GreenSaturation | 0 |
HasCrop | True |
HasSettings | True |
HighlightRecovery | 0 |
HueAdjustmentAqua | 0 |
HueAdjustmentBlue | 0 |
HueAdjustmentGreen | 0 |
HueAdjustmentMagenta | 0 |
HueAdjustmentOrange | 0 |
HueAdjustmentPurple | 0 |
HueAdjustmentRed | 0 |
HueAdjustmentYellow | 0 |
ImageHeight | 1527 |
ImageSize | 3532x1527 |
ImageWidth | 3532 |
IncrementalTemperature | 0 |
IncrementalTint | 0 |
ISO | 100 |
Keywords | USA traktor fly |
LightValue | 14.3 |
LuminanceAdjustmentAqua | 0 |
LuminanceAdjustmentBlue | 0 |
LuminanceAdjustmentGreen | 0 |
LuminanceAdjustmentMagenta | 0 |
LuminanceAdjustmentOrange | 0 |
LuminanceAdjustmentPurple | 0 |
LuminanceAdjustmentRed | 0 |
LuminanceAdjustmentYellow | 0 |
LuminanceSmoothing | 0 |
Make | Canon |
Megapixels | 5.4 |
MeteringMode | Multi-segment |
Model | Canon EOS 40D |
ModifyDate (1) | 2010:07:05 00:42:32+02:00 |
ModifyDate | 2010:07:05 00:42:32 |
PaintCorrectionActive | true |
PaintCorrectionAmount | 1.000000 |
PaintCorrectionBrightness (1) | -1.000000 |
PaintCorrectionBrightness | 1.000000 |
PaintCorrectionClarity | 0.264368 |
PaintCorrectionContrast | 1.000000 |
PaintCorrectionExposure (1) | -1.000000 |
PaintCorrectionExposure | 1.000000 |
PaintCorrectionHue (1) | 0.000000 |
PaintCorrectionHue | 240.000000 |
PaintCorrectionMaskCenterWeight | 0.011596 |
PaintCorrectionMaskFlow | 0.290000 |
PaintCorrectionMaskRadius (4) | 0.021998 |
PaintCorrectionMaskRadius | 0.017184 |
PaintCorrectionMaskValue | 0.241379 |
PaintCorrectionMaskWhat | Mask/Paint |
PaintCorrectionSaturation (1) | 0.402299 |
PaintCorrectionSaturation (2) | 0.020000 |
PaintCorrectionSaturation (5) | 0.379310 |
PaintCorrectionSaturation | 0.000000 |
PaintCorrectionSharpness (1) | 0.218391 |
PaintCorrectionSharpness | 0.250000 |
PaintCorrectionWhat | Correction |
ParametricDarks | -6 |
ParametricHighlights | 0 |
ParametricHighlightSplit | 75 |
ParametricLights | +35 |
ParametricMidtoneSplit | 50 |
ParametricShadows | -42 |
ParametricShadowSplit | 25 |
PostCropVignetteAmount | 0 |
ProfileDescription | sRGB IEC61966-2.1 |
RedHue | 0 |
RedSaturation | 0 |
Saturation | 0 |
SaturationAdjustmentAqua | 0 |
SaturationAdjustmentBlue | 0 |
SaturationAdjustmentGreen | 0 |
SaturationAdjustmentMagenta | 0 |
SaturationAdjustmentOrange | 0 |
SaturationAdjustmentPurple | 0 |
SaturationAdjustmentRed | 0 |
SaturationAdjustmentYellow | 0 |
Shadows | 0 |
ShadowTint | 0 |
SharpenDetail | 44 |
SharpenEdgeMasking | 56 |
SharpenRadius | +0.5 |
Sharpness | 87 |
ShutterSpeed | 1/320 |
ShutterSpeedValue | 1/320 |
Software | QuickTime 7.6.4 |
SplitToningBalance | 0 |
SplitToningHighlightHue | 34 |
SplitToningHighlightSaturation | 0 |
SplitToningShadowHue | 45 |
SplitToningShadowSaturation | 18 |
Subject | USA traktor fly |
ToneCurve | 0, 0, 255, 255 |
ToneCurveName | Linear |
Version | 5.4 |
Vibrance | -85 |
VignetteAmount | -100 |
VignetteMidpoint | 8 |
WhiteBalance | As Shot |