Felt | Verdi |
AlreadyApplied | True |
Aperture | 16.0 |
ApertureValue | 16.0 |
Artist | unknown |
BitsPerSample | 8 |
BlueHue | 0 |
BlueSaturation | 0 |
Brightness | +35 |
By-line | unknown |
CameraProfile | ACR 3.6 |
ChromaticAberrationB | 0 |
ChromaticAberrationR | 0 |
CircleOfConfusion | 0.019 mm |
ColorComponents | 3 |
ColorMode | RGB |
ColorNoiseReduction | 100 |
ColorSpace (1) | Unknown (-1) |
ColorSpace | Uncalibrated |
ColorTemperature | 13250 |
Contrast | +46 |
ConvertToGrayscale | False |
CopyrightFlag | False |
CreateDate (1) | 2010:04:17 23:40:05+02:00 |
CreateDate | 2007:01:30 01:27:32 |
Creator | unknown |
CreatorTool | Adobe Photoshop CS3 Windows |
CustomRendered | Normal |
DateTimeDigitized | 2007:01:30 01:27:32+01:00 |
DateTimeOriginal (1) | 2007:01:30 01:27:32+01:00 |
DateTimeOriginal | 2007:01:30 01:27:32 |
ExifImageHeight | 800 |
ExifImageWidth | 1200 |
Exposure | +1.15 |
ExposureCompensation | 0 |
ExposureMode | Manual |
ExposureProgram | Manual |
ExposureTime | 8 |
FillLight | 0 |
Firmware | 1.1.1 |
Flash | Off, Did not fire |
FlashCompensation | 0 |
FlashFired | False |
FlashFunction | False |
FlashMode | Off |
FlashRedEyeMode | False |
FlashReturn | No return detection |
FNumber | 16.0 |
FocalLength | 55.0 mm |
FocalLength35efl | 55.0 mm (35 mm equivalent: 89.0 mm) |
Format | image/jpeg |
FOV | 22.9 deg |
GreenHue | 0 |
GreenSaturation | 0 |
HasCrop | False |
HasSettings | True |
HighlightRecovery | 0 |
HueAdjustmentAqua | 0 |
HueAdjustmentBlue | 0 |
HueAdjustmentGreen | 0 |
HueAdjustmentMagenta | 0 |
HueAdjustmentOrange | 0 |
HueAdjustmentPurple | 0 |
HueAdjustmentRed | 0 |
HueAdjustmentYellow | 0 |
HyperfocalDistance | 10.18 m |
ICCProfileName | Adobe RGB (1998) |
ImageHeight | 800 |
ImageNumber | 64 |
ImageSize | 1200x800 |
ImageWidth | 1200 |
ISO | 200 |
Lens | EF-S18-55mm f/3.5-5.6 |
LensInfo | 18-55mm f/? |
LightValue | 4.0 |
LuminanceAdjustmentAqua | 0 |
LuminanceAdjustmentBlue | -33 |
LuminanceAdjustmentGreen | +8 |
LuminanceAdjustmentMagenta | 0 |
LuminanceAdjustmentOrange | 0 |
LuminanceAdjustmentPurple | 0 |
LuminanceAdjustmentRed | 0 |
LuminanceAdjustmentYellow | +35 |
LuminanceSmoothing | 72 |
Make | Canon |
MaxApertureValue | 5.6 |
Megapixels | 0.960 |
MeteringMode | Multi-segment |
Model | Canon EOS 400D DIGITAL |
ModifyDate (1) | 2010:04:17 23:40:05+02:00 |
ModifyDate | 2010:04:17 23:40:05 |
Orientation | Horizontal (normal) |
OwnerName | unknown |
ParametricDarks | -31 |
ParametricHighlights | 0 |
ParametricHighlightSplit | 75 |
ParametricLights | -4 |
ParametricMidtoneSplit | 50 |
ParametricShadows | +44 |
ParametricShadowSplit | 25 |
ProfileDescription | Adobe RGB (1998) |
Rating | 0 |
RawFileName | IMG_8116.CR2 |
RedHue | 0 |
RedSaturation | 0 |
Saturation | +53 |
SaturationAdjustmentAqua | -53 |
SaturationAdjustmentBlue | -41 |
SaturationAdjustmentGreen | -53 |
SaturationAdjustmentMagenta | 0 |
SaturationAdjustmentOrange | 0 |
SaturationAdjustmentPurple | 0 |
SaturationAdjustmentRed | 0 |
SaturationAdjustmentYellow | 0 |
ScaleFactor35efl | 1.6 |
SceneCaptureType | Standard |
SerialNumber | 1981168472 |
Shadows | 10 |
ShadowTint | 0 |
Sharpness | 100 |
ShutterSpeed | 8 |
ShutterSpeedValue | 8 |
SidecarForExtension | CR2 |
Software | Adobe Photoshop CS3 Windows |
SplitToningBalance | 0 |
SplitToningHighlightHue | 0 |
SplitToningHighlightSaturation | 0 |
SplitToningShadowHue | 0 |
SplitToningShadowSaturation | 0 |
TimeZoneOffset | 1 1 |
Tint | -19 |
ToneCurve | 0, 0, 32, 22, 64, 56, 128, 128, 192, 196, 255, 255 |
ToneCurveName | Medium Contrast |
URL_List | |
Version | 4.0 |
Vibrance | +16 |
VignetteAmount | -58 |
VignetteMidpoint | 29 |
WhiteBalance (2) | Custom |
WhiteBalance | Auto |