Felt | Verdi |
AlreadyApplied | True |
Aperture | 2.8 |
ApertureValue | 2.8 |
Artist | Thomas Skjaeveland |
BitsPerSample | 8 |
BlueHue | 0 |
BlueSaturation | 0 |
Brightness | +68 |
By-line | Thomas Skjaeveland |
CameraProfile | Beta |
CFAPattern | [Red,Green][Green,Blue] |
ChromaticAberrationB | 0 |
ChromaticAberrationR | 0 |
CircleOfConfusion | 0.030 mm |
Clarity | +30 |
ColorComponents | 3 |
ColorNoiseReduction | 25 |
ColorTemperature | 2909 |
Contrast (2) | +59 |
Contrast | Normal |
ConvertToGrayscale | False |
Copyright | Thomas Skjaeveland |
CopyrightNotice | Thomas Skjaeveland |
CreateDate (1) | 2009:05:31 10:58:42.67+02:00 |
CreateDate | 2009:05:31 10:58:42 |
Creator | Thomas Skjaeveland |
CreatorTool | Adobe Photoshop Lightroom |
CropAngle | 4.7561 |
CropBottom | 0.952297 |
CropHeight | 2304 |
CropLeft | 0.091064 |
CropRight | 0.856915 |
CropTop | 0.040192 |
CropUnit | pixels |
CropWidth | 3462 |
CustomRendered | Normal |
DateTimeDigitized | 2009:05:31 10:58:42.67+02:00 |
DateTimeOriginal (1) | 2009:05:31 10:58:42.67+02:00 |
DateTimeOriginal | 2009:05:31 10:58:42 |
Defringe | 0 |
DigitalZoomRatio | 1 |
ExifImageHeight | 2304 |
ExifImageWidth | 3462 |
Exposure | 0.00 |
ExposureCompensation | +1/3 |
ExposureMode | Manual |
ExposureProgram | Manual |
ExposureTime | 1/25 |
FillLight | 0 |
Flash | No Flash |
FlashFired | False |
FlashFunction | False |
FlashMode | Unknown |
FlashRedEyeMode | False |
FlashReturn | No return detection |
FNumber | 2.8 |
FocalLength | 24.0 mm |
FocalLength35efl | 24.0 mm (35 mm equivalent: 24.0 mm) |
FocalLengthIn35mmFormat | 24 mm |
FOV | 73.7 deg |
GainControl | High gain up |
GreenHue | 0 |
GreenSaturation | 0 |
HasCrop | True |
HasSettings | True |
HighlightRecovery | 55 |
HueAdjustmentAqua | 0 |
HueAdjustmentBlue | 0 |
HueAdjustmentGreen | 0 |
HueAdjustmentMagenta | 0 |
HueAdjustmentOrange | 0 |
HueAdjustmentPurple | 0 |
HueAdjustmentRed | 0 |
HueAdjustmentYellow | 0 |
HyperfocalDistance | 6.85 m |
ImageHeight | 2304 |
ImageNumber | 5468 |
ImageSize | 3462x2304 |
ImageWidth | 3462 |
ISO | 6400 |
Keywords | Barcelona, firmatur 2009 |
Lens | 24.0-70.0 mm f/2.8 |
LensInfo | 24-70mm f/2.8 |
LightSource | Unknown |
LightValue | 1.6 |
LuminanceAdjustmentAqua | 0 |
LuminanceAdjustmentBlue | 0 |
LuminanceAdjustmentGreen | 0 |
LuminanceAdjustmentMagenta | 0 |
LuminanceAdjustmentOrange | 0 |
LuminanceAdjustmentPurple | 0 |
LuminanceAdjustmentRed | 0 |
LuminanceAdjustmentYellow | 0 |
LuminanceSmoothing | 65 |
Make | NIKON CORPORATION |
MaxApertureValue | 2.8 |
Megapixels | 8.0 |
MeteringMode | Spot |
Model | NIKON D700 |
ModifyDate (1) | 2009:06:04 21:43:34+02:00 |
ModifyDate | 2009:06:04 21:43:34 |
PaintCorrectionActive | true |
PaintCorrectionAmount | 1.000000 |
PaintCorrectionBrightness | 0.000000 |
PaintCorrectionClarity (1) | 0.934959 |
PaintCorrectionClarity | 0.000000 |
PaintCorrectionContrast (1) | 0.691057 |
PaintCorrectionContrast | 0.203252 |
PaintCorrectionExposure (1) | 0.000000 |
PaintCorrectionExposure | 0.154472 |
PaintCorrectionHue | 230.000000 |
PaintCorrectionMaskCenterWeight | 0.170391 |
PaintCorrectionMaskFlow | 1.000000 |
PaintCorrectionMaskRadius (1) | 0.124785 |
PaintCorrectionMaskRadius (2) | 0.053812 |
PaintCorrectionMaskRadius (3) | 0.049892 |
PaintCorrectionMaskRadius (4) | 0.034822 |
PaintCorrectionMaskRadius | 0.024158 |
PaintCorrectionMaskValue | 1.000000 |
PaintCorrectionMaskWhat | Mask/Paint |
PaintCorrectionSaturation (1) | 0.235772 |
PaintCorrectionSaturation | 0.000000 |
PaintCorrectionSharpness (1) | 0.365854 |
PaintCorrectionSharpness | 0.000000 |
PaintCorrectionWhat | Correction |
ParametricDarks | 0 |
ParametricHighlights | 0 |
ParametricHighlightSplit | 75 |
ParametricLights | +12 |
ParametricMidtoneSplit | 50 |
ParametricShadows | -15 |
ParametricShadowSplit | 25 |
PostCropVignetteAmount | 0 |
ProfileDescription | sRGB IEC61966-2.1 |
Rating | 3 |
RedHue | 0 |
RedSaturation | 0 |
Rights | Thomas Skjaeveland |
Saturation (2) | 0 |
Saturation | Normal |
SaturationAdjustmentAqua | 0 |
SaturationAdjustmentBlue | 0 |
SaturationAdjustmentGreen | 0 |
SaturationAdjustmentMagenta | 0 |
SaturationAdjustmentOrange | 0 |
SaturationAdjustmentPurple | 0 |
SaturationAdjustmentRed | 0 |
SaturationAdjustmentYellow | 0 |
ScaleFactor35efl | 1.0 |
SceneCaptureType | Standard |
SceneType | Directly photographed |
SensingMethod | One-chip color area |
SerialNumber | 2118713 |
Shadows | 5 |
ShadowTint | 0 |
SharpenDetail | 25 |
SharpenEdgeMasking | 55 |
SharpenRadius | +1.0 |
Sharpness (2) | 78 |
Sharpness | Normal |
ShutterSpeed | 1/25 |
ShutterSpeedValue | 1/25 |
Software | Ver.1.00 |
SplitToningBalance | 0 |
SplitToningHighlightHue | 0 |
SplitToningHighlightSaturation | 0 |
SplitToningShadowHue | 0 |
SplitToningShadowSaturation | 0 |
Subject | Barcelona, firmatur 2009 |
SubjectDistanceRange | Unknown |
Tint | +6 |
ToneCurve | 0, 0, 32, 22, 64, 56, 128, 128, 192, 196, 255, 255 |
ToneCurveName | Medium Contrast |
Version | 4.5 |
Vibrance | 0 |
VignetteAmount | 0 |
WhiteBalance (2) | Custom |
WhiteBalance | Auto |