Felt | Verdi |
AlreadyApplied | True |
Artist | Bjørn Joachimsen |
AuthorsPosition | Photographer |
BitsPerSample | 8 |
BlueHue | 0 |
BlueSaturation | 0 |
Brightness | -15 |
By-line | Bj¿rn Joachimsen |
By-lineTitle | Photographer |
CameraProfile | Embedded |
Caption-Abstract | Where the Polar Circle crosses Saltfjellet in Norway |
CaptionWriter | Bjørn Joachimsen |
ChromaticAberrationB | 0 |
ChromaticAberrationR | 0 |
Clarity | 25 |
ColorComponents | 1 |
ColorMode | RGB |
ColorNoiseReduction | 0 |
ColorSpace | sRGB |
Contrast | +32 |
ConvertToGrayscale | False |
Copyright | Bjørn Joachimsen- all rights reserved |
CopyrightFlag | True |
CopyrightNotice | Bj¿rn Joachimsen- all rights reserved |
CreateDate | 2008:01:29 00:04:12+01:00 |
Creator | Bjørn Joachimsen |
CreatorCity | TOMASJORD |
CreatorCountry | NORWAY |
CreatorPostalCode | 9024 |
CreatorTool | Adobe Photoshop CS3 Macintosh |
CreatorWorkEmail | bjoern@fotonord.no |
CreatorWorkURL | www.fotonord.no |
CropAngle | 0 |
CropBottom | 0.992661 |
CropHeight | 1 |
CropLeft | 0.007339 |
CropRight | 0.981651 |
CropTop | 0.018349 |
CropUnit | Unknown (3) |
CropWidth | 1 |
Defringe | 0 |
Description | Where the Polar Circle crosses Saltfjellet in Norway |
ExifImageHeight | 768 |
ExifImageWidth | 768 |
Exposure | -0.90 |
FillLight | 24 |
Format | image/jpeg |
GreenHue | 0 |
GreenSaturation | 0 |
HasCrop | True |
HasSettings | True |
HighlightRecovery | 11 |
HueAdjustmentAqua | 0 |
HueAdjustmentBlue | 0 |
HueAdjustmentGreen | 0 |
HueAdjustmentMagenta | 0 |
HueAdjustmentOrange | 0 |
HueAdjustmentPurple | 0 |
HueAdjustmentRed | 0 |
HueAdjustmentYellow | 0 |
ICCProfileName | sRGB IEC61966-2.1 |
ImageDescription | Where the Polar Circle crosses Saltfjellet in Norway |
ImageHeight | 768 |
ImageSize | 768x768 |
ImageWidth | 768 |
IncrementalTemperature | 0 |
IncrementalTint | 0 |
Keywords | Polar Circle, Saltfjellet, Norway, Norge, mountain, sunlight, monochrome, grayscale, medium format, analog, film, film camera, Mamiya 6MF, Fuji, Fujifilm, Neopan, Acros, ISO 80, Rodinal, 1+50, 11, 5 min, Red filter, 25A, bw, black & white, black and white, 75mm, normal lens, Sekor, square |
LuminanceAdjustmentAqua | 0 |
LuminanceAdjustmentBlue | 0 |
LuminanceAdjustmentGreen | 0 |
LuminanceAdjustmentMagenta | 0 |
LuminanceAdjustmentOrange | 0 |
LuminanceAdjustmentPurple | 0 |
LuminanceAdjustmentRed | 0 |
LuminanceAdjustmentYellow | 0 |
LuminanceSmoothing | 0 |
Make | Nikon |
Marked | True |
Megapixels | 0.590 |
Model | Nikon SUPER COOLSCAN 9000 ED |
ModifyDate (1) | 2008:01:29 00:04:12+01:00 |
ModifyDate | 2008:01:29 00:04:12 |
ObjectName | Polar Circle #1 |
Orientation | Horizontal (normal) |
ParametricDarks | 0 |
ParametricHighlights | 0 |
ParametricHighlightSplit | 75 |
ParametricLights | 0 |
ParametricMidtoneSplit | 50 |
ParametricShadows | 0 |
ParametricShadowSplit | 25 |
ProfileDescription | sRGB IEC61966-2.1 |
Rating | 0 |
RawFileName | Polarsirkelen #4.tif |
RedHue | 0 |
RedSaturation | 0 |
Rights | Bjørn Joachimsen- all rights reserved |
Saturation | -100 |
SaturationAdjustmentAqua | 0 |
SaturationAdjustmentBlue | 0 |
SaturationAdjustmentGreen | 0 |
SaturationAdjustmentMagenta | 0 |
SaturationAdjustmentOrange | 0 |
SaturationAdjustmentPurple | 0 |
SaturationAdjustmentRed | 0 |
SaturationAdjustmentYellow | 0 |
Shadows | 0 |
ShadowTint | 0 |
SharpenDetail | 25 |
SharpenEdgeMasking | 0 |
SharpenRadius | +1.0 |
Sharpness | 0 |
Software | Adobe Photoshop CS3 Macintosh |
SplitToningBalance | 0 |
SplitToningHighlightHue | 0 |
SplitToningHighlightSaturation | 0 |
SplitToningShadowHue | 0 |
SplitToningShadowSaturation | 0 |
StartupProfile | Print |
Subject | Polar Circle, Saltfjellet, Norway, Norge, mountain, sunlight, monochrome, grayscale, medium format, analog, film, film camera, Mamiya 6MF, Fuji, Fujifilm, Neopan, Acros, ISO 80, Rodinal, 1+50, 11, 5 min, Red filter, 25A, bw, black & white, black and white, 75mm, normal lens, Sekor, square |
Title | Polar Circle #1 |
ToneCurve | 0, 0, 255, 255 |
ToneCurveName | Linear |
URL_List | |
Version | 4.1 |
Vibrance | 0 |
VignetteAmount | 0 |
WhiteBalance | As Shot |
Writer-Editor | Bj¿rn Joachimsen |