Felt | Verdi |
AlreadyApplied | True |
Aperture | 2.8 |
ApertureValue | 2.8 |
AutoLateralCA | 0 |
BitsPerSample (1) | 8 8 8 |
BitsPerSample | 8 |
Blacks2012 | +35 |
BlueHue | 0 |
BlueSaturation | 0 |
BrightnessValue | 4.293122971 |
CameraProfile | Embedded |
CircleOfConfusion | 0.004 mm |
Clarity2012 | +15 |
ColorComponents | 3 |
ColorGradeBlending | 50 |
ColorGradeGlobalHue | 0 |
ColorGradeGlobalLum | 0 |
ColorGradeGlobalSat | 0 |
ColorGradeHighlightLum | 0 |
ColorGradeMidtoneHue | 0 |
ColorGradeMidtoneLum | 0 |
ColorGradeMidtoneSat | 0 |
ColorGradeShadowLum | 0 |
ColorMode | RGB |
ColorNoiseReduction | 25 |
ColorNoiseReductionDetail | 50 |
ColorNoiseReductionSmoothness | 50 |
ColorSpace | sRGB |
ColorTransform | YCbCr |
Contrast2012 | +7 |
CreateDate | 2023:08:07 14:31:47 |
CreatorTool | Adobe Photoshop Lightroom Classic 12.4 (Macintosh) |
CropAngle | 0 |
CropBottom | 0.95469 |
CropConstrainToWarp | 0 |
CropLeft | 0.171802 |
CropRight | 0.88559 |
CropTop | 0.016826 |
CurveRefineSaturation | 100 |
DateCreated (1) | 2023:08:07 |
DateCreated | 2023:08:07 14:31:47.666+02:00 |
DateTimeOriginal | 2023:08:07 14:31:47 |
DefringeGreenAmount | 0 |
DefringeGreenHueHi | 60 |
DefringeGreenHueLo | 40 |
DefringePurpleAmount | 0 |
DefringePurpleHueHi | 70 |
DefringePurpleHueLo | 30 |
Dehaze | +15 |
ExifImageHeight | 2878 |
ExifImageWidth | 2836 |
Exposure2012 | -0.45 |
ExposureCompensation | -1 |
ExposureMode | Auto |
ExposureProgram | Program AE |
ExposureTime | 1/120 |
Flash | Off, Did not fire |
FNumber | 2.8 |
FocalLength | 9.0 mm |
FocalLength35efl | 9.0 mm (35 mm equivalent: 77.0 mm) |
FocalLengthIn35mmFormat | 77 mm |
Format | image/jpeg |
FOV | 26.3 deg |
GrainAmount | 0 |
GreenHue | 0 |
GreenSaturation | 0 |
HasCrop | True |
HasSettings | True |
Highlights2012 | +16 |
HueAdjustmentAqua | 0 |
HueAdjustmentBlue | 0 |
HueAdjustmentGreen | 0 |
HueAdjustmentMagenta | 0 |
HueAdjustmentOrange | 0 |
HueAdjustmentPurple | 0 |
HueAdjustmentRed | 0 |
HueAdjustmentYellow | 0 |
HyperfocalDistance | 8.24 m |
ICCProfileName | sRGB IEC61966-2.1 |
ImageHeight | 2878 |
ImageSize | 2836x2878 |
ImageWidth | 2836 |
IncrementalTemperature | 0 |
IncrementalTint | 0 |
ISO | 64 |
Lens | iPhone 14 Pro Max back dual camera 9mm f/2.8 |
LensInfo (1) | 6.86000013351759-9mm f/1.77999997138807-2.8 |
LensInfo | 6.860000134-9mm f/1.779999971-2.8 |
LensMake | Apple |
LensManualDistortionAmount | 0 |
LensModel | iPhone 14 Pro Max back dual camera 9mm f/2.8 |
LensProfileEnable | 0 |
LightValue | 10.5 |
LookAmount | 1 |
LookCluster | Adobe |
LookGroup | Modern |
LookName | Modern 10 |
LookParametersConvertToGrayscale | False |
LookParametersLookTable | E1095149FDB39D7A057BAB208837E2E1 |
LookParametersProcessVersion | 15.4 |
LookParametersRGBTable | 92C15ED8435601CACD2E0A020A6EB83E |
LookParametersRGBTableAmount | 0.5 |
LookParametersVersion | 15.4 |
LookSupportsMonochrome | false |
LuminanceAdjustmentAqua | 0 |
LuminanceAdjustmentBlue | 0 |
LuminanceAdjustmentGreen | 0 |
LuminanceAdjustmentMagenta | 0 |
LuminanceAdjustmentOrange | 0 |
LuminanceAdjustmentPurple | 0 |
LuminanceAdjustmentRed | 0 |
LuminanceAdjustmentYellow | 0 |
LuminanceSmoothing | 0 |
Make | Apple |
Megapixels | 8.2 |
MeteringMode | Multi-segment |
Model | iPhone 14 Pro Max |
ModifyDate (1) | 2023:08:08 09:13:40+02:00 |
ModifyDate | 2023:08:08 09:13:40 |
Orientation | Horizontal (normal) |
OverrideLookVignette | False |
ParametricDarks | 0 |
ParametricHighlights | 0 |
ParametricHighlightSplit | 75 |
ParametricLights | 0 |
ParametricMidtoneSplit | 50 |
ParametricShadows | 0 |
ParametricShadowSplit | 25 |
PerspectiveAspect | 0 |
PerspectiveHorizontal | 0 |
PerspectiveRotate | 0.0 |
PerspectiveScale | 100 |
PerspectiveUpright | 0 |
PerspectiveVertical | 0 |
PerspectiveX | 0.00 |
PerspectiveY | 0.00 |
PhotometricInterpretation | RGB |
PostCropVignetteAmount | 0 |
PreservedFileName | IMG_0503.JPG |
ProcessVersion | 15.4 |
ProfileDescription | sRGB IEC61966-2.1 |
RawFileName | IMG_0503.JPG |
RedHue | 0 |
RedSaturation | 0 |
SamplesPerPixel | 3 |
Saturation | -5 |
SaturationAdjustmentAqua | 0 |
SaturationAdjustmentBlue | 0 |
SaturationAdjustmentGreen | 0 |
SaturationAdjustmentMagenta | 0 |
SaturationAdjustmentOrange | +25 |
SaturationAdjustmentPurple | 0 |
SaturationAdjustmentRed | 0 |
SaturationAdjustmentYellow | +25 |
ScaleFactor35efl | 8.6 |
SceneCaptureType | Standard |
SceneType | Directly photographed |
SensingMethod | One-chip color area |
Shadows2012 | 0 |
ShadowTint | 0 |
Sharpness | 0 |
ShutterSpeed | 1/120 |
ShutterSpeedValue | 1/120 |
Software | Adobe Photoshop 24.7 (Macintosh) |
SplitToningBalance | 0 |
SplitToningHighlightHue | 0 |
SplitToningHighlightSaturation | 0 |
SplitToningShadowHue | 0 |
SplitToningShadowSaturation | 0 |
SubjectArea | 2013 1509 2213 1327 |
Texture | -15 |
ToneCurveName2012 | Custom |
ToneCurvePV2012 | 0, 8, 32, 19, 67, 52, 96, 94, 121, 129, 173, 197, 217, 230, 255, 241 |
ToneCurvePV2012Blue | 0, 5, 255, 245 |
ToneCurvePV2012Green | 0, 0, 255, 255 |
ToneCurvePV2012Red | 0, 0, 255, 255 |
URL_List | |
Version | 15.4 |
Vibrance | +25 |
VignetteAmount | 0 |
WhiteBalance (1) | As Shot |
WhiteBalance | Auto |
Whites2012 | -35 |