Felt | Verdi |
AlreadyApplied | True |
Aperture | 8.0 |
ApertureValue | 8.0 |
Artist | GEIR BRAATHEN |
AutoLateralCA | 1 |
BitsPerSample | 8 |
Blacks2012 | -8 |
BlueHue | 0 |
BlueSaturation | 0 |
BrightnessValue | 1.8 |
By-line | GEIR BRAATHEN |
CameraProfile | Camera Velvia/Vivid |
CircleOfConfusion | 0.038 mm |
City | Grimaud |
Clarity2012 | 0 |
ColorComponents | 3 |
ColorGradeBlending | 50 |
ColorGradeGlobalHue | 0 |
ColorGradeGlobalLum | 0 |
ColorGradeGlobalSat | 0 |
ColorGradeHighlightLum | 0 |
ColorGradeMidtoneHue | 0 |
ColorGradeMidtoneLum | 0 |
ColorGradeMidtoneSat | 0 |
ColorGradeShadowLum | 0 |
ColorMode | RGB |
ColorNoiseReduction | 25 |
ColorNoiseReductionDetail | 50 |
ColorNoiseReductionSmoothness | 50 |
ColorTemperature | 5200 |
Contrast2012 | +6 |
ConvertToGrayscale | False |
Country | France |
Country-PrimaryLocationCode | FR |
Country-PrimaryLocationName | France |
CountryCode | FR |
CreateDate (1) | 2022:12:27 17:18:47.1 |
CreateDate | 2022:12:27 17:18:47 |
Creator | GEIR BRAATHEN |
CreatorTool | Adobe Photoshop 24.1 (Macintosh) |
CropAngle | 0 |
CropBottom | 0.865613 |
CropConstrainToWarp | 0 |
CropLeft | 0.006123 |
CropRight | 0.994731 |
CropTop | 0.123201 |
CustomRendered | Normal |
DateCreated (1) | 2022:12:27 17:18:47.1 |
DateCreated | 2022:12:27 |
DateTimeOriginal | 2022:12:27 17:18:47 |
DefringeGreenAmount | 0 |
DefringeGreenHueHi | 60 |
DefringeGreenHueLo | 40 |
DefringePurpleAmount | 0 |
DefringePurpleHueHi | 70 |
DefringePurpleHueLo | 30 |
Dehaze | 0 |
DistortionCorrectionAlreadyApplied | True |
ExifImageHeight | 1166 |
ExifImageWidth | 2400 |
Exposure2012 | +1.20 |
ExposureCompensation | -0.67 |
ExposureMode | Auto |
ExposureProgram | Aperture-priority AE |
ExposureTime | 1/15 |
Flash | No Flash |
FNumber | 8.0 |
FocalLength | 32.0 mm |
FocalLength35efl | 32.0 mm (35 mm equivalent: 25.0 mm) |
FocalLengthIn35mmFormat | 25 mm |
Format | image/jpeg |
FOV | 71.5 deg |
FujiRatingAlreadyApplied | True |
GPSAltitude | 0 m |
GPSDateStamp | 2022:12:27 |
GPSLatitude (1) | 43 deg 16' 27.28" |
GPSLatitude | 43 deg 16' 27.28" N |
GPSLatitudeRef | North |
GPSLongitude (1) | 6 deg 34' 54.70" |
GPSLongitude | 6 deg 34' 54.70" E |
GPSLongitudeRef | East |
GPSMapDatum | WGS-84 |
GPSPosition | 43 deg 16' 27.28" N, 6 deg 34' 54.70" E |
GPSSpeed | 0 |
GPSSpeedRef | km/h |
GPSVersionID | 2.3.0.0 |
GrainAmount | 0 |
GreenHue | 0 |
GreenSaturation | 0 |
HasCrop | True |
HasSettings | True |
Highlights2012 | -67 |
HueAdjustmentAqua | 0 |
HueAdjustmentBlue | 0 |
HueAdjustmentGreen | 0 |
HueAdjustmentMagenta | 0 |
HueAdjustmentOrange | 0 |
HueAdjustmentPurple | 0 |
HueAdjustmentRed | 0 |
HueAdjustmentYellow | 0 |
HyperfocalDistance | 3.33 m |
ICCProfileName | Display P3 |
ImageHeight | 1166 |
ImageSize | 2400x1166 |
ImageWidth | 2400 |
IsMergedPanorama | True |
ISO | 640 |
LateralChromaticAberrationCorrectionAlreadyApplied | True |
Lens | GF32-64mmF4 R LM WR |
LensInfo | 32-64mm f/4 |
LensMake | FUJIFILM |
LensManualDistortionAmount | 0 |
LensModel | GF32-64mmF4 R LM WR |
LensProfileDistortionScale | 100 |
LensProfileEnable | 0 |
LensProfileIsEmbedded | True |
LensProfileName | Camera Settings |
LensProfileSetup | LensDefaults |
LensProfileVignettingScale | 100 |
LensSerialNumber | 98C00495 |
LightSource | Unknown |
LightValue | 7.2 |
LuminanceAdjustmentAqua | 0 |
LuminanceAdjustmentBlue | 0 |
LuminanceAdjustmentGreen | 0 |
LuminanceAdjustmentMagenta | 0 |
LuminanceAdjustmentOrange | 0 |
LuminanceAdjustmentPurple | 0 |
LuminanceAdjustmentRed | 0 |
LuminanceAdjustmentYellow | 0 |
LuminanceSmoothing | 0 |
Make | FUJIFILM |
MaxApertureValue | 4.0 |
Megapixels | 2.8 |
MeteringMode | Multi-segment |
Model | GFX100S |
ModifyDate (1) | 2022:12:28 20:24:58+01:00 |
ModifyDate | 2022:12:28 20:24:58 |
Orientation | Horizontal (normal) |
OverrideLookVignette | False |
ParametricDarks | 0 |
ParametricHighlights | 0 |
ParametricHighlightSplit | 75 |
ParametricLights | 0 |
ParametricMidtoneSplit | 50 |
ParametricShadows | 0 |
ParametricShadowSplit | 25 |
PerspectiveAspect | 0 |
PerspectiveHorizontal | 0 |
PerspectiveRotate | 0.0 |
PerspectiveScale | 100 |
PerspectiveUpright | 0 |
PerspectiveVertical | 0 |
PerspectiveX | 0.00 |
PerspectiveY | 0.00 |
PhotometricInterpretation | RGB |
PostCropVignetteAmount | 0 |
PreservedFileName | GFXX6643.RAF |
ProcessVersion | 11.0 |
ProfileDescription | Display P3 |
Province-State | Var |
RawFileName | GFXX6643-Pano.dng |
RedHue | 0 |
RedSaturation | 0 |
Saturation | +37 |
SaturationAdjustmentAqua | 0 |
SaturationAdjustmentBlue | 0 |
SaturationAdjustmentGreen | 0 |
SaturationAdjustmentMagenta | 0 |
SaturationAdjustmentOrange | 0 |
SaturationAdjustmentPurple | 0 |
SaturationAdjustmentRed | 0 |
SaturationAdjustmentYellow | 0 |
ScaleFactor35efl | 0.8 |
SceneCaptureType | Standard |
SceneType | Directly photographed |
SensingMethod | One-chip color area |
SensitivityType | Standard Output Sensitivity |
SerialNumber | 13002285 |
Shadows2012 | +99 |
ShadowTint | 0 |
SharpenDetail | 25 |
SharpenEdgeMasking | 0 |
SharpenRadius | +1.0 |
Sharpness (1) | 40 |
Sharpness | Normal |
ShutterSpeed | 1/15 |
ShutterSpeedValue | 1/15 |
Software | Adobe Photoshop 24.1 (Macintosh) |
SplitToningBalance | 0 |
SplitToningHighlightHue | 0 |
SplitToningHighlightSaturation | 0 |
SplitToningShadowHue | 0 |
SplitToningShadowSaturation | 0 |
StandardOutputSensitivity | 640 |
State | Var |
SubjectDistanceRange | Unknown |
Texture | 0 |
Tint | +22 |
ToneCurveName2012 | Linear |
ToneCurvePV2012 | 0, 0, 255, 255 |
ToneCurvePV2012Blue | 0, 0, 255, 255 |
ToneCurvePV2012Green | 0, 0, 255, 255 |
ToneCurvePV2012Red | 0, 0, 255, 255 |
Transformation | Cylindrical |
Version | 15.1 |
Vibrance | +45 |
VignetteAmount | 0 |
VignetteCorrectionAlreadyApplied | True |
VirtualFocalLength | 0.486744 |
VirtualImageXCenter | 0.359763 |
VirtualImageYCenter | 0.326414 |
WhiteBalance (1) | As Shot |
WhiteBalance | Auto |
Whites2012 | +2 |