Felt | Verdi |
AlreadyApplied | True |
Aperture | 5.0 |
ApertureValue | 5.0 |
ApproximateFocusDistance | 26.6 |
Artist | Frode Edvindsen |
AutoLateralCA | 0 |
BitsPerSample | 8 |
Blacks2012 | 0 |
BlueHue | 0 |
BlueSaturation | 0 |
By-line | Frode Edvindsen |
CameraProfile | Adobe Standard |
CFAPattern | [Red,Green][Green,Blue] |
CircleOfConfusion | 0.030 mm |
Clarity2012 | +12 |
ColorComponents | 3 |
ColorGradeBlending | 50 |
ColorGradeGlobalHue | 0 |
ColorGradeGlobalLum | 0 |
ColorGradeGlobalSat | 0 |
ColorGradeHighlightLum | 0 |
ColorGradeMidtoneHue | 0 |
ColorGradeMidtoneLum | 0 |
ColorGradeMidtoneSat | 0 |
ColorGradeShadowLum | 0 |
ColorNoiseReduction | 25 |
ColorNoiseReductionDetail | 50 |
ColorNoiseReductionSmoothness | 50 |
ColorSpace | sRGB |
ColorTemperature | 5500 |
ColorTransform | YCbCr |
Contrast | Normal |
Contrast2012 | +17 |
Copyright | Copyright frode.edvindsen@yahoo.no |
CopyrightNotice | Copyright frode.edvindsen@yahoo.no |
CreateDate (1) | 2021:08:17 12:36:50.24 |
CreateDate | 2021:08:17 12:36:50 |
Creator | Frode Edvindsen |
CreatorTool | Adobe Photoshop Lightroom Classic 10.4 (Macintosh) |
CropAngle | 0 |
CropBottom | 1 |
CropConstrainToWarp | 0 |
CropLeft | 0.100919 |
CropRight | 0.54633 |
CropTop | 0 |
CustomRendered | Normal |
DateCreated (1) | 2021:08:17 |
DateCreated | 2021:08:17 12:36:50.24 |
DateTimeOriginal | 2021:08:17 12:36:50 |
DefringeGreenAmount | 0 |
DefringeGreenHueHi | 60 |
DefringeGreenHueLo | 40 |
DefringePurpleAmount | 0 |
DefringePurpleHueHi | 70 |
DefringePurpleHueLo | 30 |
Dehaze | +8 |
DigitalZoomRatio | 1 |
DOF | 5.33 m (24.20 - 29.53 m) |
Exposure2012 | 0.00 |
ExposureCompensation | 0 |
ExposureMode | Manual |
ExposureProgram | Manual |
ExposureTime | 1/1600 |
Flash | Off, Did not fire |
FNumber | 5.0 |
FocalLength | 200.0 mm |
FocalLength35efl | 200.0 mm (35 mm equivalent: 200.0 mm) |
FocalLengthIn35mmFormat | 200 mm |
Format | image/jpeg |
FOV | 10.3 deg |
GainControl | None |
GrainAmount | 0 |
GreenHue | 0 |
GreenSaturation | 0 |
HasCrop | True |
HasSettings | True |
Highlights2012 | -15 |
HueAdjustmentAqua | 0 |
HueAdjustmentBlue | 0 |
HueAdjustmentGreen | 0 |
HueAdjustmentMagenta | 0 |
HueAdjustmentOrange | 0 |
HueAdjustmentPurple | 0 |
HueAdjustmentRed | 0 |
HueAdjustmentYellow | 0 |
HyperfocalDistance | 266.26 m |
ImageHeight | 4912 |
ImageNumber | 87003 |
ImageSize | 3278x4912 |
ImageWidth | 3278 |
ISO | 180 |
Lens | 70.0-200.0 mm f/2.8 |
LensID (1) | 162 |
LensID | AF-S Nikkor 70-200mm f/2.8G ED VR II |
LensInfo | 70-200mm f/2.8 |
LensManualDistortionAmount | 0 |
LensModel | 70.0-200.0 mm f/2.8 |
LensProfileEnable | 0 |
LightSource | Unknown |
LightValue | 14.4 |
LookAmount | 1.000000 |
LookGroup | Profiles |
LookName | Adobe Color |
LookParametersCameraProfile | Adobe Standard |
LookParametersConvertToGrayscale | False |
LookParametersLookTable | E1095149FDB39D7A057BAB208837E2E1 |
LookParametersProcessVersion | 11.0 |
LookParametersToneCurvePV2012 | 0, 0, 22, 16, 40, 35, 127, 127, 224, 230, 240, 246, 255, 255 |
LookParametersToneCurvePV2012Blue | 0, 0, 255, 255 |
LookParametersToneCurvePV2012Green | 0, 0, 255, 255 |
LookParametersToneCurvePV2012Red | 0, 0, 255, 255 |
LookParametersVersion | 13.3 |
LookSupportsAmount | false |
LookSupportsMonochrome | false |
LookSupportsOutputReferred | false |
LuminanceAdjustmentAqua | 0 |
LuminanceAdjustmentBlue | 0 |
LuminanceAdjustmentGreen | 0 |
LuminanceAdjustmentMagenta | 0 |
LuminanceAdjustmentOrange | +33 |
LuminanceAdjustmentPurple | 0 |
LuminanceAdjustmentRed | 0 |
LuminanceAdjustmentYellow | +13 |
LuminanceSmoothing | 0 |
Make | NIKON CORPORATION |
MaxApertureValue | 2.8 |
Megapixels | 16.1 |
MeteringMode | Multi-segment |
Model | NIKON D810 |
ModifyDate (1) | 2021:08:24 18:11:06+02:00 |
ModifyDate | 2021:08:24 18:11:06 |
OverrideLookVignette | False |
ParametricDarks | 0 |
ParametricHighlights | 0 |
ParametricHighlightSplit | 75 |
ParametricLights | 0 |
ParametricMidtoneSplit | 50 |
ParametricShadows | 0 |
ParametricShadowSplit | 25 |
PerspectiveAspect | 0 |
PerspectiveHorizontal | 0 |
PerspectiveRotate | 0.0 |
PerspectiveScale | 100 |
PerspectiveUpright | 0 |
PerspectiveVertical | 0 |
PerspectiveX | 0.00 |
PerspectiveY | 0.00 |
PostCropVignetteAmount | 0 |
PreservedFileName | DSC_0583.NEF |
ProcessVersion | 11.0 |
ProfileDescription | sRGB IEC61966-2.1 |
RawFileName | 20210817-DSC_0583.NEF |
RedHue | 0 |
RedSaturation | 0 |
Rights | Copyright frode.edvindsen@yahoo.no |
Saturation (1) | +7 |
Saturation | Normal |
SaturationAdjustmentAqua | 0 |
SaturationAdjustmentBlue | 0 |
SaturationAdjustmentGreen | 0 |
SaturationAdjustmentMagenta | 0 |
SaturationAdjustmentOrange | 0 |
SaturationAdjustmentPurple | 0 |
SaturationAdjustmentRed | 0 |
SaturationAdjustmentYellow | +18 |
ScaleFactor35efl | 1.0 |
SceneCaptureType | Standard |
SceneType | Directly photographed |
SensingMethod | One-chip color area |
SensitivityType | Recommended Exposure Index |
SerialNumber | 6040333 |
Shadows2012 | +83 |
ShadowTint | 0 |
SharpenDetail | 25 |
SharpenEdgeMasking | 0 |
SharpenRadius | +1.0 |
Sharpness (1) | 40 |
Sharpness | Normal |
ShutterSpeed | 1/1600 |
ShutterSpeedValue | 1/1600 |
Software | Adobe Photoshop Lightroom Classic 10.4 (Macintosh) |
SplitToningBalance | 0 |
SplitToningHighlightHue | 0 |
SplitToningHighlightSaturation | 0 |
SplitToningShadowHue | 0 |
SplitToningShadowSaturation | 0 |
SubjectDistanceRange | Unknown |
Texture | +23 |
Tint | -1 |
ToneCurveName2012 | Linear |
ToneCurvePV2012 | 0, 0, 255, 255 |
ToneCurvePV2012Blue | 0, 0, 255, 255 |
ToneCurvePV2012Green | 0, 0, 255, 255 |
ToneCurvePV2012Red | 0, 0, 255, 255 |
Version | 13.3 |
Vibrance | +11 |
VignetteAmount | 0 |
WhiteBalance (1) | As Shot |
WhiteBalance | Auto |
Whites2012 | +7 |