Felt | Verdi |
AlreadyApplied | True |
Aperture | 1.0 |
ApertureValue | 1.0 |
Artist | ARILD THINGVOLL |
AutoLateralCA | 0 |
BitsPerSample | 8 |
Blacks2012 | -52 |
BlueHue | 0 |
BlueSaturation | 0 |
BrightnessValue | 3.37 |
By-line | ARILD THINGVOLL |
CameraProfile | Adobe Standard |
CircGradBasedCorrActive | true |
CircGradBasedCorrAmount | 1.000000 |
CircGradBasedCorrBrightness | 0.000000 |
CircGradBasedCorrClarity2012 (2) | 0.370808 |
CircGradBasedCorrClarity2012 | 0.000000 |
CircGradBasedCorrContrast2012 | 0.000000 |
CircGradBasedCorrCorrectionRangeMaskColorAmount | 0.500000 |
CircGradBasedCorrCorrectionRangeMaskDepthFeather | 0.500000 |
CircGradBasedCorrCorrectionRangeMaskDepthMax | 1.000000 |
CircGradBasedCorrCorrectionRangeMaskDepthMin | 0.000000 |
CircGradBasedCorrCorrectionRangeMaskLumFeather | 0.500000 |
CircGradBasedCorrCorrectionRangeMaskLumMax | 1.000000 |
CircGradBasedCorrCorrectionRangeMaskLumMin | 0.000000 |
CircGradBasedCorrCorrectionRangeMaskType | 0 |
CircGradBasedCorrCorrectionRangeMaskVersion | +2 |
CircGradBasedCorrDefringe | 0.000000 |
CircGradBasedCorrExposure2012 (1) | 0.195122 |
CircGradBasedCorrExposure2012 (13) | 0.217500 |
CircGradBasedCorrExposure2012 (18) | 0.065250 |
CircGradBasedCorrExposure2012 (19) | -0.391250 |
CircGradBasedCorrExposure2012 (20) | 0.174000 |
CircGradBasedCorrExposure2012 (5) | 0.134527 |
CircGradBasedCorrExposure2012 (7) | 0.195750 |
CircGradBasedCorrExposure2012 (8) | 0.369500 |
CircGradBasedCorrExposure2012 (9) | 0.391250 |
CircGradBasedCorrExposure2012 | 0.130500 |
CircGradBasedCorrHighlights2012 (4) | 0.044493 |
CircGradBasedCorrHighlights2012 | 0.000000 |
CircGradBasedCorrHue (6) | 0.000000 |
CircGradBasedCorrHue | 101.000000 |
CircGradBasedCorrLocalBlacks2012 | 0.000000 |
CircGradBasedCorrLocalDehaze | 0.000000 |
CircGradBasedCorrLocalTexture | 0.000000 |
CircGradBasedCorrLocalWhites2012 (21) | 0.086960 |
CircGradBasedCorrLocalWhites2012 | 0.000000 |
CircGradBasedCorrLuminanceNoise | 0.000000 |
CircGradBasedCorrMaskAngle | 0.000000 |
CircGradBasedCorrMaskBottom (1) | 0.710404 |
CircGradBasedCorrMaskBottom (10) | 0.553457 |
CircGradBasedCorrMaskBottom (11) | 0.566284 |
CircGradBasedCorrMaskBottom (12) | 0.565691 |
CircGradBasedCorrMaskBottom (13) | 0.564067 |
CircGradBasedCorrMaskBottom (14) | 0.568683 |
CircGradBasedCorrMaskBottom (15) | 0.571698 |
CircGradBasedCorrMaskBottom (16) | 0.545293 |
CircGradBasedCorrMaskBottom (17) | 0.542803 |
CircGradBasedCorrMaskBottom (18) | 0.333533 |
CircGradBasedCorrMaskBottom (19) | 0.328984 |
CircGradBasedCorrMaskBottom (2) | 0.672480 |
CircGradBasedCorrMaskBottom (20) | 0.499729 |
CircGradBasedCorrMaskBottom (21) | 0.563419 |
CircGradBasedCorrMaskBottom (3) | 0.548642 |
CircGradBasedCorrMaskBottom (4) | 0.807198 |
CircGradBasedCorrMaskBottom (5) | 0.781380 |
CircGradBasedCorrMaskBottom (6) | 0.775508 |
CircGradBasedCorrMaskBottom (7) | 0.552094 |
CircGradBasedCorrMaskBottom (8) | 0.537084 |
CircGradBasedCorrMaskBottom (9) | 0.631050 |
CircGradBasedCorrMaskBottom | 0.482761 |
CircGradBasedCorrMaskFeather | +100 |
CircGradBasedCorrMaskFlipped | true |
CircGradBasedCorrMaskLeft (1) | 0.695030 |
CircGradBasedCorrMaskLeft (10) | 0.661295 |
CircGradBasedCorrMaskLeft (11) | 0.633151 |
CircGradBasedCorrMaskLeft (12) | 0.616395 |
CircGradBasedCorrMaskLeft (13) | 0.602525 |
CircGradBasedCorrMaskLeft (14) | 0.585687 |
CircGradBasedCorrMaskLeft (15) | 0.568421 |
CircGradBasedCorrMaskLeft (16) | 0.693142 |
CircGradBasedCorrMaskLeft (17) | 0.706020 |
CircGradBasedCorrMaskLeft (18) | 0.667307 |
CircGradBasedCorrMaskLeft (19) | 0.565322 |
CircGradBasedCorrMaskLeft (2) | 0.454281 |
CircGradBasedCorrMaskLeft (20) | 0.827756 |
CircGradBasedCorrMaskLeft (21) | 0.677668 |
CircGradBasedCorrMaskLeft (3) | 0.107472 |
CircGradBasedCorrMaskLeft (4) | 0.708635 |
CircGradBasedCorrMaskLeft (5) | 0.120760 |
CircGradBasedCorrMaskLeft (6) | 0.347218 |
CircGradBasedCorrMaskLeft (7) | 0.707603 |
CircGradBasedCorrMaskLeft (8) | 0.609711 |
CircGradBasedCorrMaskLeft (9) | 0.614178 |
CircGradBasedCorrMaskLeft | 0.572945 |
CircGradBasedCorrMaskMidpoint | +50 |
CircGradBasedCorrMaskRight (1) | 0.789252 |
CircGradBasedCorrMaskRight (10) | 0.679415 |
CircGradBasedCorrMaskRight (11) | 0.651271 |
CircGradBasedCorrMaskRight (12) | 0.634515 |
CircGradBasedCorrMaskRight (13) | 0.620645 |
CircGradBasedCorrMaskRight (14) | 0.603807 |
CircGradBasedCorrMaskRight (15) | 0.586541 |
CircGradBasedCorrMaskRight (16) | 0.711262 |
CircGradBasedCorrMaskRight (17) | 0.724140 |
CircGradBasedCorrMaskRight (18) | 0.679221 |
CircGradBasedCorrMaskRight (19) | 0.578846 |
CircGradBasedCorrMaskRight (2) | 0.549968 |
CircGradBasedCorrMaskRight (20) | 0.831942 |
CircGradBasedCorrMaskRight (21) | 0.688238 |
CircGradBasedCorrMaskRight (3) | 0.321258 |
CircGradBasedCorrMaskRight (4) | 0.923640 |
CircGradBasedCorrMaskRight (5) | 0.334508 |
CircGradBasedCorrMaskRight (6) | 0.567066 |
CircGradBasedCorrMaskRight (7) | 0.822825 |
CircGradBasedCorrMaskRight (8) | 0.657858 |
CircGradBasedCorrMaskRight (9) | 0.674737 |
CircGradBasedCorrMaskRight | 0.611336 |
CircGradBasedCorrMaskRoundness | 0 |
CircGradBasedCorrMaskTop (1) | 0.504333 |
CircGradBasedCorrMaskTop (10) | 0.523098 |
CircGradBasedCorrMaskTop (11) | 0.535925 |
CircGradBasedCorrMaskTop (12) | 0.535332 |
CircGradBasedCorrMaskTop (13) | 0.533708 |
CircGradBasedCorrMaskTop (14) | 0.538324 |
CircGradBasedCorrMaskTop (15) | 0.541339 |
CircGradBasedCorrMaskTop (16) | 0.514934 |
CircGradBasedCorrMaskTop (17) | 0.512444 |
CircGradBasedCorrMaskTop (18) | 0.318077 |
CircGradBasedCorrMaskTop (19) | 0.307731 |
CircGradBasedCorrMaskTop (2) | 0.463204 |
CircGradBasedCorrMaskTop (20) | 0.493450 |
CircGradBasedCorrMaskTop (21) | 0.524452 |
CircGradBasedCorrMaskTop (3) | 0.347191 |
CircGradBasedCorrMaskTop (4) | 0.604598 |
CircGradBasedCorrMaskTop (5) | 0.579964 |
CircGradBasedCorrMaskTop (6) | 0.568344 |
CircGradBasedCorrMaskTop (7) | 0.405440 |
CircGradBasedCorrMaskTop (8) | 0.472254 |
CircGradBasedCorrMaskTop (9) | 0.562800 |
CircGradBasedCorrMaskTop | 0.435084 |
CircGradBasedCorrMaskValue | 1.000000 |
CircGradBasedCorrMaskVersion | +2 |
CircGradBasedCorrMaskWhat | Mask/CircularGradient |
CircGradBasedCorrMoire | 0.000000 |
CircGradBasedCorrSaturation | 0.000000 |
CircGradBasedCorrShadows2012 | 0.000000 |
CircGradBasedCorrSharpness | 0.000000 |
CircGradBasedCorrTemperature (2) | 0.000000 |
CircGradBasedCorrTemperature | 0.130430 |
CircGradBasedCorrTint | 0.000000 |
CircGradBasedCorrWhat | Correction |
CircleOfConfusion | 0.020 mm |
Clarity2012 | -7 |
ColorComponents | 3 |
ColorNoiseReduction | 25 |
ColorNoiseReductionDetail | 50 |
ColorNoiseReductionSmoothness | 50 |
ColorSpace | sRGB |
ColorTemperature | 5250 |
ColorTransform | YCbCr |
Contrast2012 | +69 |
ConvertToGrayscale | True |
CreateDate | 2019:09:01 13:12:55 |
Creator | ARILD THINGVOLL |
CreatorTool | Adobe Photoshop Lightroom Classic 9.0 (Windows) |
CropAngle | 0.166557 |
CropBottom | 0.583007 |
CropConstrainToWarp | 0 |
CropLeft | 0.568255 |
CropRight | 0.8545 |
CropTop | 0.289798 |
CustomRendered | Normal |
DateCreated (1) | 2019:09:01 |
DateCreated | 2019:09:01 13:12:55 |
DateTimeOriginal | 2019:09:01 13:12:55 |
Dehaze | 0 |
Exposure2012 | -1.55 |
ExposureCompensation | -1.33 |
ExposureMode | Manual |
ExposureProgram | Manual |
ExposureTime | 1/250 |
Flash | No Flash |
FNumber | 1.0 |
FocalLength | 24.0 mm |
FocalLength35efl | 24.0 mm (35 mm equivalent: 36.0 mm) |
FocalLengthIn35mmFormat | 36 mm |
Format | image/jpeg |
FOV | 53.1 deg |
GradientBasedCorrActive | true |
GradientBasedCorrAmount | 1.000000 |
GradientBasedCorrBrightness | 0.000000 |
GradientBasedCorrClarity2012 | -0.004542 |
GradientBasedCorrContrast2012 (1) | 0.000000 |
GradientBasedCorrContrast2012 | 0.391768 |
GradientBasedCorrCorrectionRangeMaskColorAmount | 0.500000 |
GradientBasedCorrCorrectionRangeMaskDepthFeather | 0.500000 |
GradientBasedCorrCorrectionRangeMaskDepthMax | 1.000000 |
GradientBasedCorrCorrectionRangeMaskDepthMin | 0.000000 |
GradientBasedCorrCorrectionRangeMaskLumFeather | 0.500000 |
GradientBasedCorrCorrectionRangeMaskLumMax | 1.000000 |
GradientBasedCorrCorrectionRangeMaskLumMin | 0.000000 |
GradientBasedCorrCorrectionRangeMaskType | 0 |
GradientBasedCorrCorrectionRangeMaskVersion | +2 |
GradientBasedCorrDefringe | 0.000000 |
GradientBasedCorrExposure2012 | -0.239735 |
GradientBasedCorrHighlights2012 | -1.000000 |
GradientBasedCorrHue | 0.000000 |
GradientBasedCorrLocalBlacks2012 | 0.000000 |
GradientBasedCorrLocalDehaze | 0.000000 |
GradientBasedCorrLocalWhites2012 | 0.000000 |
GradientBasedCorrLuminanceNoise | 0.000000 |
GradientBasedCorrMaskFullX (1) | 0.563880 |
GradientBasedCorrMaskFullX (2) | 0.533135 |
GradientBasedCorrMaskFullX | 0.548308 |
GradientBasedCorrMaskFullY (1) | 0.127282 |
GradientBasedCorrMaskFullY (2) | -0.054333 |
GradientBasedCorrMaskFullY | 1.177360 |
GradientBasedCorrMaskValue | 1.000000 |
GradientBasedCorrMaskWhat | Mask/Gradient |
GradientBasedCorrMaskZeroX (1) | 0.563299 |
GradientBasedCorrMaskZeroX (2) | 0.535119 |
GradientBasedCorrMaskZeroX | 0.554692 |
GradientBasedCorrMaskZeroY (1) | 0.509699 |
GradientBasedCorrMaskZeroY (2) | 0.303305 |
GradientBasedCorrMaskZeroY | 0.759625 |
GradientBasedCorrMoire | 0.000000 |
GradientBasedCorrSaturation | 0.000000 |
GradientBasedCorrShadows2012 | 0.000000 |
GradientBasedCorrSharpness | 0.000000 |
GradientBasedCorrTemperature | 0.000000 |
GradientBasedCorrTint | 0.000000 |
GradientBasedCorrWhat | Correction |
GrainAmount | 0 |
GrayMixerAqua | -18 |
GrayMixerBlue | -28 |
GrayMixerGreen | -28 |
GrayMixerMagenta | +4 |
GrayMixerOrange | -21 |
GrayMixerPurple | +19 |
GrayMixerRed | -11 |
GrayMixerYellow | -25 |
GreenHue | 0 |
GreenSaturation | 0 |
HasCrop | True |
HasSettings | True |
Highlights2012 | -100 |
HyperfocalDistance | 28.76 m |
ImageHeight | 814 |
ImageSize | 1200x814 |
ImageWidth | 1200 |
ISO | 200 |
Keywords | 0819, SK, Vik, landskap |
LateralChromaticAberrationCorrectionAlreadyApplied | True |
Lens | 24.0 mm |
LensInfo | 24mm f/? |
LensManualDistortionAmount | 0 |
LensModel | 24.0 mm |
LensProfileEnable | 1 |
LensProfileSetup | LensDefaults |
LightSource | Unknown |
LightValue | 7.0 |
LookName | |
LuminanceNoiseReductionContrast | 0 |
LuminanceNoiseReductionDetail | 50 |
LuminanceSmoothing | 11 |
Make | FUJIFILM |
Megapixels | 0.977 |
MeteringMode | Multi-segment |
Model | X-H1 |
ModifyDate (1) | 2019:11:20 17:17:14+01:00 |
ModifyDate | 2019:11:20 17:17:14 |
OverrideLookVignette | False |
ParametricDarks | 0 |
ParametricHighlights | 0 |
ParametricHighlightSplit | 75 |
ParametricLights | 0 |
ParametricMidtoneSplit | 50 |
ParametricShadows | 0 |
ParametricShadowSplit | 25 |
PerspectiveAspect | 0 |
PerspectiveHorizontal | 0 |
PerspectiveRotate | 0.0 |
PerspectiveScale | 100 |
PerspectiveUpright | 1 |
PerspectiveVertical | 0 |
PerspectiveX | 0.00 |
PerspectiveY | 0.00 |
PostCropVignetteAmount | 0 |
PreservedFileName | XH108892.RAF |
ProcessVersion | 11.0 |
ProfileDescription | sRGB IEC61966-2.1 |
Rating | 1 |
RawFileName | A. Thingvoll_2019_00050-43.RAF |
RedHue | 0 |
RedSaturation | 0 |
ScaleFactor35efl | 1.5 |
SceneCaptureType | Standard |
SceneType | Directly photographed |
SensingMethod | One-chip color area |
SensitivityType | Standard Output Sensitivity |
SerialNumber | 81A55422 |
Shadows2012 | +97 |
ShadowTint | 0 |
SharpenDetail | 25 |
SharpenEdgeMasking | 61 |
SharpenRadius | +1.0 |
Sharpness (1) | 74 |
Sharpness | Normal |
ShutterSpeed | 1/250 |
ShutterSpeedValue | 1/250 |
Software | Adobe Photoshop Lightroom Classic 9.0 (Windows) |
SplitToningBalance | 0 |
SplitToningHighlightHue | 0 |
SplitToningHighlightSaturation | 0 |
SplitToningShadowHue | 0 |
SplitToningShadowSaturation | 0 |
Subject | 0819, SK, Vik, landskap |
SubjectDistanceRange | Unknown |
Texture | 0 |
Tint | +33 |
ToneCurve | 0, 0, 255, 255 |
ToneCurveBlue | 0, 0, 255, 255 |
ToneCurveGreen | 0, 0, 255, 255 |
ToneCurveName | Linear |
ToneCurveName2012 | Linear |
ToneCurvePV2012 | 0, 0, 255, 255 |
ToneCurvePV2012Blue | 0, 0, 255, 255 |
ToneCurvePV2012Green | 0, 0, 255, 255 |
ToneCurvePV2012Red | 0, 0, 255, 255 |
ToneCurveRed | 0, 0, 255, 255 |
ToneMapStrength | 0 |
Version | 12.0 |
VignetteAmount | 0 |
WhiteBalance (1) | As Shot |
WhiteBalance | Auto |
Whites2012 | +27 |