Felt | Verdi |
ActiveArea | 0 0 3280 4948 |
ActiveD-Lighting | Off |
AELockButton | AE/AF Lock |
AF-CPrioritySelection | Release |
AF-OnForMB-D11 | AE/AF Lock |
AF-SPrioritySelection | Focus |
AFAperture | 3.6 |
AFAreaMode | Auto-area |
AFAssist | On |
AFFineTune | Off |
AFFineTuneAdj | 0 |
AFFineTuneIndex | n/a |
AFInfo2Version | 0100 |
AFPointIllumination | On |
AFPointsUsed | (none) |
AlreadyApplied | False |
AnalogBalance | 1 1 1 |
AntiAliasStrength | 1 |
Aperture | 22.0 |
ApertureValue | 22.0 |
ApproximateFocusDistance | 5.62 |
Artist | Frank Sunde |
AsShotNeutral | 0.482109 1 0.717087 |
AuthorsPosition | Fotograf/Phothograf |
AutoBracketOrder | 0,-,+ |
AutoBracketSet | AE & Flash |
AutoDistortionControl | Off |
AutoFocus | On |
AutoLateralCA | 1 |
BaselineExposure | 0 |
BaselineNoise | 1 |
BaselineSharpness | 1.25 |
BatteryOrder | MB-D11 First |
BayerGreenSplit | 0 |
BeepPitch | Off |
BeepVolume | Off |
BestQualityScale | 1 |
BitsPerSample (1) | 8 8 8 |
BitsPerSample | 16 |
BlackLevel | 0 |
BlackLevelRepeatDim | 1 1 |
Blacks2012 | -25 |
BlueBalance | 1.394531 |
BlueHue | 0 |
BlueSaturation | 0 |
Brightness | Normal |
CalibrationIlluminant1 | Standard Light A |
CalibrationIlluminant2 | D65 |
CameraCalibration1 | 1 0 0 0 1 0 0 0 1 |
CameraCalibration2 | 1 0 0 0 1 0 0 0 1 |
CameraCalibrationSig | com.adobe |
CameraProfile | Adobe Standard |
CameraSerialNumber | 6255900 |
CenterWeightedAreaSize | 8 mm |
CFALayout | Rectangular |
CFAPattern | [Red,Green][Green,Blue] |
CFAPattern2 | 0 1 1 2 |
CFAPlaneColor | Red,Green,Blue |
CFARepeatPatternDim | 2 2 |
CircleOfConfusion | 0.020 mm |
Clarity2012 | 0 |
CLModeShootingSpeed | 3 fps |
ColorMatrix1 | 0.8642 -0.3058 -0.0243 -0.3999 1.1033 0.3422 -0.0453 0.1099 0.7814 |
ColorMatrix2 | 0.8198 -0.2239 -0.0724 -0.4871 1.2389 0.2798 -0.1043 0.205 0.7181 |
ColorNoiseReduction | 25 |
ColorNoiseReductionDetail | 50 |
ColorNoiseReductionSmoothness | 50 |
ColorSpace | sRGB |
ColorTemperature | 5500 |
CommandDialsApertureSetting | Sub-command Dial |
CommandDialsChangeMainSub | Off |
CommandDialsMenuAndPlayback | Off |
CommandDialsReverseRotation | No |
Contrast | Normal |
Contrast2012 | -18 |
ContrastDetectAF | Off |
ContrastDetectAFInFocus | No |
ConvertToGrayscale | False |
Copyright | Frank Sunde |
CreateDate (1) | 2018:07:10 15:35:00.70+02:00 |
CreateDate | 2018:07:10 15:35:00 |
Creator | Frank Sunde |
CreatorAddress | Eventyrskogen 48 |
CreatorCity | Stjørdal |
CreatorCountry | Norway |
CreatorPostalCode | 7506 |
CreatorTool | Adobe Photoshop Camera Raw 10.3 (Macintosh) |
CreatorWorkEmail | frank.sunde@ntebb.no |
CreatorWorkTelephone | (+47) 99568766 |
CropAngle | -2.519736 |
CropBottom | 0.85749 |
CropConstrainToWarp | 0 |
CropHiSpeed | Off (4992x3280 cropped to 4992x3280 at pixel 0,0) |
CropLeft | 0.120399 |
CropRight | 0.963405 |
CropTop | 0.18859 |
CustomRendered | Normal |
DateCreated | 2018:07:10 15:35:00.70+02:00 |
DateDisplayFormat | D/M/Y |
DateTimeOriginal | 2018:07:10 15:35:00 |
DaylightSavings | Yes |
DefaultCropOrigin | 8 8 |
DefaultCropSize | 4928 3264 |
DefaultScale | 1 1 |
DefringeGreenAmount | 0 |
DefringeGreenHueHi | 60 |
DefringeGreenHueLo | 40 |
DefringePurpleAmount | 0 |
DefringePurpleHueHi | 70 |
DefringePurpleHueLo | 30 |
Dehaze | 0 |
DigitalZoomRatio | 1 |
DNGBackwardVersion | 1.1.0.0 |
DNGLensInfo | 18-140mm f/3.5-5.6 |
DNGVersion | 1.4.0.0 |
DOF | inf (0.65 m - inf) |
EasyExposureCompensation | Off |
EffectiveMaxAperture | 3.6 |
ExitPupilPosition | 97.5 mm |
Exposure2012 | -0.36 |
ExposureBracketValue | 0 |
ExposureCompensation | 0 |
ExposureControlStep | 1/3 EV |
ExposureDelayMode | Off |
ExposureDifference | +0.1 |
ExposureMode | Manual |
ExposureProgram | Manual |
ExposureTime | 1/30 |
ExposureTuning | 0 |
ExternalFlashCompensation | 0 |
ExternalFlashExposureComp | 0 |
ExternalFlashFirmware | n/a |
ExternalFlashFlags | (none) |
FileInfoVersion | 0100 |
FileNumber | 5752 |
FileNumberSequence | On |
FilterEffect | n/a |
FirmwareVersion | 1.03a |
Flash | Off, Did not fire |
FlashColorFilter | None |
FlashCommanderMode | Off |
FlashCompensation | 0 |
FlashControlBuilt-in | TTL |
FlashControlMode | Off |
FlashExposureBracketValue | 0.0 |
FlashExposureComp | 0 |
FlashExposureComp3 | 0 |
FlashExposureComp4 | 0 |
FlashGNDistance | 0 |
FlashGroupACompensation | 0 |
FlashGroupAControlMode | Off |
FlashGroupBCompensation | 0 |
FlashGroupBControlMode | Off |
FlashGroupCCompensation | 0 |
FlashGroupCControlMode | Off |
FlashInfoVersion | 0104 |
FlashMode | Did Not Fire |
FlashSetting | Normal |
FlashShutterSpeed | 1/60 s |
FlashSource | None |
FlashSyncSpeed | 1/250 s |
FlashType | |
FlashWarning | On |
FNumber | 22.0 |
FocalLength (1) | 18.3 mm |
FocalLength | 18.0 mm |
FocalLength35efl | 18.0 mm (35 mm equivalent: 27.0 mm) |
FocalLengthIn35mmFormat | 27 mm |
FocusDistance | 5.62 m |
FocusMode | AF-C |
FocusPointWrap | No Wrap |
FocusPosition | 0x77 |
FocusTrackingLockOn | 3 Normal |
Format | image/dng |
ForwardMatrix1 | 0.7132 0.1579 0.0931 0.2379 0.8888 -0.1267 0.0316 -0.3024 1.0959 |
ForwardMatrix2 | 0.6876 0.3081 -0.0314 0.2676 1.0343 -0.3019 0.0151 -0.1801 0.9901 |
FOV | 67.2 deg (7.47 m) |
FuncButton | Virtual Horizon |
GainControl | None |
GrainAmount | 0 |
GreenHue | 0 |
GreenSaturation | 0 |
GridDisplay | On |
HasCrop | True |
HasSettings | True |
HierarchicalSubject | Stugudal |
HighISONoiseReduction | Normal |
Highlights2012 | -66 |
HueAdjustment | None |
HueAdjustmentAqua | 0 |
HueAdjustmentBlue | 0 |
HueAdjustmentGreen | 0 |
HueAdjustmentMagenta | 0 |
HueAdjustmentOrange | 0 |
HueAdjustmentPurple | 0 |
HueAdjustmentRed | 0 |
HueAdjustmentYellow | 0 |
HyperfocalDistance | 0.74 m |
ImageHeight (1) | 170 |
ImageHeight (2) | 678 |
ImageHeight | 3280 |
ImageNumber | 26064 |
ImageReviewTime | 10 s |
ImageSize | 4948x3280 |
ImageWidth (1) | 256 |
ImageWidth (2) | 1024 |
ImageWidth | 4948 |
ISO | 100 |
ISO2 | 100 |
ISODisplay | Show Frame Count |
ISOExpansion | Off |
ISOExpansion2 | Off |
ISOSensitivityStep | 1/3 EV |
ISOSetting | 100 |
LCDIllumination | Off |
Lens (1) | 18.0-140.0 mm f/3.5-5.6 |
Lens | 18-140mm f/3.5-5.6 |
LensDataVersion | 0204 |
LensFStops | 5.33 |
LensID (1) | 160 |
LensID | AF-S DX Nikkor 18-140mm f/3.5-5.6G ED VR |
LensIDNumber | 160 |
LensInfo | 18-140mm f/3.5-5.6 |
LensManualDistortionAmount | 0 |
LensModel | 18.0-140.0 mm f/3.5-5.6 |
LensProfileChromaticAberrationScale | 100 |
LensProfileDistortionScale | 100 |
LensProfileEnable | 1 |
LensProfileFilename | NIKON D300 (Nikon AF-S DX NIKKOR 18-140mm f3.5-5.6G ED VR) - RAW.lcp |
LensProfileName | Adobe (Nikon AF-S DX NIKKOR 18-140mm f/3.5-5.6G ED VR) |
LensProfileSetup | LensDefaults |
LensProfileVignettingScale | 100 |
LensSpec | 18-140mm f/3.5-5.6 G VR |
LensType | G VR |
LightSource | Unknown |
LightValue | 13.8 |
LinearResponseLimit | 1 |
LiveViewAFAreaMode | Face-Priority |
LiveViewAFMode | AF-C |
LiveViewMonitorOffTime | 10 s |
LookAmount | 1.000000 |
LookCopyright | © 2018 Adobe Systems, Inc. |
LookGroup | Profiles |
LookName | Adobe Color |
LookParametersCameraProfile | Adobe Standard |
LookParametersConvertToGrayscale | False |
LookParametersLookTable | E1095149FDB39D7A057BAB208837E2E1 |
LookParametersProcessVersion | 10.0 |
LookParametersToneCurvePV2012 | 0, 0, 22, 16, 40, 35, 127, 127, 224, 230, 240, 246, 255, 255 |
LookParametersToneCurvePV2012Blue | 0, 0, 255, 255 |
LookParametersToneCurvePV2012Green | 0, 0, 255, 255 |
LookParametersToneCurvePV2012Red | 0, 0, 255, 255 |
LookParametersVersion | 10.3 |
LookSupportsAmount | false |
LookSupportsMonochrome | false |
LookSupportsOutputReferred | false |
LuminanceAdjustmentAqua | +7 |
LuminanceAdjustmentBlue | -28 |
LuminanceAdjustmentGreen | -24 |
LuminanceAdjustmentMagenta | 0 |
LuminanceAdjustmentOrange | 0 |
LuminanceAdjustmentPurple | 0 |
LuminanceAdjustmentRed | 0 |
LuminanceAdjustmentYellow | 0 |
LuminanceSmoothing | 0 |
Make | NIKON CORPORATION |
MakerNoteVersion | 2.10 |
Marked | True |
MaxApertureAtMaxFocal | 5.7 |
MaxApertureAtMinFocal | 3.6 |
MaxApertureValue | 3.5 |
MaxContinuousRelease | 100 |
MaxFocalLength | 142.5 mm |
MB-D11BatteryType | LR6 (AA alkaline) |
MCUVersion | 187 |
Megapixels | 16.2 |
MemoryCardNumber | 0 |
MenuMonitorOffTime | 20 s |
MeteringMode | Multi-segment |
MeteringTime | 6 s |
MinFocalLength | 18.3 mm |
Model | NIKON D7000 |
ModelingFlash | On |
ModifyDate (1) | 2018:07:10 18:49:22+02:00 |
ModifyDate | 2018:07:10 18:49:22 |
MultiExposureAutoGain | Off |
MultiExposureMode | Off |
MultiExposureShots | 0 |
MultiExposureVersion | 0100 |
NEFCompression | Lossless |
NoiseProfile | 2.87968261234455e-05 6.45659078653226e-09 2.41916533150225e-05 6.05378148034038e-09 2.84168764782177e-05 6.6335474759576e-09 |
NoiseReduction | Off |
NoMemoryCard | Enable Release |
NumberOfFocusPoints | 39 Points |
OKButton | Select Center Focus Point |
Orientation | Horizontal (normal) |
OriginalRawFileName | L17_5752.NEF |
OverrideLookVignette | False |
ParametricDarks | 0 |
ParametricHighlights | 0 |
ParametricHighlightSplit | 75 |
ParametricLights | 0 |
ParametricMidtoneSplit | 50 |
ParametricShadows | 0 |
ParametricShadowSplit | 25 |
PerspectiveAspect | 0 |
PerspectiveHorizontal | 0 |
PerspectiveRotate | 0.0 |
PerspectiveScale | 100 |
PerspectiveUpright | 0 |
PerspectiveVertical | 0 |
PerspectiveX | 0.00 |
PerspectiveY | 0.00 |
PhaseDetectAF | On (39-point) |
PhotometricInterpretation (1) | RGB |
PhotometricInterpretation (2) | YCbCr |
PhotometricInterpretation | Color Filter Array |
PictureControlAdjust | Default Settings |
PictureControlBase | Standard |
PictureControlName | Standard |
PictureControlQuickAdjust | Normal |
PictureControlVersion | 0100 |
PlanarConfiguration | Chunky |
PlaybackMonitorOffTime | 10 s |
PostCropVignetteAmount | 0 |
PowerUpTime | 2018:07:10 15:33:17 |
PreviewApplicationName | Adobe Photoshop Camera Raw |
PreviewApplicationVersion | 10.3 |
PreviewButton | Bracketing Burst |
PreviewColorSpace | sRGB |
PreviewDateTime | 2018:07:10 18:49:22+02:00 |
PrimaryAFPoint | C6 (Center) |
ProcessVersion | 10.0 |
ProfileCalibrationSig | com.adobe |
ProfileEmbedPolicy | Allow Copying |
ProfileLookTableDims | 36 8 16 |
ProfileName | Adobe Standard |
ProgramShift | 0 |
Quality | RAW |
Rating | 5 |
RawDataUniqueID | 2DAA3CAB8CE2CF4AC2F393DF4DF77E77 |
RawFileName | L17_5752.dng |
RawImageCenter | 2496 1640 |
RedBalance | 2.074219 |
RedHue | 0 |
RedSaturation | 0 |
ReferenceBlackWhite | 0 255 128 255 128 255 |
ReleaseButtonToUseDial | No |
RemoteOnDuration | 1 min |
ReverseIndicators | + 0 - |
Rights | Frank Sunde |
RowsPerStrip (1) | 678 |
RowsPerStrip | 170 |
SamplesPerPixel (2) | 3 |
SamplesPerPixel | 1 |
Saturation (1) | 0 |
Saturation | Normal |
SaturationAdjustmentAqua | 0 |
SaturationAdjustmentBlue | +42 |
SaturationAdjustmentGreen | +34 |
SaturationAdjustmentMagenta | 0 |
SaturationAdjustmentOrange | 0 |
SaturationAdjustmentPurple | 0 |
SaturationAdjustmentRed | 0 |
SaturationAdjustmentYellow | 0 |
ScaleFactor35efl | 1.5 |
SceneCaptureType | Standard |
SceneType | Directly photographed |
ScreenTips | On |
SelfTimerInterval | 0.5 s |
SelfTimerShotCount | 1 |
SelfTimerTime | 10 s |
SensingMethod | One-chip color area |
SensitivityType | Recommended Exposure Index |
SerialNumber | 6255900 |
Shadows2012 | +40 |
ShadowScale | 1 |
ShadowTint | 0 |
SharpenDetail | 54 |
SharpenEdgeMasking | 0 |
SharpenRadius | +1.3 |
Sharpness (1) | 56 |
Sharpness (2) | Normal |
Sharpness | 3 |
ShootingInfoDisplay | Auto |
ShootingInfoMonitorOffTime | 10 s |
ShootingMode | Single-Frame |
ShotInfoVersion | 0220 |
ShutterCount | 26064 |
ShutterReleaseButtonAE-L | Off |
ShutterSpeed | 1/30 |
ShutterSpeedValue | 1/30 |
Software | Adobe Photoshop Camera Raw 10.3 (Macintosh) |
SplitToningBalance | 0 |
SplitToningHighlightHue | 0 |
SplitToningHighlightSaturation | 0 |
SplitToningShadowHue | 0 |
SplitToningShadowSaturation | 0 |
StripByteCounts (1) | 130560 |
StripByteCounts | 88144 |
StripOffsets (1) | 19538400 |
StripOffsets | 19668960 |
SubfileType (2) | Full-resolution Image |
SubfileType | Reduced-resolution image |
Subject | Stugudal |
SubjectDistanceRange | Unknown |
TileLength | 256 |
TileWidth | 256 |
TimeZone | +01:00 |
Tint | +10 |
ToneCurve | 0, 0, 32, 22, 64, 56, 128, 128, 192, 196, 255, 255 |
ToneCurveBlue | 0, 0, 255, 255 |
ToneCurveGreen | 0, 0, 255, 255 |
ToneCurveName | Medium Contrast |
ToneCurveName2012 | Linear |
ToneCurvePV2012 | 0, 0, 255, 255 |
ToneCurvePV2012Blue | 0, 0, 255, 255 |
ToneCurvePV2012Green | 0, 0, 255, 255 |
ToneCurvePV2012Red | 0, 0, 255, 255 |
ToneCurveRed | 0, 0, 255, 255 |
ToneMapStrength | 0 |
ToningEffect | n/a |
ToningSaturation | n/a |
UniqueCameraModel | Nikon D7000 |
UsageTerms | ©2018 Frank Sunde |
VariProgram | |
Version | 10.3 |
Vibrance | +13 |
VibrationReduction | On |
ViewfinderWarning | Off |
VignetteAmount | 0 |
VRInfoVersion | 0100 |
VRMode | Normal |
WB_GRBGLevels | 256 531 357 256 |
WB_RBLevels | 2.07421875 1.39453125 1 1 |
WhiteBalance (1) | Auto |
WhiteBalance (2) | Daylight |
WhiteBalance | Auto1 |
WhiteBalanceFineTune | 1 0 |
WhiteLevel | 15892 |
Whites2012 | +29 |