Felt | Verdi |
AlreadyApplied | True |
Aperture | 1.0 |
ApertureValue | 1.0 |
Artist | AZIZNASUTI |
AutoLateralCA | 0 |
BitsPerSample | 8 |
Blacks2012 | 0 |
BlueHue | 0 |
BlueSaturation | 0 |
BrightnessValue | -10.06 |
By-line | AZIZNASUTI |
CameraProfile | Embedded |
Caption-Abstract | www.aziznasutiphotography.com Bakke bry bridge in Trondheim, Norway |
CircleOfConfusion | 0.037 mm |
City | Trondheim |
Clarity2012 | 0 |
ColorComponents | 3 |
ColorNoiseReduction | 0 |
ColorSpace | sRGB |
ColorTransform | YCbCr |
Contrast2012 | 0 |
ConvertToGrayscale | False |
Copyright | AZIZNASUTIPHOTOGRAPHY.CQM |
CopyrightNotice | AZIZNASUTIPHOTOGRAPHY.CQM |
Country | Norway |
Country-PrimaryLocationCode | NO |
Country-PrimaryLocationName | Norway |
CountryCode | NO |
CreateDate | 2018:02:23 23:59:59 |
Creator | AZIZNASUTI |
CreatorTool | Adobe Photoshop Lightroom Classic 7.2 (Windows) |
CustomRendered | Normal |
DateCreated (1) | 2018:02:24 |
DateCreated | 2018:02:24 00:10:06 |
DateTimeOriginal | 2018:02:23 23:59:59 |
DefringeGreenAmount | 0 |
DefringeGreenHueHi | 60 |
DefringeGreenHueLo | 40 |
DefringePurpleAmount | 0 |
DefringePurpleHueHi | 70 |
DefringePurpleHueLo | 30 |
Dehaze | 0 |
Description | www.aziznasutiphotography.com Bakke bry bridge in Trondheim, Norway |
DigitalSourceType | nil |
Event | |
Exposure2012 | 0.00 |
ExposureCompensation | 0 |
ExposureMode | Manual |
ExposureProgram | Manual |
ExposureTime | 120 |
Flash | No Flash |
FNumber | 1.0 |
FocalLength | 21.0 mm |
FocalLength35efl | 21.0 mm (35 mm equivalent: 17.0 mm) |
FocalLengthIn35mmFormat | 17 mm |
Format | image/jpeg |
FOV | 93.3 deg |
GPSAltitude | 4.509 m |
GPSLatitude (1) | 63 deg 25' 57.44" |
GPSLatitude | 63 deg 25' 57.44" N |
GPSLatitudeRef | North |
GPSLongitude (1) | 10 deg 24' 24.32" |
GPSLongitude | 10 deg 24' 24.32" E |
GPSLongitudeRef | East |
GPSPosition | 63 deg 25' 57.44" N, 10 deg 24' 24.32" E |
GPSVersionID | 2.2.0.0 |
GrainAmount | 0 |
GreenHue | 0 |
GreenSaturation | 0 |
HasCrop | False |
HasSettings | True |
HierarchicalSubject | Blomsterbrua, Nidelva, Norge, Norway, Nrktrondelag, Reflection, Trondheim, Verftsbrua, autumn, bakke bru, bakklandet, chrismascard, chrismasf, domkirke, exploretrondelag, gamle bybro, jul, jule, juletid, natt, nidaros, nidelven, night, nordlys, norgefoto, northern light, opplevtrondelag, solsidenf, travel, trøndelag, tyholttårnet, vinteren |
Highlights2012 | 0 |
HueAdjustmentAqua | 0 |
HueAdjustmentBlue | 0 |
HueAdjustmentGreen | 0 |
HueAdjustmentMagenta | 0 |
HueAdjustmentOrange | 0 |
HueAdjustmentPurple | 0 |
HueAdjustmentRed | 0 |
HueAdjustmentYellow | 0 |
HyperfocalDistance | 11.88 m |
ImageDescription | www.aziznasutiphotography.com Bakke bry bridge in Trondheim, Norway |
ImageHeight | 890 |
ImageSize | 1200x890 |
ImageWidth | 1200 |
IncrementalTemperature | 0 |
IncrementalTint | 0 |
ISO | 100 |
Keywords | Blomsterbrua, Nidelva, Norge, Norway, Nrktrondelag, Reflection, Trondheim, Verftsbrua, autumn, bakke bru, bakklandet, chrismascard, chrismasf, domkirke, exploretrondelag, gamle bybro, jul, jule, juletid, natt, nidaros, nidelven, night, nordlys, norgefoto, northern light, opplevtrondelag, solsidenf, travel, trøndelag, tyholttårnet, vinteren |
Label | Yellow |
LateralChromaticAberrationCorrectionAlreadyApplied | True |
Lens | 21.0 mm |
LensInfo | 21mm f/? |
LensManualDistortionAmount | 0 |
LensModel | 21.0 mm |
LensProfileEnable | 0 |
LensProfileSetup | LensDefaults |
LightSource | Unknown |
LightValue | -6.9 |
LuminanceAdjustmentAqua | 0 |
LuminanceAdjustmentBlue | 0 |
LuminanceAdjustmentGreen | 0 |
LuminanceAdjustmentMagenta | 0 |
LuminanceAdjustmentOrange | 0 |
LuminanceAdjustmentPurple | 0 |
LuminanceAdjustmentRed | 0 |
LuminanceAdjustmentYellow | 0 |
LuminanceSmoothing | 0 |
Make | FUJIFILM |
Megapixels | 1.1 |
MeteringMode | Multi-segment |
MinorModelAgeDisclosure | Unknown (nil) |
Model | GFX 50S |
ModelReleaseStatus | Unknown (nil) |
ModifyDate (1) | 2018:02:25 23:46:24+01:00 |
ModifyDate | 2018:02:25 23:46:24 |
ObjectName | Bakke bru bridge in a beautiful winter night |
PaintCorrectionActive | true |
PaintCorrectionAmount | 1.000000 |
PaintCorrectionBrightness | 0.000000 |
PaintCorrectionClarity2012 | 0.200000 |
PaintCorrectionContrast2012 | 0.250000 |
PaintCorrectionCorrectionRangeMaskColorAmount | 0.500000 |
PaintCorrectionCorrectionRangeMaskLumFeather | 0.500000 |
PaintCorrectionCorrectionRangeMaskLumMax | 1.000000 |
PaintCorrectionCorrectionRangeMaskLumMin | 0.000000 |
PaintCorrectionCorrectionRangeMaskType | 0 |
PaintCorrectionCorrectionRangeMaskVersion | +2 |
PaintCorrectionDefringe | 0.000000 |
PaintCorrectionExposure2012 | 0.091000 |
PaintCorrectionHighlights2012 | 0.200000 |
PaintCorrectionHue | 240.000000 |
PaintCorrectionLocalBlacks2012 | 0.022730 |
PaintCorrectionLocalDehaze | 0.000000 |
PaintCorrectionLocalWhites2012 | 0.000000 |
PaintCorrectionLuminanceNoise | 0.100000 |
PaintCorrectionMaskCenterWeight | 0.000000 |
PaintCorrectionMaskFlow | 1.000000 |
PaintCorrectionMaskRadius | 0.155564 |
PaintCorrectionMaskValue | 1.000000 |
PaintCorrectionMaskWhat | Mask/Paint |
PaintCorrectionMoire | -0.200000 |
PaintCorrectionSaturation (1) | 0.200000 |
PaintCorrectionSaturation | 0.000000 |
PaintCorrectionShadows2012 | -0.100000 |
PaintCorrectionSharpness | 0.100000 |
PaintCorrectionTemperature | 0.000000 |
PaintCorrectionTint | 0.000000 |
PaintCorrectionWhat | Correction |
ParametricDarks | 0 |
ParametricHighlights | 0 |
ParametricHighlightSplit | 75 |
ParametricLights | 0 |
ParametricMidtoneSplit | 50 |
ParametricShadows | 0 |
ParametricShadowSplit | 25 |
PerspectiveAspect | 0 |
PerspectiveHorizontal | 0 |
PerspectiveRotate | 0.0 |
PerspectiveScale | 100 |
PerspectiveUpright | 0 |
PerspectiveVertical | 0 |
PerspectiveX | 0.00 |
PerspectiveY | 0.00 |
PLUSVersion | 1.2.0 |
PostCropVignetteAmount | 0 |
ProcessVersion | 10.0 |
ProfileDescription | sRGB IEC61966-2.1 |
PropertyReleaseStatus | Unknown (nil) |
Province-State | Sør-Trøndelag |
Rating | 2 |
RedHue | 0 |
RedSaturation | 0 |
Rights | AZIZNASUTIPHOTOGRAPHY.CQM |
Saturation | 0 |
SaturationAdjustmentAqua | 0 |
SaturationAdjustmentBlue | 0 |
SaturationAdjustmentGreen | 0 |
SaturationAdjustmentMagenta | 0 |
SaturationAdjustmentOrange | 0 |
SaturationAdjustmentPurple | 0 |
SaturationAdjustmentRed | 0 |
SaturationAdjustmentYellow | 0 |
ScaleFactor35efl | 0.8 |
SceneCaptureType | Standard |
SceneType | Directly photographed |
SensingMethod | One-chip color area |
SensitivityType | Standard Output Sensitivity |
SerialNumber | 71010859 |
Shadows2012 | 0 |
ShadowTint | 0 |
SharpenDetail | 25 |
SharpenEdgeMasking | 0 |
SharpenRadius | +1.0 |
Sharpness (1) | 0 |
Sharpness | Normal |
ShutterSpeed | 120 |
ShutterSpeedValue | 120 |
Software | Adobe Photoshop Lightroom Classic 7.2 (Windows) |
SplitToningBalance | 0 |
SplitToningHighlightHue | 0 |
SplitToningHighlightSaturation | 0 |
SplitToningShadowHue | 0 |
SplitToningShadowSaturation | 0 |
StandardOutputSensitivity | 100 |
State | Sør-Trøndelag |
Subject | Blomsterbrua, Nidelva, Norge, Norway, Nrktrondelag, Reflection, Trondheim, Verftsbrua, autumn, bakke bru, bakklandet, chrismascard, chrismasf, domkirke, exploretrondelag, gamle bybro, jul, jule, juletid, natt, nidaros, nidelven, night, nordlys, norgefoto, northern light, opplevtrondelag, solsidenf, travel, trøndelag, tyholttårnet, vinteren |
SubjectDistanceRange | Unknown |
Title | Bakke bru bridge in a beautiful winter night |
ToneCurve | 0, 0, 255, 255 |
ToneCurveBlue | 0, 0, 255, 255 |
ToneCurveGreen | 0, 0, 255, 255 |
ToneCurveName | Linear |
ToneCurveName2012 | Linear |
ToneCurvePV2012 | 0, 0, 255, 255 |
ToneCurvePV2012Blue | 0, 0, 255, 255 |
ToneCurvePV2012Green | 0, 0, 255, 255 |
ToneCurvePV2012Red | 0, 0, 255, 255 |
ToneCurveRed | 0, 0, 255, 255 |
Version | 10.2 |
Vibrance | 0 |
VignetteAmount | 0 |
WhiteBalance (1) | As Shot |
WhiteBalance | Auto |
Whites2012 | 0 |