Felt | Verdi |
AlreadyApplied | True |
Aperture | 6.3 |
ApertureValue | 6.3 |
ApproximateFocusDistance | 0.45 |
AutoLateralCA | 1 |
AutoWhiteVersion | 134348800 |
BitsPerSample | 8 |
Blacks2012 | +69 |
BlueHue | 0 |
BlueSaturation | 0 |
CameraProfile | Embedded |
CircGradBasedCorrActive | true |
CircGradBasedCorrAmount | 1.000000 |
CircGradBasedCorrBrightness | 0.000000 |
CircGradBasedCorrClarity2012 | -0.148983 |
CircGradBasedCorrContrast2012 | -0.093273 |
CircGradBasedCorrDefringe | 0.000000 |
CircGradBasedCorrExposure2012 | -0.060683 |
CircGradBasedCorrHighlights2012 | 0.390744 |
CircGradBasedCorrHue | 0.000000 |
CircGradBasedCorrLocalBlacks2012 | 0.000000 |
CircGradBasedCorrLocalDehaze | 0.045724 |
CircGradBasedCorrLocalWhites2012 | 0.000000 |
CircGradBasedCorrLuminanceNoise | 0.000000 |
CircGradBasedCorrMaskAngle (1) | -1.309360 |
CircGradBasedCorrMaskAngle | 14.121200 |
CircGradBasedCorrMaskBottom (1) | 0.489736 |
CircGradBasedCorrMaskBottom (2) | 0.378989 |
CircGradBasedCorrMaskBottom | 0.456663 |
CircGradBasedCorrMaskFeather | +50 |
CircGradBasedCorrMaskFlipped | true |
CircGradBasedCorrMaskLeft (1) | 0.825584 |
CircGradBasedCorrMaskLeft (2) | 0.636249 |
CircGradBasedCorrMaskLeft | 0.251761 |
CircGradBasedCorrMaskMidpoint | +50 |
CircGradBasedCorrMaskRight (1) | 0.878612 |
CircGradBasedCorrMaskRight (2) | 0.783055 |
CircGradBasedCorrMaskRight | 0.379818 |
CircGradBasedCorrMaskRoundness | 0 |
CircGradBasedCorrMaskTop (1) | 0.412226 |
CircGradBasedCorrMaskTop (2) | 0.305562 |
CircGradBasedCorrMaskTop | 0.327727 |
CircGradBasedCorrMaskValue | 1.000000 |
CircGradBasedCorrMaskVersion | +2 |
CircGradBasedCorrMaskWhat | Mask/CircularGradient |
CircGradBasedCorrMoire | 0.000000 |
CircGradBasedCorrSaturation (1) | 1.000000 |
CircGradBasedCorrSaturation | 0.000000 |
CircGradBasedCorrShadows2012 | -0.417402 |
CircGradBasedCorrSharpness | 0.000000 |
CircGradBasedCorrTemperature (1) | 1.000000 |
CircGradBasedCorrTemperature | 0.871422 |
CircGradBasedCorrTint | 1.000000 |
CircGradBasedCorrWhat | Correction |
CircleOfConfusion | 0.030 mm |
Clarity2012 | +73 |
ColorComponents | 3 |
ColorNoiseReduction | 71 |
ColorNoiseReductionDetail | 50 |
ColorNoiseReductionSmoothness | 50 |
ColorSpace | sRGB |
ColorTransform | YCbCr |
Contrast2012 | 0 |
ConvertToGrayscale | False |
CreateDate (1) | 2017:05:06 13:29:01.37 |
CreateDate | 2017:05:06 13:29:01 |
CreatorTool | Adobe Photoshop Lightroom 6.8 (Macintosh) |
CropAngle | -1.30936 |
CropBottom | 0.798495 |
CropConstrainToWarp | 0 |
CropLeft | 0.266453 |
CropRight | 0.924608 |
CropTop | 0.272505 |
CustomRendered | Normal |
DateCreated (1) | 2017:05:06 |
DateCreated | 2017:05:06 13:29:01.37 |
DateTimeOriginal | 2017:05:06 13:29:01 |
DefringeGreenAmount | 0 |
DefringeGreenHueHi | 60 |
DefringeGreenHueLo | 40 |
DefringePurpleAmount | 0 |
DefringePurpleHueHi | 70 |
DefringePurpleHueLo | 30 |
Dehaze | -4 |
DOF | 0.006 m (0.447 - 0.453 m) |
Exposure2012 | 0.00 |
ExposureCompensation | 0 |
ExposureMode | Auto |
ExposureProgram | Program AE |
ExposureTime | 1/200 |
Firmware | 1.1.4 |
Flash | Off, Did not fire |
FlashCompensation | 0 |
FNumber | 6.3 |
FocalLength | 99.0 mm |
FocalLength35efl | 99.0 mm (35 mm equivalent: 97.8 mm) |
Format | image/jpeg |
FOV | 20.9 deg |
GradientBasedCorrActive | true |
GradientBasedCorrAmount | 1.000000 |
GradientBasedCorrBrightness | 0.000000 |
GradientBasedCorrClarity2012 (1) | -1.000000 |
GradientBasedCorrClarity2012 | -0.283006 |
GradientBasedCorrContrast2012 (1) | -0.743702 |
GradientBasedCorrContrast2012 | 1.000000 |
GradientBasedCorrDefringe | 0.000000 |
GradientBasedCorrExposure2012 (1) | -0.090237 |
GradientBasedCorrExposure2012 (5) | -0.272483 |
GradientBasedCorrExposure2012 | -0.034815 |
GradientBasedCorrHighlights2012 (1) | -0.500242 |
GradientBasedCorrHighlights2012 | -0.158672 |
GradientBasedCorrHue | 0.000000 |
GradientBasedCorrLocalBlacks2012 | 0.000000 |
GradientBasedCorrLocalDehaze | 0.045724 |
GradientBasedCorrLocalWhites2012 | 0.000000 |
GradientBasedCorrLuminanceNoise | 0.000000 |
GradientBasedCorrMaskFullX (1) | 0.570720 |
GradientBasedCorrMaskFullX (2) | 0.756240 |
GradientBasedCorrMaskFullX (3) | 0.369607 |
GradientBasedCorrMaskFullX (4) | 0.561508 |
GradientBasedCorrMaskFullX (5) | 0.839611 |
GradientBasedCorrMaskFullX | 0.397169 |
GradientBasedCorrMaskFullY (1) | 0.718975 |
GradientBasedCorrMaskFullY (2) | 0.403938 |
GradientBasedCorrMaskFullY (3) | 0.381031 |
GradientBasedCorrMaskFullY (4) | 0.302412 |
GradientBasedCorrMaskFullY (5) | 0.748919 |
GradientBasedCorrMaskFullY | 0.806567 |
GradientBasedCorrMaskValue | 1.000000 |
GradientBasedCorrMaskWhat | Mask/Gradient |
GradientBasedCorrMaskZeroX (1) | 0.571075 |
GradientBasedCorrMaskZeroX (2) | 0.614357 |
GradientBasedCorrMaskZeroX (3) | 0.454922 |
GradientBasedCorrMaskZeroX (4) | 0.559549 |
GradientBasedCorrMaskZeroX (5) | 0.671753 |
GradientBasedCorrMaskZeroX | 0.469393 |
GradientBasedCorrMaskZeroY (1) | 0.502898 |
GradientBasedCorrMaskZeroY (2) | 0.478919 |
GradientBasedCorrMaskZeroY (3) | 0.459431 |
GradientBasedCorrMaskZeroY (4) | 0.394055 |
GradientBasedCorrMaskZeroY (5) | 0.521567 |
GradientBasedCorrMaskZeroY | 0.644727 |
GradientBasedCorrMoire | 0.000000 |
GradientBasedCorrSaturation (1) | 0.559593 |
GradientBasedCorrSaturation (11) | -0.413108 |
GradientBasedCorrSaturation (3) | 0.019144 |
GradientBasedCorrSaturation (9) | -1.000000 |
GradientBasedCorrSaturation | 0.000000 |
GradientBasedCorrShadows2012 (1) | 0.919876 |
GradientBasedCorrShadows2012 | 0.563408 |
GradientBasedCorrSharpness | 0.000000 |
GradientBasedCorrTemperature (1) | -0.323946 |
GradientBasedCorrTemperature (2) | 0.005010 |
GradientBasedCorrTemperature (5) | 1.000000 |
GradientBasedCorrTemperature | 0.508469 |
GradientBasedCorrTint (1) | -0.121243 |
GradientBasedCorrTint (4) | -1.000000 |
GradientBasedCorrTint (5) | 0.733838 |
GradientBasedCorrTint | 0.338502 |
GradientBasedCorrWhat | Correction |
GrainAmount | 0 |
GreenHue | 0 |
GreenSaturation | 0 |
HasCrop | True |
HasExtendedXMP | 8F3F866F58D2AE0F03C24C4C5EB9FDB3 |
HasSettings | True |
Highlights2012 | 0 |
HueAdjustmentAqua | 0 |
HueAdjustmentBlue | 0 |
HueAdjustmentGreen | -40 |
HueAdjustmentMagenta | 0 |
HueAdjustmentOrange | 0 |
HueAdjustmentPurple | 0 |
HueAdjustmentRed | 0 |
HueAdjustmentYellow | -42 |
HyperfocalDistance | 51.13 m |
ImageHeight | 2001 |
ImageNumber | 0 |
ImageSize | 3557x2001 |
ImageWidth | 3557 |
IncrementalTemperature | -9 |
IncrementalTint | -15 |
ISO | 100 |
Lens | EF24-105mm f/4L IS USM |
LensID (1) | 237 |
LensID | Canon EF 24-105mm f/4L IS USM |
LensInfo | 24-105mm f/? |
LensManualDistortionAmount | 0 |
LensModel | EF24-105mm f/4L IS USM |
LensProfileChromaticAberrationScale | 100 |
LensProfileDistortionScale | 100 |
LensProfileEnable | 1 |
LensProfileFilename | Canon EOS-1Ds Mark III (Canon EF 24-105mm f4 L IS USM).lcp |
LensProfileName | Adobe (Canon EF 24-105mm f/4 L IS USM) |
LensProfileSetup | LensDefaults |
LensProfileVignettingScale | 100 |
LensSerialNumber | 00001399a0 |
LightValue | 13.0 |
LuminanceAdjustmentAqua | 0 |
LuminanceAdjustmentBlue | 0 |
LuminanceAdjustmentGreen | 0 |
LuminanceAdjustmentMagenta | 0 |
LuminanceAdjustmentOrange | +94 |
LuminanceAdjustmentPurple | 0 |
LuminanceAdjustmentRed | +100 |
LuminanceAdjustmentYellow | +100 |
LuminanceSmoothing | 0 |
Make | Canon |
MaxApertureValue | 4.0 |
Megapixels | 7.1 |
MeteringMode | Multi-segment |
Model | Canon EOS 6D |
ModifyDate (1) | 2017:06:02 21:56:02+02:00 |
ModifyDate | 2017:06:02 21:56:02 |
PaintCorrectionActive | true |
PaintCorrectionAmount | 1.000000 |
PaintCorrectionBrightness | 0.000000 |
PaintCorrectionClarity2012 | 0.393726 |
PaintCorrectionContrast2012 | 0.026240 |
PaintCorrectionDefringe | 0.000000 |
PaintCorrectionExposure2012 | 0.747638 |
PaintCorrectionHighlights2012 | -0.158672 |
PaintCorrectionHue | 0.000000 |
PaintCorrectionLocalBlacks2012 | -0.013263 |
PaintCorrectionLocalDehaze | 0.045724 |
PaintCorrectionLocalWhites2012 | 0.000000 |
PaintCorrectionLuminanceNoise | 0.000000 |
PaintCorrectionMaskCenterWeight | 0.000000 |
PaintCorrectionMaskFlow | 0.474004 |
PaintCorrectionMaskRadius (1) | 0.037558 |
PaintCorrectionMaskRadius (12) | 0.002904 |
PaintCorrectionMaskRadius (13) | 0.051549 |
PaintCorrectionMaskRadius (14) | 0.030085 |
PaintCorrectionMaskRadius (2) | 0.037596 |
PaintCorrectionMaskRadius (3) | 0.026908 |
PaintCorrectionMaskRadius (4) | 0.026953 |
PaintCorrectionMaskRadius (5) | 0.026940 |
PaintCorrectionMaskRadius (6) | 0.006736 |
PaintCorrectionMaskRadius (8) | 0.002908 |
PaintCorrectionMaskRadius (9) | 0.002901 |
PaintCorrectionMaskRadius | 0.030015 |
PaintCorrectionMaskValue | 1.000000 |
PaintCorrectionMaskWhat | Mask/Paint |
PaintCorrectionMoire | 0.000000 |
PaintCorrectionSaturation (1) | -0.144624 |
PaintCorrectionSaturation | 0.000000 |
PaintCorrectionShadows2012 | 0.019864 |
PaintCorrectionSharpness | 0.000000 |
PaintCorrectionTemperature | -0.081395 |
PaintCorrectionTint | -0.312879 |
PaintCorrectionWhat | Correction |
ParametricDarks | 0 |
ParametricHighlights | 0 |
ParametricHighlightSplit | 75 |
ParametricLights | 0 |
ParametricMidtoneSplit | 50 |
ParametricShadows | 0 |
ParametricShadowSplit | 25 |
PerspectiveAspect | 0 |
PerspectiveHorizontal | 0 |
PerspectiveRotate | 0.0 |
PerspectiveScale | 100 |
PerspectiveUpright | 0 |
PerspectiveVertical | 0 |
PerspectiveX | 0.00 |
PerspectiveY | 0.00 |
PostCropVignetteAmount | -100 |
PostCropVignetteFeather | 86 |
PostCropVignetteHighlightContrast | 47 |
PostCropVignetteMidpoint | 0 |
PostCropVignetteRoundness | +18 |
PostCropVignetteStyle | 1 |
ProcessVersion | 6.7 |
ProfileDescription | sRGB IEC61966-2.1 |
RecommendedExposureIndex | 100 |
RedHue | 0 |
RedSaturation | 0 |
Saturation | 0 |
SaturationAdjustmentAqua | 0 |
SaturationAdjustmentBlue | 0 |
SaturationAdjustmentGreen | 0 |
SaturationAdjustmentMagenta | 0 |
SaturationAdjustmentOrange | +100 |
SaturationAdjustmentPurple | 0 |
SaturationAdjustmentRed | 0 |
SaturationAdjustmentYellow | +29 |
ScaleFactor35efl | 1.0 |
SceneCaptureType | Standard |
SensitivityType | Recommended Exposure Index |
SerialNumber | 183020000401 |
Shadows2012 | +54 |
ShadowTint | 0 |
SharpenDetail | 25 |
SharpenEdgeMasking | 0 |
SharpenRadius | +1.3 |
Sharpness | 69 |
ShutterSpeed | 1/200 |
ShutterSpeedValue | 1/200 |
Software | Adobe Photoshop Lightroom 6.8 (Macintosh) |
SplitToningBalance | 0 |
SplitToningHighlightHue | 0 |
SplitToningHighlightSaturation | 0 |
SplitToningShadowHue | 0 |
SplitToningShadowSaturation | 0 |
ToneCurve | 0, 0, 255, 255 |
ToneCurveBlue | 0, 0, 255, 255 |
ToneCurveGreen | 0, 0, 255, 255 |
ToneCurveName | Linear |
ToneCurveName2012 | Custom |
ToneCurvePV2012 | 0, 41, 255, 255 |
ToneCurvePV2012Blue | 0, 0, 255, 255 |
ToneCurvePV2012Green | 0, 0, 255, 255 |
ToneCurvePV2012Red | 0, 0, 255, 255 |
ToneCurveRed | 0, 0, 255, 255 |
ToneMapStrength | 0 |
Version | 9.8 |
Vibrance | +59 |
VignetteAmount | 0 |
WhiteBalance (1) | Custom |
WhiteBalance | Auto |
Whites2012 | -47 |