Felt | Verdi |
AlreadyApplied | True |
Aperture | 11.0 |
ApertureValue | 11.0 |
ApproximateFocusDistance | 0.84 |
AutoLateralCA | 0 |
AutoWhiteVersion | 134348800 |
BitsPerSample (1) | 8 8 8 |
BitsPerSample | 8 |
Blacks2012 | 0 |
BlueHue | +3 |
BlueSaturation | 0 |
CameraProfile | Embedded |
CircleOfConfusion | 0.020 mm |
Clarity2012 | 0 |
ColorComponents | 3 |
ColorMode | RGB |
ColorNoiseReduction | 0 |
ColorSpace | sRGB |
ColorTransform | YCbCr |
Contrast | Normal |
Contrast2012 | +60 |
ConvertToGrayscale | False |
CreateDate | 2017:08:01 17:04:29 |
CreatorTool | Adobe Photoshop CC 2017 (Macintosh) |
CustomRendered | Normal |
DateCreated (1) | 2017:08:01 |
DateCreated | 2017:08:01 17:04:29.004 |
DateTimeOriginal | 2017:08:01 17:04:29 |
DefringeGreenAmount | 0 |
DefringeGreenHueHi | 60 |
DefringeGreenHueLo | 40 |
DefringePurpleAmount | 0 |
DefringePurpleHueHi | 70 |
DefringePurpleHueLo | 30 |
Dehaze | 0 |
DigitalZoomRatio | 1 |
DOF | inf (0.30 m - inf) |
ExifImageHeight | 4000 |
ExifImageWidth | 6000 |
Exposure2012 | +0.45 |
ExposureCompensation | +1/3 |
ExposureMode | Manual |
ExposureProgram | Manual |
ExposureTime | 30 |
Flash | Off, Did not fire |
FNumber | 11.0 |
FocalLength | 10.0 mm |
FocalLength35efl | 10.0 mm (35 mm equivalent: 15.0 mm) |
FocalLengthIn35mmFormat | 15 mm |
Format | image/jpeg |
FOV | 100.4 deg |
GainControl | None |
GrainAmount | 0 |
GreenHue | +64 |
GreenSaturation | +12 |
HasCrop | False |
HasSettings | True |
Highlights2012 | -100 |
HueAdjustmentAqua | 0 |
HueAdjustmentBlue | 0 |
HueAdjustmentGreen | 0 |
HueAdjustmentMagenta | 0 |
HueAdjustmentOrange | 0 |
HueAdjustmentPurple | 0 |
HueAdjustmentRed | 0 |
HueAdjustmentYellow | 0 |
HyperfocalDistance | 0.45 m |
ICCProfileName | sRGB IEC61966-2.1 |
ImageHeight | 4000 |
ImageNumber | 19164 |
ImageSize | 6000x4000 |
ImageWidth | 6000 |
IncrementalTemperature | 0 |
IncrementalTint | 0 |
ISO | 100 |
Lens | 10.0-24.0 mm f/3.5-4.5 |
LensID (1) | 161 |
LensID | AF-S DX Nikkor 10-24mm f/3.5-4.5G ED |
LensInfo | 10-24mm f/3.5-4.5 |
LensManualDistortionAmount | 0 |
LensModel | 10.0-24.0 mm f/3.5-4.5 |
LensProfileEnable | 0 |
LensProfileSetup | LensDefaults |
LightSource | Unknown |
LightValue | 2.0 |
LuminanceAdjustmentAqua | 0 |
LuminanceAdjustmentBlue | 0 |
LuminanceAdjustmentGreen | 0 |
LuminanceAdjustmentMagenta | 0 |
LuminanceAdjustmentOrange | 0 |
LuminanceAdjustmentPurple | 0 |
LuminanceAdjustmentRed | 0 |
LuminanceAdjustmentYellow | 0 |
LuminanceNoiseReductionContrast | 0 |
LuminanceNoiseReductionDetail | 50 |
LuminanceSmoothing | 25 |
Make | NIKON CORPORATION |
MaxApertureValue | 3.5 |
Megapixels | 24.0 |
MeteringMode | Multi-segment |
Model | NIKON D7200 |
ModifyDate (1) | 2017:08:03 22:23:17+02:00 |
ModifyDate | 2017:08:03 22:23:17 |
Orientation | Horizontal (normal) |
PaintCorrectionActive | true |
PaintCorrectionAmount | 1.000000 |
PaintCorrectionBrightness | 0.000000 |
PaintCorrectionClarity2012 (1) | 0.703066 |
PaintCorrectionClarity2012 (3) | 0.477385 |
PaintCorrectionClarity2012 (5) | 0.002702 |
PaintCorrectionClarity2012 | 0.753466 |
PaintCorrectionContrast2012 (2) | 0.400023 |
PaintCorrectionContrast2012 (3) | 0.473156 |
PaintCorrectionContrast2012 | -0.016939 |
PaintCorrectionDefringe | 0.000000 |
PaintCorrectionExposure2012 (1) | 0.272380 |
PaintCorrectionExposure2012 (2) | 0.147968 |
PaintCorrectionExposure2012 (3) | 0.241248 |
PaintCorrectionExposure2012 (4) | 0.586466 |
PaintCorrectionExposure2012 (5) | 0.345923 |
PaintCorrectionExposure2012 (6) | 0.443022 |
PaintCorrectionExposure2012 | 0.168879 |
PaintCorrectionHighlights2012 (2) | 0.000000 |
PaintCorrectionHighlights2012 | -0.010750 |
PaintCorrectionHue | 0.000000 |
PaintCorrectionLocalBlacks2012 | 0.000000 |
PaintCorrectionLocalDehaze | 0.000000 |
PaintCorrectionLocalWhites2012 (2) | 0.320312 |
PaintCorrectionLocalWhites2012 (4) | 0.587993 |
PaintCorrectionLocalWhites2012 (6) | 0.000000 |
PaintCorrectionLocalWhites2012 | 0.566788 |
PaintCorrectionLuminanceNoise | 0.000000 |
PaintCorrectionMaskCenterWeight | 0.173890 |
PaintCorrectionMaskFlow | 0.461659 |
PaintCorrectionMaskRadius (15) | 0.063753 |
PaintCorrectionMaskRadius (21) | 0.094397 |
PaintCorrectionMaskRadius (23) | 0.035853 |
PaintCorrectionMaskRadius (24) | 0.105222 |
PaintCorrectionMaskRadius (5) | 0.145510 |
PaintCorrectionMaskRadius (6) | 0.089099 |
PaintCorrectionMaskRadius | 0.010697 |
PaintCorrectionMaskValue | 1.000000 |
PaintCorrectionMaskWhat | Mask/Paint |
PaintCorrectionMoire | 0.000000 |
PaintCorrectionSaturation (13) | 0.369361 |
PaintCorrectionSaturation (3) | 0.057331 |
PaintCorrectionSaturation (5) | 0.055686 |
PaintCorrectionSaturation (9) | 0.243832 |
PaintCorrectionSaturation | 0.000000 |
PaintCorrectionShadows2012 (2) | 0.485432 |
PaintCorrectionShadows2012 (3) | 0.305627 |
PaintCorrectionShadows2012 (6) | 0.000000 |
PaintCorrectionShadows2012 | -0.491776 |
PaintCorrectionSharpness | 0.000000 |
PaintCorrectionTemperature | 0.000000 |
PaintCorrectionTint | 0.000000 |
PaintCorrectionWhat | Correction |
ParametricDarks | 0 |
ParametricHighlights | 0 |
ParametricHighlightSplit | 75 |
ParametricLights | 0 |
ParametricMidtoneSplit | 50 |
ParametricShadows | 0 |
ParametricShadowSplit | 25 |
PerspectiveAspect | 0 |
PerspectiveHorizontal | 0 |
PerspectiveRotate | 0.0 |
PerspectiveScale | 100 |
PerspectiveUpright | 0 |
PerspectiveVertical | 0 |
PerspectiveX | 0.00 |
PerspectiveY | 0.00 |
PhotometricInterpretation | RGB |
PostCropVignetteAmount | 0 |
ProcessVersion | 6.7 |
ProfileDescription | sRGB IEC61966-2.1 |
RedHue | -48 |
RedSaturation | -100 |
SamplesPerPixel | 3 |
Saturation (1) | 0 |
Saturation | Normal |
SaturationAdjustmentAqua | 0 |
SaturationAdjustmentBlue | 0 |
SaturationAdjustmentGreen | 0 |
SaturationAdjustmentMagenta | 0 |
SaturationAdjustmentOrange | 0 |
SaturationAdjustmentPurple | 0 |
SaturationAdjustmentRed | 0 |
SaturationAdjustmentYellow | 0 |
ScaleFactor35efl | 1.5 |
SceneCaptureType | Standard |
SceneType | Directly photographed |
SensingMethod | One-chip color area |
SensitivityType | Recommended Exposure Index |
SerialNumber | 4324389 |
Shadows2012 | +58 |
ShadowTint | 0 |
SharpenDetail | 25 |
SharpenEdgeMasking | 54 |
SharpenRadius | +1.0 |
Sharpness (1) | 70 |
Sharpness | Normal |
ShutterSpeed | 30 |
ShutterSpeedValue | 30 |
Software | Adobe Photoshop CC 2017 (Macintosh) |
SplitToningBalance | 0 |
SplitToningHighlightHue | 0 |
SplitToningHighlightSaturation | 0 |
SplitToningShadowHue | 0 |
SplitToningShadowSaturation | 0 |
SubjectDistanceRange | Unknown |
ToneCurve | 0, 0, 255, 255 |
ToneCurveBlue | 0, 0, 255, 255 |
ToneCurveGreen | 0, 0, 255, 255 |
ToneCurveName | Linear |
ToneCurveName2012 | Custom |
ToneCurvePV2012 | 0, 0, 167, 129, 255, 255 |
ToneCurvePV2012Blue | 0, 0, 255, 255 |
ToneCurvePV2012Green | 0, 0, 255, 255 |
ToneCurvePV2012Red | 0, 0, 255, 255 |
ToneCurveRed | 0, 0, 255, 255 |
ToneMapStrength | 0 |
URL_List | |
Version | 9.10.1 |
Vibrance | 0 |
VignetteAmount | 0 |
WhiteBalance (1) | As Shot |
WhiteBalance | Auto |
Whites2012 | 0 |