Felt | Verdi |
AlreadyApplied | True |
Aperture | 7.1 |
ApertureValue | 7.1 |
ApproximateFocusDistance | 4294967295 |
Artist | Mikkel Nordbaek |
AutoLateralCA | 1 |
AutoWhiteVersion | 134348800 |
BitsPerSample | 8 |
Blacks2012 | -31 |
BlueHue | 0 |
BlueSaturation | 0 |
By-line | Mikkel Nordbaek |
CameraProfile | Adobe Standard |
CircleOfConfusion | 0.025 mm |
Clarity2012 | -13 |
ColorComponents | 3 |
ColorNoiseReduction | 25 |
ColorNoiseReductionDetail | 50 |
ColorNoiseReductionSmoothness | 50 |
ColorSpace | sRGB |
ColorTemperature | 8306 |
ColorTransform | YCbCr |
Contrast2012 | 0 |
ConvertToGrayscale | False |
Copyright | Mikkel Nordbaek |
CopyrightNotice | Mikkel Nordbaek |
CreateDate (1) | 2017:07:29 22:15:36.02 |
CreateDate | 2017:07:29 22:15:36 |
Creator | Mikkel Nordbaek |
CreatorTool | Adobe Photoshop Lightroom 6.6.1 (Windows) |
CropAngle | 0.11496 |
CropBottom | 0.891346 |
CropConstrainToWarp | 0 |
CropLeft | 0.183228 |
CropRight | 0.978743 |
CropTop | 0 |
CustomRendered | Normal |
DateCreated (1) | 2017:07:29 |
DateCreated | 2017:07:29 22:15:36.02 |
DateTimeOriginal | 2017:07:29 22:15:36 |
DefringeGreenAmount | 0 |
DefringeGreenHueHi | 60 |
DefringeGreenHueLo | 40 |
DefringePurpleAmount | 0 |
DefringePurpleHueHi | 70 |
DefringePurpleHueLo | 30 |
Dehaze | 0 |
DOF | inf (1.64 m - inf) |
Exposure2012 | +0.44 |
ExposureCompensation | 0 |
ExposureMode | Manual |
ExposureProgram | Manual |
ExposureTime | 30 |
Firmware | 1.1.6 |
Flash | Off, Did not fire |
FlashCompensation | 0 |
FNumber | 7.1 |
FocalLength | 17.0 mm |
FocalLength35efl | 17.0 mm (35 mm equivalent: 20.6 mm) |
Format | image/jpeg |
FOV | 82.4 deg |
GradientBasedCorrActive | true |
GradientBasedCorrAmount | 1.000000 |
GradientBasedCorrBrightness | 0.000000 |
GradientBasedCorrClarity2012 (1) | -0.338240 |
GradientBasedCorrClarity2012 | 0.000000 |
GradientBasedCorrContrast2012 | 0.000000 |
GradientBasedCorrDefringe | 0.000000 |
GradientBasedCorrExposure2012 (1) | 0.191250 |
GradientBasedCorrExposure2012 | -0.250000 |
GradientBasedCorrHighlights2012 | 0.000000 |
GradientBasedCorrHue | 240.000000 |
GradientBasedCorrLocalBlacks2012 | 0.000000 |
GradientBasedCorrLocalDehaze | 0.000000 |
GradientBasedCorrLocalWhites2012 | 0.000000 |
GradientBasedCorrLuminanceNoise | 0.308820 |
GradientBasedCorrMaskFullX (1) | 0.545886 |
GradientBasedCorrMaskFullX | 0.545732 |
GradientBasedCorrMaskFullY (1) | 0.382444 |
GradientBasedCorrMaskFullY | 0.027472 |
GradientBasedCorrMaskValue | 1.000000 |
GradientBasedCorrMaskWhat | Mask/Gradient |
GradientBasedCorrMaskZeroX (1) | 0.545991 |
GradientBasedCorrMaskZeroX | 0.546896 |
GradientBasedCorrMaskZeroY (1) | 0.448570 |
GradientBasedCorrMaskZeroY | 0.357322 |
GradientBasedCorrMoire | 0.000000 |
GradientBasedCorrSaturation | 0.000000 |
GradientBasedCorrShadows2012 | 0.000000 |
GradientBasedCorrSharpness | 0.000000 |
GradientBasedCorrTemperature | 0.000000 |
GradientBasedCorrTint | 0.000000 |
GradientBasedCorrWhat | Correction |
GrainAmount | 0 |
GreenHue | 0 |
GreenSaturation | 0 |
HasCrop | True |
HasExtendedXMP | B2CA3C7035E219E558D5A36D2AFC8366 |
HasSettings | True |
Highlights2012 | 0 |
HueAdjustmentAqua | 0 |
HueAdjustmentBlue | 0 |
HueAdjustmentGreen | 0 |
HueAdjustmentMagenta | 0 |
HueAdjustmentOrange | 0 |
HueAdjustmentPurple | 0 |
HueAdjustmentRed | 0 |
HueAdjustmentYellow | 0 |
HyperfocalDistance | 1.64 m |
ImageHeight | 3243 |
ImageNumber | 0 |
ImageSize | 4360x3243 |
ImageWidth | 4360 |
ISO | 100 |
Lens | EF17-40mm f/4L USM |
LensID (1) | 231 |
LensID | Canon EF 17-40mm f/4L USM |
LensInfo | 17-40mm f/? |
LensManualDistortionAmount | 0 |
LensModel | EF17-40mm f/4L USM |
LensProfileChromaticAberrationScale | 100 |
LensProfileDistortionScale | 100 |
LensProfileEnable | 1 |
LensProfileFilename | Canon EOS-1Ds Mark III (Canon EF 17-40mm f4 L USM) - RAW.lcp |
LensProfileName | Adobe (Canon EF 17-40mm f/4 L USM) |
LensProfileSetup | LensDefaults |
LensProfileVignettingScale | 100 |
LensSerialNumber | 0000000000 |
LightValue | 0.7 |
LuminanceAdjustmentAqua | 0 |
LuminanceAdjustmentBlue | 0 |
LuminanceAdjustmentGreen | 0 |
LuminanceAdjustmentMagenta | 0 |
LuminanceAdjustmentOrange | 0 |
LuminanceAdjustmentPurple | 0 |
LuminanceAdjustmentRed | 0 |
LuminanceAdjustmentYellow | 0 |
LuminanceNoiseReductionContrast | 0 |
LuminanceNoiseReductionDetail | 50 |
LuminanceSmoothing | 28 |
Make | Canon |
MaxApertureValue | 4.0 |
Megapixels | 14.1 |
MeteringMode | Multi-segment |
Model | Canon EOS 6D |
ModifyDate (1) | 2017:08:05 14:11:40+02:00 |
ModifyDate | 2017:08:05 14:11:40 |
PaintCorrectionActive | true |
PaintCorrectionAmount | 1.000000 |
PaintCorrectionBrightness | 0.000000 |
PaintCorrectionClarity2012 (2) | 0.617650 |
PaintCorrectionClarity2012 | 0.000000 |
PaintCorrectionContrast2012 (2) | 0.205880 |
PaintCorrectionContrast2012 | 0.000000 |
PaintCorrectionDefringe | 0.000000 |
PaintCorrectionExposure2012 (1) | 0.220500 |
PaintCorrectionExposure2012 (2) | -0.147000 |
PaintCorrectionExposure2012 (3) | 0.058750 |
PaintCorrectionExposure2012 | 0.411750 |
PaintCorrectionHighlights2012 (2) | -0.205880 |
PaintCorrectionHighlights2012 | 0.000000 |
PaintCorrectionHue | 240.000000 |
PaintCorrectionLocalBlacks2012 | 0.000000 |
PaintCorrectionLocalDehaze | 0.000000 |
PaintCorrectionLocalWhites2012 | 0.000000 |
PaintCorrectionLuminanceNoise | 0.000000 |
PaintCorrectionMaskCenterWeight | 0.000000 |
PaintCorrectionMaskFlow (17) | 0.878000 |
PaintCorrectionMaskFlow (77) | 0.892000 |
PaintCorrectionMaskFlow | 1.000000 |
PaintCorrectionMaskRadius (1) | 0.066744 |
PaintCorrectionMaskRadius (10) | 0.041273 |
PaintCorrectionMaskRadius (11) | 0.044177 |
PaintCorrectionMaskRadius (12) | 0.043749 |
PaintCorrectionMaskRadius (13) | 0.060168 |
PaintCorrectionMaskRadius (14) | 0.052975 |
PaintCorrectionMaskRadius (15) | 0.051159 |
PaintCorrectionMaskRadius (16) | 0.091692 |
PaintCorrectionMaskRadius (17) | 0.081673 |
PaintCorrectionMaskRadius (18) | 0.080194 |
PaintCorrectionMaskRadius (19) | 0.046369 |
PaintCorrectionMaskRadius (2) | 0.121411 |
PaintCorrectionMaskRadius (20) | 0.020306 |
PaintCorrectionMaskRadius (21) | 0.030323 |
PaintCorrectionMaskRadius (22) | 0.033017 |
PaintCorrectionMaskRadius (23) | 0.033204 |
PaintCorrectionMaskRadius (24) | 0.033740 |
PaintCorrectionMaskRadius (25) | 0.034601 |
PaintCorrectionMaskRadius (26) | 0.034745 |
PaintCorrectionMaskRadius (27) | 0.036225 |
PaintCorrectionMaskRadius (28) | 0.036103 |
PaintCorrectionMaskRadius (29) | 0.036081 |
PaintCorrectionMaskRadius (3) | 0.051279 |
PaintCorrectionMaskRadius (30) | 0.035508 |
PaintCorrectionMaskRadius (31) | 0.020234 |
PaintCorrectionMaskRadius (32) | 0.021130 |
PaintCorrectionMaskRadius (33) | 0.015423 |
PaintCorrectionMaskRadius (34) | 0.059242 |
PaintCorrectionMaskRadius (35) | 0.010772 |
PaintCorrectionMaskRadius (36) | 0.010457 |
PaintCorrectionMaskRadius (37) | 0.020470 |
PaintCorrectionMaskRadius (38) | 0.021176 |
PaintCorrectionMaskRadius (39) | 0.020413 |
PaintCorrectionMaskRadius (4) | 0.051501 |
PaintCorrectionMaskRadius (40) | 0.020401 |
PaintCorrectionMaskRadius (41) | 0.020309 |
PaintCorrectionMaskRadius (42) | 0.020305 |
PaintCorrectionMaskRadius (43) | 0.028349 |
PaintCorrectionMaskRadius (44) | 0.028557 |
PaintCorrectionMaskRadius (45) | 0.027358 |
PaintCorrectionMaskRadius (46) | 0.016089 |
PaintCorrectionMaskRadius (47) | 0.079644 |
PaintCorrectionMaskRadius (48) | 0.077558 |
PaintCorrectionMaskRadius (49) | 0.057927 |
PaintCorrectionMaskRadius (5) | 0.048430 |
PaintCorrectionMaskRadius (50) | 0.057695 |
PaintCorrectionMaskRadius (51) | 0.059927 |
PaintCorrectionMaskRadius (52) | 0.050604 |
PaintCorrectionMaskRadius (53) | 0.041115 |
PaintCorrectionMaskRadius (54) | 0.100260 |
PaintCorrectionMaskRadius (55) | 0.103478 |
PaintCorrectionMaskRadius (56) | 0.117384 |
PaintCorrectionMaskRadius (57) | 0.089452 |
PaintCorrectionMaskRadius (58) | 0.068271 |
PaintCorrectionMaskRadius (59) | 0.034764 |
PaintCorrectionMaskRadius (6) | 0.046381 |
PaintCorrectionMaskRadius (60) | 0.022880 |
PaintCorrectionMaskRadius (61) | 0.017292 |
PaintCorrectionMaskRadius (62) | 0.028527 |
PaintCorrectionMaskRadius (63) | 0.028332 |
PaintCorrectionMaskRadius (64) | 0.011587 |
PaintCorrectionMaskRadius (65) | 0.011103 |
PaintCorrectionMaskRadius (66) | 0.011946 |
PaintCorrectionMaskRadius (67) | 0.011665 |
PaintCorrectionMaskRadius (68) | 0.022403 |
PaintCorrectionMaskRadius (69) | 0.022707 |
PaintCorrectionMaskRadius (7) | 0.044011 |
PaintCorrectionMaskRadius (70) | 0.022944 |
PaintCorrectionMaskRadius (71) | 0.017468 |
PaintCorrectionMaskRadius (72) | 0.014180 |
PaintCorrectionMaskRadius (73) | 0.006400 |
PaintCorrectionMaskRadius (74) | 0.006504 |
PaintCorrectionMaskRadius (75) | 0.086584 |
PaintCorrectionMaskRadius (76) | 0.083713 |
PaintCorrectionMaskRadius (77) | 0.084844 |
PaintCorrectionMaskRadius (78) | 0.066698 |
PaintCorrectionMaskRadius (79) | 0.066755 |
PaintCorrectionMaskRadius (8) | 0.083769 |
PaintCorrectionMaskRadius (80) | 0.071488 |
PaintCorrectionMaskRadius (81) | 0.069420 |
PaintCorrectionMaskRadius (82) | 0.067742 |
PaintCorrectionMaskRadius (83) | 0.054235 |
PaintCorrectionMaskRadius (84) | 0.047640 |
PaintCorrectionMaskRadius (85) | 0.053810 |
PaintCorrectionMaskRadius (86) | 0.051574 |
PaintCorrectionMaskRadius (87) | 0.032261 |
PaintCorrectionMaskRadius (88) | 0.026680 |
PaintCorrectionMaskRadius (89) | 0.025763 |
PaintCorrectionMaskRadius (9) | 0.040328 |
PaintCorrectionMaskRadius (90) | 0.028965 |
PaintCorrectionMaskRadius (91) | 0.029131 |
PaintCorrectionMaskRadius (92) | 0.069456 |
PaintCorrectionMaskRadius (93) | 0.068966 |
PaintCorrectionMaskRadius | 0.034133 |
PaintCorrectionMaskValue (4) | 0.899000 |
PaintCorrectionMaskValue (43) | 0.833000 |
PaintCorrectionMaskValue (61) | 1.000000 |
PaintCorrectionMaskValue (88) | 0.891000 |
PaintCorrectionMaskValue | 0.000000 |
PaintCorrectionMaskWhat | Mask/Paint |
PaintCorrectionMoire | 0.000000 |
PaintCorrectionSaturation | 0.000000 |
PaintCorrectionShadows2012 (2) | -0.250000 |
PaintCorrectionShadows2012 | 0.000000 |
PaintCorrectionSharpness | 0.000000 |
PaintCorrectionTemperature | 0.000000 |
PaintCorrectionTint | 0.000000 |
PaintCorrectionWhat | Correction |
ParametricDarks | -2 |
ParametricHighlights | 0 |
ParametricHighlightSplit | 75 |
ParametricLights | +7 |
ParametricMidtoneSplit | 50 |
ParametricShadows | 0 |
ParametricShadowSplit | 25 |
PerspectiveAspect | 0 |
PerspectiveHorizontal | 0 |
PerspectiveRotate | 0.0 |
PerspectiveScale | 100 |
PerspectiveUpright | 1 |
PerspectiveVertical | 0 |
PerspectiveX | 0.00 |
PerspectiveY | 0.00 |
PostCropVignetteAmount | -9 |
PostCropVignetteFeather | 50 |
PostCropVignetteHighlightContrast | 0 |
PostCropVignetteMidpoint | 50 |
PostCropVignetteRoundness | 0 |
PostCropVignetteStyle | 1 |
ProcessVersion | 6.7 |
ProfileDescription | sRGB IEC61966-2.1 |
RecommendedExposureIndex | 100 |
RedHue | 0 |
RedSaturation | 0 |
Rights | Mikkel Nordbaek |
Saturation | -100 |
SaturationAdjustmentAqua | 0 |
SaturationAdjustmentBlue | 0 |
SaturationAdjustmentGreen | 0 |
SaturationAdjustmentMagenta | 0 |
SaturationAdjustmentOrange | 0 |
SaturationAdjustmentPurple | 0 |
SaturationAdjustmentRed | 0 |
SaturationAdjustmentYellow | 0 |
ScaleFactor35efl | 1.2 |
SceneCaptureType | Standard |
SensitivityType | Recommended Exposure Index |
SerialNumber | 023052000141 |
Shadows2012 | +38 |
ShadowTint | 0 |
SharpenDetail | 25 |
SharpenEdgeMasking | 58 |
SharpenRadius | +1.0 |
Sharpness | 66 |
ShutterSpeed | 30 |
ShutterSpeedValue | 30 |
Software | Adobe Photoshop Lightroom 6.6.1 (Windows) |
SplitToningBalance | 0 |
SplitToningHighlightHue | 0 |
SplitToningHighlightSaturation | 0 |
SplitToningShadowHue | 0 |
SplitToningShadowSaturation | 0 |
Tint | +26 |
ToneCurve | 0, 0, 255, 255 |
ToneCurveBlue | 0, 0, 255, 255 |
ToneCurveGreen | 0, 0, 255, 255 |
ToneCurveName | Linear |
ToneCurveName2012 | Linear |
ToneCurvePV2012 | 0, 0, 255, 255 |
ToneCurvePV2012Blue | 0, 0, 255, 255 |
ToneCurvePV2012Green | 0, 0, 255, 255 |
ToneCurvePV2012Red | 0, 0, 255, 255 |
ToneCurveRed | 0, 0, 255, 255 |
ToneMapStrength | 0 |
Version | 9.6 |
Vibrance | 0 |
VignetteAmount | 0 |
WhiteBalance (1) | Custom |
WhiteBalance | Auto |
Whites2012 | 0 |