Felt | Verdi |
AlreadyApplied | True |
Aperture | 9.0 |
ApertureValue | 9.0 |
ApproximateFocusDistance | 3.72 |
Artist | Mikkel Nordbaek |
AutoLateralCA | 1 |
AutoWhiteVersion | 134348800 |
BitsPerSample | 8 |
BlackClip | 1.100 |
Blacks2012 | -6 |
BlueHue | 0 |
BlueSaturation | 0 |
By-line | Mikkel Nordbaek |
CameraProfile | Embedded |
CircleOfConfusion | 0.029 mm |
Clarity2012 | +26 |
ColorComponents | 3 |
ColorNoiseReduction | 0 |
ColorSpace | sRGB |
ColorTemperature | 3.3 |
ColorTransform | YCbCr |
Contrast2012 | +12 |
ConvertToGrayscale | False |
Copyright | Mikkel Nordbaek |
CopyrightNotice | Mikkel Nordbaek |
CreateDate (1) | 2017:07:14 22:04:54.89 |
CreateDate | 2017:07:14 22:04:54 |
Creator | Mikkel Nordbaek |
CreatorTool | Adobe Photoshop Lightroom 6.6.1 (Windows) |
CropAngle | -0.5 |
CropBottom | 0.987649 |
CropConstrainToWarp | 0 |
CropLeft | 0.047493 |
CropRight | 0.996799 |
CropTop | 0.012351 |
CustomRendered | Normal |
DateCreated (1) | 2017:07:14 |
DateCreated | 2017:07:14 22:04:54.89 |
DateTimeOriginal | 2017:07:14 22:04:54 |
DefringeGreenAmount | 0 |
DefringeGreenHueHi | 60 |
DefringeGreenHueLo | 40 |
DefringePurpleAmount | 0 |
DefringePurpleHueHi | 70 |
DefringePurpleHueLo | 30 |
Dehaze | 0 |
DOF | 593.64 m (1.87 - 595.50 m) |
Exposure2012 | 0.00 |
ExposureCompensation | 0 |
ExposureMode | Manual |
ExposureProgram | Manual |
ExposureTime | 1/15 |
Firmware | 1.1.6 |
Flash | Off, Did not fire |
FlashCompensation | 0 |
FNumber | 9.0 |
FocalLength | 31.0 mm |
FocalLength35efl | 31.0 mm (35 mm equivalent: 32.4 mm) |
Format | image/jpeg |
FOV | 58.1 deg |
GrainAmount | 0 |
GreenHue | 0 |
GreenSaturation | 0 |
HasCrop | True |
HasSettings | True |
Highlights2012 | -100 |
HueAdjustmentAqua | 0 |
HueAdjustmentBlue | 0 |
HueAdjustmentGreen | 0 |
HueAdjustmentMagenta | 0 |
HueAdjustmentOrange | 0 |
HueAdjustmentPurple | 0 |
HueAdjustmentRed | 0 |
HueAdjustmentYellow | 0 |
HyperfocalDistance | 3.71 m |
ImageHeight | 3603 |
ImageNumber | 0 |
ImageSize | 5163x3603 |
ImageWidth | 5163 |
IncrementalTemperature | +3 |
IncrementalTint | +9 |
ISO | 100 |
IsPano360 | No |
Lens | EF17-40mm f/4L USM |
LensID (1) | 231 |
LensID | Canon EF 17-40mm f/4L USM |
LensInfo | 17-40mm f/? |
LensManualDistortionAmount | 0 |
LensModel | EF17-40mm f/4L USM |
LensProfileChromaticAberrationScale | 100 |
LensProfileDistortionScale | 100 |
LensProfileEnable | 1 |
LensProfileFilename | Canon EOS-1Ds Mark III (Canon EF 17-40mm f4 L USM).lcp |
LensProfileName | Adobe (Canon EF 17-40mm f/4 L USM) |
LensProfileSetup | LensDefaults |
LensProfileVignettingScale | 100 |
LensSerialNumber | 0000000000 |
LightingEffect | 21.0 |
LightValue | 10.2 |
LuminanceAdjustmentAqua | -3 |
LuminanceAdjustmentBlue | +10 |
LuminanceAdjustmentGreen | -6 |
LuminanceAdjustmentMagenta | 0 |
LuminanceAdjustmentOrange | 0 |
LuminanceAdjustmentPurple | 0 |
LuminanceAdjustmentRed | -7 |
LuminanceAdjustmentYellow | -4 |
LuminanceNoiseReductionContrast | 0 |
LuminanceNoiseReductionDetail | 50 |
LuminanceSmoothing | 10 |
Make | Canon |
MaxApertureValue | 4.0 |
Megapixels | 18.6 |
MeteringMode | Multi-segment |
Method | Contrast Optimizer |
Midtone | -0.5 |
Model | Canon EOS 6D |
ModifyDate (1) | 2017:07:21 21:35:14+02:00 |
ModifyDate | 2017:07:21 21:35:14 |
PaintCorrectionActive | true |
PaintCorrectionAmount | 1.000000 |
PaintCorrectionBrightness | 0.000000 |
PaintCorrectionClarity2012 (1) | 0.000000 |
PaintCorrectionClarity2012 | 0.102940 |
PaintCorrectionContrast2012 (1) | 0.000000 |
PaintCorrectionContrast2012 | 0.073530 |
PaintCorrectionDefringe | 0.000000 |
PaintCorrectionExposure2012 (1) | -0.014750 |
PaintCorrectionExposure2012 | 0.073500 |
PaintCorrectionHighlights2012 (1) | 0.000000 |
PaintCorrectionHighlights2012 | 0.044120 |
PaintCorrectionHue (1) | 21.000000 |
PaintCorrectionHue | 240.000000 |
PaintCorrectionLocalBlacks2012 | 0.000000 |
PaintCorrectionLocalDehaze | 0.000000 |
PaintCorrectionLocalWhites2012 | 0.000000 |
PaintCorrectionLuminanceNoise (1) | 0.102940 |
PaintCorrectionLuminanceNoise | 0.000000 |
PaintCorrectionMaskCenterWeight | 0.000000 |
PaintCorrectionMaskFlow | 1.000000 |
PaintCorrectionMaskRadius (1) | 0.101801 |
PaintCorrectionMaskRadius (10) | 0.057955 |
PaintCorrectionMaskRadius (11) | 0.064663 |
PaintCorrectionMaskRadius (12) | 0.044612 |
PaintCorrectionMaskRadius (13) | 0.044514 |
PaintCorrectionMaskRadius (14) | 0.038159 |
PaintCorrectionMaskRadius (16) | 0.038043 |
PaintCorrectionMaskRadius (17) | 0.025462 |
PaintCorrectionMaskRadius (18) | 0.031588 |
PaintCorrectionMaskRadius (19) | 0.025318 |
PaintCorrectionMaskRadius (2) | 0.100706 |
PaintCorrectionMaskRadius (20) | 0.064698 |
PaintCorrectionMaskRadius (21) | 0.051174 |
PaintCorrectionMaskRadius (22) | 0.025379 |
PaintCorrectionMaskRadius (3) | 0.071733 |
PaintCorrectionMaskRadius (4) | 0.051380 |
PaintCorrectionMaskRadius (5) | 0.051195 |
PaintCorrectionMaskRadius (6) | 0.052307 |
PaintCorrectionMaskRadius (7) | 0.051571 |
PaintCorrectionMaskRadius (8) | 0.093221 |
PaintCorrectionMaskRadius (9) | 0.093371 |
PaintCorrectionMaskRadius | 0.013244 |
PaintCorrectionMaskValue (17) | 1.000000 |
PaintCorrectionMaskValue | 0.000000 |
PaintCorrectionMaskWhat | Mask/Paint |
PaintCorrectionMoire | 0.000000 |
PaintCorrectionSaturation (2) | 0.620000 |
PaintCorrectionSaturation | 0.000000 |
PaintCorrectionShadows2012 | 0.000000 |
PaintCorrectionSharpness (1) | 0.000000 |
PaintCorrectionSharpness | 0.264710 |
PaintCorrectionTemperature | 0.000000 |
PaintCorrectionTint (1) | 0.029410 |
PaintCorrectionTint | 0.000000 |
PaintCorrectionWhat | Correction |
ParametricDarks | 0 |
ParametricHighlights | +23 |
ParametricHighlightSplit | 75 |
ParametricLights | 0 |
ParametricMidtoneSplit | 50 |
ParametricShadows | 0 |
ParametricShadowSplit | 25 |
PerspectiveAspect | 0 |
PerspectiveHorizontal | 0 |
PerspectiveRotate | 0.0 |
PerspectiveScale | 100 |
PerspectiveUpright | 1 |
PerspectiveVertical | 0 |
PerspectiveX | 0.00 |
PerspectiveY | 0.00 |
PostCropVignetteAmount | 0 |
ProcessVersion | 6.7 |
ProfileDescription | sRGB IEC61966-2.1 |
RecommendedExposureIndex | 100 |
RedHue | 0 |
RedSaturation | 0 |
Rights | Mikkel Nordbaek |
Saturation (1) | +9 |
Saturation | 4.7 |
SaturationAdjustmentAqua | +61 |
SaturationAdjustmentBlue | +31 |
SaturationAdjustmentGreen | +41 |
SaturationAdjustmentMagenta | 0 |
SaturationAdjustmentOrange | +8 |
SaturationAdjustmentPurple | 0 |
SaturationAdjustmentRed | +34 |
SaturationAdjustmentYellow | +11 |
ScaleFactor35efl | 1.0 |
SceneCaptureType | Standard |
SensitivityType | Recommended Exposure Index |
SerialNumber | 023052000141 |
Shadows2012 | 0 |
ShadowTint | 0 |
SharpenDetail | 25 |
SharpenEdgeMasking | 71 |
SharpenRadius | +1.0 |
Sharpness | 52 |
ShutterSpeed | 1/15 |
ShutterSpeedValue | 1/15 |
Software | Adobe Photoshop Lightroom 6.6.1 (Windows) |
SplitToningBalance | 0 |
SplitToningHighlightHue | 34 |
SplitToningHighlightSaturation | 13 |
SplitToningShadowHue | 243 |
SplitToningShadowSaturation | 5 |
Strength | 76.0 |
ToneCompression | 6.2 |
ToneCurve | 0, 0, 255, 255 |
ToneCurveBlue | 0, 0, 255, 255 |
ToneCurveGreen | 0, 0, 255, 255 |
ToneCurveName | Linear |
ToneCurveName2012 | Custom |
ToneCurvePV2012 | 0, 0, 67, 64, 165, 187, 255, 255 |
ToneCurvePV2012Blue | 0, 0, 69, 60, 189, 198, 255, 255 |
ToneCurvePV2012Green | 0, 0, 255, 255 |
ToneCurvePV2012Red | 0, 0, 65, 63, 128, 139, 218, 236, 255, 255 |
ToneCurveRed | 0, 0, 255, 255 |
ToneMapStrength | 0 |
Version (1) | 5.1 |
Version | 9.6 |
Vibrance | +6 |
VignetteAmount | 0 |
WhiteBalance (1) | Custom |
WhiteBalance | Auto |
WhiteClip | 2.300 |
Whites2012 | +16 |