Felt | Verdi |
AlreadyApplied | True |
Aperture | 9.0 |
ApertureValue | 9.0 |
ApproximateFocusDistance | 3.72 |
Artist | Mikkel Nordbaek |
AutoLateralCA | 1 |
AutoWhiteVersion | 134348800 |
BitsPerSample | 8 |
BlackClip | 0.304662 |
Blacks2012 | -15 |
BlueHue | 0 |
BlueSaturation | 0 |
By-line | Mikkel Nordbaek |
CameraProfile | Embedded |
CircleOfConfusion | 0.027 mm |
Clarity2012 | +22 |
ColorComponents | 3 |
ColorNoiseReduction | 0 |
ColorSaturation | 30.0 |
ColorSpace | sRGB |
ColorTemperature | -0.8 |
Contrast2012 | +41 |
ConvertToGrayscale | False |
Copyright | Mikkel Nordbaek |
CopyrightNotice | Mikkel Nordbaek |
CreateDate (1) | 2017:01:08 12:14:43.12 |
CreateDate | 2017:01:08 12:14:43 |
Creator | Mikkel Nordbaek |
CreatorTool | Adobe Photoshop Lightroom 6.6.1 (Windows) |
CropAngle | 0 |
CropBottom | 0.911414 |
CropConstrainToWarp | 0 |
CropLeft | 0 |
CropRight | 0.972742 |
CropTop | 0 |
CustomRendered | Normal |
DateCreated (1) | 2017:01:08 12:14:43.12 |
DateCreated | 2017:01:08 |
DateTimeOriginal | 2017:01:08 12:14:43 |
DefringeGreenAmount | 0 |
DefringeGreenHueHi | 60 |
DefringeGreenHueLo | 40 |
DefringePurpleAmount | 0 |
DefringePurpleHueHi | 70 |
DefringePurpleHueLo | 30 |
Dehaze | 0 |
DOF | inf (1.66 m - inf) |
ExifImageHeight | 3161 |
ExifImageWidth | 5061 |
Exposure2012 | 0.00 |
ExposureCompensation | 0 |
ExposureMode | Manual |
ExposureProgram | Manual |
ExposureTime | 1/200 |
Firmware | 1.1.6 |
Flash | Off, Did not fire |
FlashCompensation | 0 |
FNumber | 9.0 |
FocalLength | 27.0 mm |
FocalLength35efl | 27.0 mm (35 mm equivalent: 29.8 mm) |
Format | image/jpeg |
FOV | 62.3 deg |
Gamma | 0.95 |
GradientBasedCorrActive | true |
GradientBasedCorrAmount | 1.000000 |
GradientBasedCorrBrightness | 0.000000 |
GradientBasedCorrClarity2012 | 0.000000 |
GradientBasedCorrContrast2012 | 0.000000 |
GradientBasedCorrDefringe | 0.000000 |
GradientBasedCorrExposure2012 (1) | -0.264750 |
GradientBasedCorrExposure2012 (2) | -0.176500 |
GradientBasedCorrExposure2012 | 0.103000 |
GradientBasedCorrHighlights2012 (2) | -0.088240 |
GradientBasedCorrHighlights2012 | 0.367650 |
GradientBasedCorrHue | 240.000000 |
GradientBasedCorrLocalBlacks2012 | 0.000000 |
GradientBasedCorrLocalDehaze | 0.000000 |
GradientBasedCorrLocalWhites2012 | 0.000000 |
GradientBasedCorrLuminanceNoise | 0.000000 |
GradientBasedCorrMaskCenterWeight | 0.000000 |
GradientBasedCorrMaskFlow | 0.835000 |
GradientBasedCorrMaskFullX (1) | 0.089476 |
GradientBasedCorrMaskFullX (2) | 0.729448 |
GradientBasedCorrMaskFullX | 0.922225 |
GradientBasedCorrMaskFullY (1) | 0.843310 |
GradientBasedCorrMaskFullY (2) | 0.907165 |
GradientBasedCorrMaskFullY | 0.175265 |
GradientBasedCorrMaskRadius (1) | 0.059672 |
GradientBasedCorrMaskRadius | 0.059856 |
GradientBasedCorrMaskValue (2) | 0.000000 |
GradientBasedCorrMaskValue | 1.000000 |
GradientBasedCorrMaskWhat (2) | Mask/Paint |
GradientBasedCorrMaskWhat | Mask/Gradient |
GradientBasedCorrMaskZeroX (1) | 0.396902 |
GradientBasedCorrMaskZeroX (2) | 0.714711 |
GradientBasedCorrMaskZeroX | 0.571828 |
GradientBasedCorrMaskZeroY (1) | 0.454260 |
GradientBasedCorrMaskZeroY (2) | 0.647209 |
GradientBasedCorrMaskZeroY | 0.584527 |
GradientBasedCorrMoire | 0.000000 |
GradientBasedCorrSaturation | 0.000000 |
GradientBasedCorrShadows2012 | 0.000000 |
GradientBasedCorrSharpness | 0.000000 |
GradientBasedCorrTemperature (2) | 0.000000 |
GradientBasedCorrTemperature | -0.073530 |
GradientBasedCorrTint | 0.000000 |
GradientBasedCorrWhat | Correction |
GrainAmount | 0 |
GreenHue | 0 |
GreenSaturation | 0 |
HasCrop | True |
HasSettings | True |
Highlights2012 | -60 |
HighlightsSmoothing | 32.0 |
HueAdjustmentAqua | 0 |
HueAdjustmentBlue | 0 |
HueAdjustmentGreen | 0 |
HueAdjustmentMagenta | 0 |
HueAdjustmentOrange | 0 |
HueAdjustmentPurple | 0 |
HueAdjustmentRed | 0 |
HueAdjustmentYellow | 0 |
HyperfocalDistance | 2.97 m |
ImageHeight | 3161 |
ImageNumber | 0 |
ImageSize | 5061x3161 |
ImageWidth | 5061 |
IncrementalTemperature | 0 |
IncrementalTint | 0 |
ISO | 100 |
IsPano360 | No |
Lens | EF17-40mm f/4L USM |
LensID (1) | 231 |
LensID | Canon EF 17-40mm f/4L USM |
LensInfo | 17-40mm f/? |
LensManualDistortionAmount | 0 |
LensModel | EF17-40mm f/4L USM |
LensProfileChromaticAberrationScale | 100 |
LensProfileDistortionScale | 100 |
LensProfileEnable | 1 |
LensProfileFilename | Canon EOS-1Ds Mark III (Canon EF 17-40mm f4 L USM).lcp |
LensProfileName | Adobe (Canon EF 17-40mm f/4 L USM) |
LensProfileSetup | LensDefaults |
LensProfileVignettingScale | 100 |
LensSerialNumber | 0000000000 |
LightValue | 14.0 |
LuminanceAdjustmentAqua | 0 |
LuminanceAdjustmentBlue | -17 |
LuminanceAdjustmentGreen | -79 |
LuminanceAdjustmentMagenta | 0 |
LuminanceAdjustmentOrange | -49 |
LuminanceAdjustmentPurple | 0 |
LuminanceAdjustmentRed | -58 |
LuminanceAdjustmentYellow | 0 |
LuminanceNoiseReductionContrast | 0 |
LuminanceNoiseReductionDetail | 50 |
LuminanceSmoothing | 6 |
Luminosity | 10.0 |
Make | Canon |
MaxApertureValue | 4.0 |
Megapixels | 16.0 |
MeteringMode | Multi-segment |
Method | Details Enhancer |
Microcontrast | 10.0 |
Microsmoothing | 9.2 |
Model | Canon EOS 6D |
ModifyDate (1) | 2017:01:18 21:42:27+01:00 |
ModifyDate | 2017:01:18 21:42:27 |
ParametricDarks | -7 |
ParametricHighlights | -25 |
ParametricHighlightSplit | 75 |
ParametricLights | -21 |
ParametricMidtoneSplit | 50 |
ParametricShadows | -2 |
ParametricShadowSplit | 25 |
PerspectiveAspect | 0 |
PerspectiveHorizontal | 0 |
PerspectiveRotate | 0.0 |
PerspectiveScale | 100 |
PerspectiveUpright | 1 |
PerspectiveVertical | 0 |
PerspectiveX | 0.00 |
PerspectiveY | 0.00 |
PostCropVignetteAmount | -12 |
PostCropVignetteFeather | 50 |
PostCropVignetteHighlightContrast | 0 |
PostCropVignetteMidpoint | 50 |
PostCropVignetteRoundness | 0 |
PostCropVignetteStyle | 1 |
ProcessVersion | 6.7 |
ProfileDescription | sRGB IEC61966-2.1 |
RecommendedExposureIndex | 100 |
RedHue | 0 |
RedSaturation | 0 |
Rights | Mikkel Nordbaek |
Saturation | 0 |
SaturationAdjustmentAqua | 0 |
SaturationAdjustmentBlue | -34 |
SaturationAdjustmentGreen | -94 |
SaturationAdjustmentMagenta | 0 |
SaturationAdjustmentOrange | +24 |
SaturationAdjustmentPurple | 0 |
SaturationAdjustmentRed | +96 |
SaturationAdjustmentYellow | 0 |
SaturationHighlights | -3.0 |
SaturationShadows | -2.0 |
ScaleFactor35efl | 1.1 |
SceneCaptureType | Standard |
SensitivityType | Recommended Exposure Index |
SerialNumber | 023052000141 |
Shadows2012 | +63 |
ShadowsClipping | 0.0 |
ShadowsSmoothing | 0.0 |
ShadowTint | 0 |
SharpenDetail | 25 |
SharpenEdgeMasking | 36 |
SharpenRadius | +1.0 |
Sharpness | 40 |
ShutterSpeed | 1/200 |
ShutterSpeedValue | 1/200 |
Smoothing | High |
SmoothingMode | Light |
Software | Adobe Photoshop Lightroom 6.6.1 (Windows) |
SplitToningBalance | 0 |
SplitToningHighlightHue | 0 |
SplitToningHighlightSaturation | 0 |
SplitToningShadowHue | 0 |
SplitToningShadowSaturation | 0 |
Strength | 100.0 |
ToneCurve | 0, 0, 255, 255 |
ToneCurveBlue | 0, 0, 255, 255 |
ToneCurveGreen | 0, 0, 255, 255 |
ToneCurveName | Linear |
ToneCurveName2012 | Linear |
ToneCurvePV2012 | 0, 0, 255, 255 |
ToneCurvePV2012Blue | 0, 0, 255, 255 |
ToneCurvePV2012Green | 0, 0, 255, 255 |
ToneCurvePV2012Red | 0, 0, 255, 255 |
ToneCurveRed | 0, 0, 255, 255 |
ToneMapStrength | 0 |
Version (1) | 5.1 |
Version | 9.6 |
Vibrance | -7 |
VignetteAmount | 0 |
WhiteBalance (1) | Custom |
WhiteBalance | Auto |
WhiteClip | 0.061682 |
Whites2012 | +4 |