Felt | Verdi |
AlreadyApplied | True |
Aperture | 4.0 |
ApertureValue | 4.0 |
ApproximateFocusDistance | 1 |
AutoLateralCA | 0 |
BitsPerSample (1) | 8 8 8 |
BitsPerSample | 8 |
Blacks2012 | 0 |
BlueHue | 0 |
BlueSaturation | 0 |
Brightness | +50 |
CameraProfile | Adobe Standard |
CFAPattern | [Green,Blue][Red,Green] |
CircleOfConfusion | 0.020 mm |
Clarity | 0 |
Clarity2012 | +10 |
ColorComponents | 3 |
ColorMode | RGB |
ColorNoiseReduction | 25 |
ColorNoiseReductionDetail | 50 |
ColorSpace | Uncalibrated |
ColorTemperature | 6000 |
ColorTransform | YCbCr |
Contrast (1) | +25 |
Contrast | Normal |
Contrast2012 | +4 |
ConvertToGrayscale | False |
CreateDate | 2016:07:17 17:38:01 |
CreatorTool | Adobe Photoshop CS6 (Windows) |
CropAngle | 0.367261 |
CropBottom | 0.970977 |
CropConstrainToWarp | 1 |
CropHeight | 3 |
CropLeft | 0.020385 |
CropRight | 0.974432 |
CropTop | 0 |
CropUnit | Unknown (3) |
CropWidth | 2 |
CustomRendered | Normal |
DateCreated (1) | 2016:07:17 |
DateCreated | 2016:07:17 17:38:01 |
DateTimeOriginal | 2016:07:17 17:38:01 |
Defringe | 0 |
DigitalZoomRatio | 1 |
DOF | 0.06 m (0.97 - 1.03 m) |
ExifImageHeight | 853 |
ExifImageWidth | 1280 |
Exposure | 0.00 |
Exposure2012 | -0.15 |
ExposureCompensation | 0 |
ExposureMode | Manual |
ExposureProgram | Manual |
ExposureTime | 1/125 |
FillLight | 0 |
Flash | No Flash |
FNumber | 4.0 |
FocalLength | 50.0 mm |
FocalLength35efl | 50.0 mm (35 mm equivalent: 75.0 mm) |
FocalLengthIn35mmFormat | 75 mm |
Format | image/jpeg |
FOV | 27.0 deg |
GainControl | None |
GrainAmount | 0 |
GreenHue | 0 |
GreenSaturation | 0 |
HasCrop | True |
HasSettings | True |
HighlightRecovery | 0 |
Highlights2012 | -20 |
HueAdjustmentAqua | 0 |
HueAdjustmentBlue | 0 |
HueAdjustmentGreen | 0 |
HueAdjustmentMagenta | 0 |
HueAdjustmentOrange | 0 |
HueAdjustmentPurple | 0 |
HueAdjustmentRed | 0 |
HueAdjustmentYellow | 0 |
HyperfocalDistance | 31.20 m |
ICCProfileName | Adobe RGB (1998) |
ImageHeight (1) | 2739 |
ImageHeight | 853 |
ImageNumber | 11336 |
ImageSize | 1280x853 |
ImageWidth (1) | 4109 |
ImageWidth | 1280 |
ISO | 200 |
Lens | 50.0 mm f/1.8 |
LensID (1) | 118 |
LensID | AF Nikkor 50mm f/1.8D |
LensInfo | 50mm f/1.8 |
LensManualDistortionAmount | 0 |
LensModel | 50.0 mm f/1.8 |
LensProfileEnable | 0 |
LensProfileSetup | LensDefaults |
LightSource | Unknown |
LightValue | 10.0 |
LuminanceAdjustmentAqua | 0 |
LuminanceAdjustmentBlue | 0 |
LuminanceAdjustmentGreen | 0 |
LuminanceAdjustmentMagenta | 0 |
LuminanceAdjustmentOrange | 0 |
LuminanceAdjustmentPurple | 0 |
LuminanceAdjustmentRed | 0 |
LuminanceAdjustmentYellow | 0 |
LuminanceSmoothing | 0 |
Make | NIKON CORPORATION |
MaxApertureValue | 1.7 |
Megapixels | 1.1 |
MeteringMode | Multi-segment |
Model | NIKON D90 |
ModifyDate (1) | 2016:07:19 04:46:09+02:00 |
ModifyDate | 2016:07:19 04:46:09 |
Orientation | Horizontal (normal) |
ParametricDarks | 0 |
ParametricHighlights | -10 |
ParametricHighlightSplit | 75 |
ParametricLights | -20 |
ParametricMidtoneSplit | 50 |
ParametricShadows | -10 |
ParametricShadowSplit | 25 |
PerspectiveHorizontal | 0 |
PerspectiveRotate | 0.0 |
PerspectiveScale | 100 |
PerspectiveVertical | 0 |
PhotometricInterpretation | RGB |
PostCropVignetteAmount | 0 |
ProcessVersion | 6.7 |
ProfileDescription | Adobe RGB (1998) |
Rating | 0 |
RawFileName | DSC_2675.NEF |
RedHue | 0 |
RedSaturation | 0 |
SamplesPerPixel | 3 |
Saturation (1) | -4 |
Saturation | Normal |
SaturationAdjustmentAqua | 0 |
SaturationAdjustmentBlue | 0 |
SaturationAdjustmentGreen | 0 |
SaturationAdjustmentMagenta | 0 |
SaturationAdjustmentOrange | 0 |
SaturationAdjustmentPurple | 0 |
SaturationAdjustmentRed | 0 |
SaturationAdjustmentYellow | 0 |
ScaleFactor35efl | 1.5 |
SceneCaptureType | Standard |
SceneType | Directly photographed |
SensingMethod | One-chip color area |
SerialNumber | 6009891 |
Shadows | 5 |
Shadows2012 | 0 |
ShadowTint | 0 |
SharpenDetail | 25 |
SharpenEdgeMasking | 5 |
SharpenRadius | +1.8 |
Sharpness (1) | 80 |
Sharpness | Normal |
ShutterSpeed | 1/125 |
ShutterSpeedValue | 1/125 |
Software | Adobe Photoshop CS6 (Windows) |
SplitToningBalance | 0 |
SplitToningHighlightHue | 0 |
SplitToningHighlightSaturation | 0 |
SplitToningShadowHue | 0 |
SplitToningShadowSaturation | 0 |
SubjectDistanceRange | Unknown |
Tint | +1 |
ToneCurve | 0, 0, 32, 22, 64, 56, 128, 128, 192, 196, 255, 255 |
ToneCurveBlue | 0, 0, 255, 255 |
ToneCurveGreen | 0, 0, 255, 255 |
ToneCurveName | Medium Contrast |
ToneCurveName2012 | Linear |
ToneCurvePV2012 | 0, 0, 255, 255 |
ToneCurvePV2012Blue | 0, 0, 255, 255 |
ToneCurvePV2012Green | 0, 0, 255, 255 |
ToneCurvePV2012Red | 0, 0, 255, 255 |
ToneCurveRed | 0, 0, 255, 255 |
URL_List | |
Version | 7.0 |
Vibrance | +20 |
VignetteAmount | 0 |
WhiteBalance (1) | Custom |
WhiteBalance | Auto |
Whites2012 | -10 |