Felt | Verdi |
AlreadyApplied | True |
Aperture | 7.1 |
ApertureValue | 7.1 |
ApproximateFocusDistance | 5.62 |
AutoLateralCA | 1 |
AutoWhiteVersion | 134348800 |
BitsPerSample | 8 |
Blacks2012 | -39 |
BlueHue | 0 |
BlueSaturation | 0 |
CameraProfile | Adobe Standard |
CircleOfConfusion | 0.030 mm |
Clarity2012 | 0 |
ColorComponents | 3 |
ColorNoiseReduction | 25 |
ColorNoiseReductionDetail | 50 |
ColorNoiseReductionSmoothness | 50 |
ColorSpace | sRGB |
ColorTemperature | 3767 |
Contrast | Normal |
Contrast2012 | +30 |
ConvertToGrayscale | True |
CreateDate (1) | 2014:12:07 22:50:53.80 |
CreateDate | 2014:12:07 22:50:53 |
CreatorTool | Adobe Photoshop Lightroom 6.4 (Macintosh) |
CropAngle | -0.111246 |
CropBottom | 0.974835 |
CropConstrainToWarp | 0 |
CropLeft | 0.12247 |
CropRight | 0.998963 |
CropTop | 0.100252 |
CustomRendered | Normal |
DateCreated (1) | 2014:12:07 22:50:53.80 |
DateCreated | 2014:12:07 |
DateTimeOriginal | 2014:12:07 22:50:53 |
Dehaze | 0 |
DigitalZoomRatio | 1 |
DOF | inf (1.09 m - inf) |
ExifImageHeight | 1536 |
ExifImageWidth | 2730 |
Exposure2012 | 0.00 |
ExposureCompensation | 0 |
ExposureMode | Manual |
ExposureProgram | Manual |
ExposureTime | 25 |
Flash | Off, Did not fire |
FNumber | 7.1 |
FocalLength | 17.0 mm |
FocalLength35efl | 17.0 mm (35 mm equivalent: 17.0 mm) |
FocalLengthIn35mmFormat | 17 mm |
Format | image/jpeg |
FOV | 93.3 deg |
GainControl | None |
GradientBasedCorrActive | true |
GradientBasedCorrAmount | 1.000000 |
GradientBasedCorrBrightness | 0.000000 |
GradientBasedCorrClarity2012 | 0.000000 |
GradientBasedCorrContrast2012 | 0.000000 |
GradientBasedCorrDefringe | 0.000000 |
GradientBasedCorrExposure2012 | -0.215644 |
GradientBasedCorrHighlights2012 | 0.000000 |
GradientBasedCorrHue | 0.000000 |
GradientBasedCorrLocalBlacks2012 | 0.000000 |
GradientBasedCorrLocalDehaze | 0.000000 |
GradientBasedCorrLocalWhites2012 | 0.000000 |
GradientBasedCorrLuminanceNoise | 0.000000 |
GradientBasedCorrMaskFullX | 0.509224 |
GradientBasedCorrMaskFullY | 0.982763 |
GradientBasedCorrMaskValue | 1.000000 |
GradientBasedCorrMaskWhat | Mask/Gradient |
GradientBasedCorrMaskZeroX | 0.510529 |
GradientBasedCorrMaskZeroY | 0.875777 |
GradientBasedCorrMoire | 0.000000 |
GradientBasedCorrSaturation | 0.000000 |
GradientBasedCorrShadows2012 | 0.000000 |
GradientBasedCorrSharpness | 0.000000 |
GradientBasedCorrTemperature | 0.000000 |
GradientBasedCorrTint | 0.000000 |
GradientBasedCorrWhat | Correction |
GrainAmount | 0 |
GrayMixerAqua | -19 |
GrayMixerBlue | +7 |
GrayMixerGreen | -25 |
GrayMixerMagenta | -47 |
GrayMixerOrange | -18 |
GrayMixerPurple | +14 |
GrayMixerRed | 0 |
GrayMixerYellow | +9 |
GreenHue | 0 |
GreenSaturation | 0 |
HasCrop | True |
HasExtendedXMP | 991CB5917CD32FBD1DD9F8E40363445C |
HasSettings | True |
Highlights2012 | -1 |
HyperfocalDistance | 1.35 m |
ImageHeight | 1536 |
ImageNumber | 5813 |
ImageSize | 2730x1536 |
ImageWidth | 2730 |
ISO | 100 |
Lens | 17.0-35.0 mm f/2.8-4.0 |
LensID (1) | 7 |
LensID | Tamron SP AF 17-35mm f/2.8-4 Di LD Aspherical (IF) (A05) |
LensInfo | 17-35mm f/2.8-4 |
LensManualDistortionAmount | 0 |
LensModel | 17.0-35.0 mm f/2.8-4.0 |
LensProfileEnable | 1 |
LensProfileSetup | LensDefaults |
LightSource | Unknown |
LightValue | 1.0 |
LuminanceSmoothing | 0 |
Make | NIKON CORPORATION |
MaxApertureValue | 2.8 |
Megapixels | 4.2 |
MeteringMode | Center-weighted average |
Model | NIKON D600 |
ModifyDate (1) | 2016:01:28 22:49:38+01:00 |
ModifyDate | 2016:01:28 22:49:38 |
Orientation | Horizontal (normal) |
PaintCorrectionActive | true |
PaintCorrectionAmount | 1.000000 |
PaintCorrectionBrightness | 0.000000 |
PaintCorrectionClarity2012 (2) | 1.000000 |
PaintCorrectionClarity2012 (3) | 0.540569 |
PaintCorrectionClarity2012 | 0.000000 |
PaintCorrectionContrast2012 (3) | 0.218091 |
PaintCorrectionContrast2012 | 0.000000 |
PaintCorrectionDefringe | 0.000000 |
PaintCorrectionExposure2012 (1) | -0.672816 |
PaintCorrectionExposure2012 (5) | 0.000000 |
PaintCorrectionExposure2012 (7) | 0.307530 |
PaintCorrectionExposure2012 (8) | -0.215644 |
PaintCorrectionExposure2012 (9) | 0.238893 |
PaintCorrectionExposure2012 | -0.648532 |
PaintCorrectionHighlights2012 (2) | 0.138742 |
PaintCorrectionHighlights2012 (3) | 0.774191 |
PaintCorrectionHighlights2012 (5) | -0.276638 |
PaintCorrectionHighlights2012 (7) | 0.619070 |
PaintCorrectionHighlights2012 (9) | 0.173663 |
PaintCorrectionHighlights2012 | 0.000000 |
PaintCorrectionHue | 0.000000 |
PaintCorrectionLocalBlacks2012 | 0.000000 |
PaintCorrectionLocalDehaze | 0.000000 |
PaintCorrectionLocalWhites2012 | 0.000000 |
PaintCorrectionLuminanceNoise | 0.000000 |
PaintCorrectionMaskCenterWeight (30) | 0.081451 |
PaintCorrectionMaskCenterWeight (58) | 0.574770 |
PaintCorrectionMaskCenterWeight (59) | 0.008136 |
PaintCorrectionMaskCenterWeight | 0.000000 |
PaintCorrectionMaskFlow (1) | 0.406455 |
PaintCorrectionMaskFlow (3) | 0.493125 |
PaintCorrectionMaskFlow (58) | 1.000000 |
PaintCorrectionMaskFlow (6) | 0.741490 |
PaintCorrectionMaskFlow (90) | 0.625383 |
PaintCorrectionMaskFlow | 0.496720 |
PaintCorrectionMaskRadius (1) | 0.264388 |
PaintCorrectionMaskRadius (10) | 0.063155 |
PaintCorrectionMaskRadius (11) | 0.044189 |
PaintCorrectionMaskRadius (12) | 0.043627 |
PaintCorrectionMaskRadius (13) | 0.044529 |
PaintCorrectionMaskRadius (14) | 0.043889 |
PaintCorrectionMaskRadius (15) | 0.043946 |
PaintCorrectionMaskRadius (16) | 0.044264 |
PaintCorrectionMaskRadius (17) | 0.044083 |
PaintCorrectionMaskRadius (18) | 0.043244 |
PaintCorrectionMaskRadius (19) | 0.043233 |
PaintCorrectionMaskRadius (2) | 0.270266 |
PaintCorrectionMaskRadius (20) | 0.043225 |
PaintCorrectionMaskRadius (21) | 0.043074 |
PaintCorrectionMaskRadius (22) | 0.044015 |
PaintCorrectionMaskRadius (23) | 0.043782 |
PaintCorrectionMaskRadius (24) | 0.044144 |
PaintCorrectionMaskRadius (25) | 0.043904 |
PaintCorrectionMaskRadius (26) | 0.043500 |
PaintCorrectionMaskRadius (27) | 0.043454 |
PaintCorrectionMaskRadius (28) | 0.043663 |
PaintCorrectionMaskRadius (29) | 0.043755 |
PaintCorrectionMaskRadius (3) | 0.232992 |
PaintCorrectionMaskRadius (30) | 0.109588 |
PaintCorrectionMaskRadius (31) | 0.128345 |
PaintCorrectionMaskRadius (32) | 0.066535 |
PaintCorrectionMaskRadius (33) | 0.067522 |
PaintCorrectionMaskRadius (34) | 0.064793 |
PaintCorrectionMaskRadius (35) | 0.065482 |
PaintCorrectionMaskRadius (36) | 0.064595 |
PaintCorrectionMaskRadius (37) | 0.064851 |
PaintCorrectionMaskRadius (38) | 0.064788 |
PaintCorrectionMaskRadius (39) | 0.062260 |
PaintCorrectionMaskRadius (4) | 0.058920 |
PaintCorrectionMaskRadius (40) | 0.062464 |
PaintCorrectionMaskRadius (41) | 0.041830 |
PaintCorrectionMaskRadius (42) | 0.049013 |
PaintCorrectionMaskRadius (43) | 0.049484 |
PaintCorrectionMaskRadius (44) | 0.049625 |
PaintCorrectionMaskRadius (45) | 0.049797 |
PaintCorrectionMaskRadius (46) | 0.049312 |
PaintCorrectionMaskRadius (47) | 0.049230 |
PaintCorrectionMaskRadius (48) | 0.049533 |
PaintCorrectionMaskRadius (49) | 0.049106 |
PaintCorrectionMaskRadius (5) | 0.059203 |
PaintCorrectionMaskRadius (50) | 0.047631 |
PaintCorrectionMaskRadius (51) | 0.046844 |
PaintCorrectionMaskRadius (52) | 0.046967 |
PaintCorrectionMaskRadius (53) | 0.047248 |
PaintCorrectionMaskRadius (54) | 0.025605 |
PaintCorrectionMaskRadius (55) | 0.059266 |
PaintCorrectionMaskRadius (56) | 0.028519 |
PaintCorrectionMaskRadius (57) | 0.016051 |
PaintCorrectionMaskRadius (58) | 0.016110 |
PaintCorrectionMaskRadius (59) | 0.059215 |
PaintCorrectionMaskRadius (6) | 0.060530 |
PaintCorrectionMaskRadius (60) | 0.031480 |
PaintCorrectionMaskRadius (61) | 0.031405 |
PaintCorrectionMaskRadius (62) | 0.030882 |
PaintCorrectionMaskRadius (63) | 0.031185 |
PaintCorrectionMaskRadius (64) | 0.031829 |
PaintCorrectionMaskRadius (65) | 0.031472 |
PaintCorrectionMaskRadius (66) | 0.031316 |
PaintCorrectionMaskRadius (67) | 0.031864 |
PaintCorrectionMaskRadius (68) | 0.030683 |
PaintCorrectionMaskRadius (69) | 0.031533 |
PaintCorrectionMaskRadius (7) | 0.032370 |
PaintCorrectionMaskRadius (70) | 0.031777 |
PaintCorrectionMaskRadius (71) | 0.028807 |
PaintCorrectionMaskRadius (72) | 0.017543 |
PaintCorrectionMaskRadius (73) | 0.028890 |
PaintCorrectionMaskRadius (74) | 0.028963 |
PaintCorrectionMaskRadius (75) | 0.028800 |
PaintCorrectionMaskRadius (76) | 0.028472 |
PaintCorrectionMaskRadius (77) | 0.029041 |
PaintCorrectionMaskRadius (78) | 0.028813 |
PaintCorrectionMaskRadius (79) | 0.229796 |
PaintCorrectionMaskRadius (8) | 0.060465 |
PaintCorrectionMaskRadius (80) | 0.117499 |
PaintCorrectionMaskRadius (81) | 0.036447 |
PaintCorrectionMaskRadius (82) | 0.036527 |
PaintCorrectionMaskRadius (83) | 0.036475 |
PaintCorrectionMaskRadius (84) | 0.036756 |
PaintCorrectionMaskRadius (85) | 0.036965 |
PaintCorrectionMaskRadius (86) | 0.022730 |
PaintCorrectionMaskRadius (87) | 0.014462 |
PaintCorrectionMaskRadius (88) | 0.023876 |
PaintCorrectionMaskRadius (89) | 0.032822 |
PaintCorrectionMaskRadius (9) | 0.061267 |
PaintCorrectionMaskRadius (90) | 0.031881 |
PaintCorrectionMaskRadius (91) | 0.014286 |
PaintCorrectionMaskRadius | 0.014502 |
PaintCorrectionMaskValue (1) | 0.599265 |
PaintCorrectionMaskValue (89) | 0.000000 |
PaintCorrectionMaskValue | 0.709972 |
PaintCorrectionMaskWhat | Mask/Paint |
PaintCorrectionMoire | 0.000000 |
PaintCorrectionSaturation | 0.000000 |
PaintCorrectionShadows2012 (3) | -0.925828 |
PaintCorrectionShadows2012 (4) | -0.537368 |
PaintCorrectionShadows2012 (6) | 0.504800 |
PaintCorrectionShadows2012 | 0.000000 |
PaintCorrectionSharpness (3) | 0.097609 |
PaintCorrectionSharpness | 0.000000 |
PaintCorrectionTemperature (3) | 0.346950 |
PaintCorrectionTemperature | 0.000000 |
PaintCorrectionTint | 0.000000 |
PaintCorrectionWhat | Correction |
ParametricDarks | 0 |
ParametricHighlights | 0 |
ParametricHighlightSplit | 75 |
ParametricLights | 0 |
ParametricMidtoneSplit | 50 |
ParametricShadows | 0 |
ParametricShadowSplit | 25 |
PerspectiveAspect | 0 |
PerspectiveHorizontal | 0 |
PerspectiveRotate | 0.0 |
PerspectiveScale | 100 |
PerspectiveUpright | 1 |
PerspectiveVertical | 0 |
PostCropVignetteAmount | -31 |
PostCropVignetteFeather | 82 |
PostCropVignetteHighlightContrast | 100 |
PostCropVignetteMidpoint | 69 |
PostCropVignetteRoundness | -32 |
PostCropVignetteStyle | 1 |
ProcessVersion | 6.7 |
RedHue | 0 |
RedSaturation | 0 |
Saturation | Normal |
ScaleFactor35efl | 1.0 |
SceneCaptureType | Standard |
SceneType | Directly photographed |
SensingMethod | One-chip color area |
SensitivityType | Recommended Exposure Index |
SerialNumber | 6019834 |
Shadows2012 | +72 |
ShadowTint | 0 |
SharpenDetail | 25 |
SharpenEdgeMasking | 60 |
SharpenRadius | +1.0 |
Sharpness (1) | 25 |
Sharpness | Normal |
ShutterSpeed | 25 |
ShutterSpeedValue | 25 |
Software | Adobe Photoshop Lightroom 6.4 (Macintosh) |
SplitToningBalance | 0 |
SplitToningHighlightHue | 0 |
SplitToningHighlightSaturation | 0 |
SplitToningShadowHue | 0 |
SplitToningShadowSaturation | 0 |
SubjectDistanceRange | Unknown |
Tint | +115 |
ToneCurve | 0, 0, 255, 255 |
ToneCurveBlue | 0, 0, 255, 255 |
ToneCurveGreen | 0, 0, 255, 255 |
ToneCurveName | Linear |
ToneCurveName2012 | Custom |
ToneCurvePV2012 | 0, 0, 53, 44, 123, 131, 194, 200, 255, 255 |
ToneCurvePV2012Blue | 0, 0, 255, 255 |
ToneCurvePV2012Green | 0, 0, 255, 255 |
ToneCurvePV2012Red | 0, 0, 255, 255 |
ToneCurveRed | 0, 0, 255, 255 |
ToneMapStrength | 0 |
Version | 9.4 |
VignetteAmount | 0 |
WhiteBalance (1) | Custom |
WhiteBalance | Auto |
Whites2012 | +25 |