Felt | Verdi |
AlreadyApplied | True |
Aperture | 8.0 |
ApertureValue | 8.0 |
AutoLateralCA | 1 |
AutoWhiteVersion | 134348800 |
BitsPerSample | 8 |
Blacks2012 | -17 |
BlueHue | 0 |
BlueSaturation | +41 |
BrightnessValue | 9.06 |
CameraProfile | Adobe Standard |
CircleOfConfusion | 0.009 mm |
Clarity2012 | 0 |
ColorComponents | 3 |
ColorNoiseReduction | 25 |
ColorNoiseReductionDetail | 50 |
ColorNoiseReductionSmoothness | 50 |
ColorSpace | sRGB |
ColorTemperature | 5050 |
Contrast2012 | -17 |
ConvertToGrayscale | False |
CreateDate | 2015:08:03 00:30:07 |
CreatorTool | Adobe Photoshop Lightroom 5.4 (Macintosh) |
CropAngle | 0 |
CropBottom | 0.999999 |
CropConstrainToWarp | 0 |
CropLeft | 0 |
CropRight | 0.999999 |
CropTop | 0.000001 |
CustomRendered | Normal |
DateCreated (1) | 2015:08:03 00:30:07 |
DateCreated | 2015:08:03 |
DateTimeOriginal | 2015:08:03 00:30:07 |
DefringeGreenAmount | 0 |
DefringeGreenHueHi | 60 |
DefringeGreenHueLo | 40 |
DefringePurpleAmount | 0 |
DefringePurpleHueHi | 70 |
DefringePurpleHueLo | 30 |
ExifImageHeight | 1536 |
ExifImageWidth | 2304 |
Exposure2012 | +0.30 |
ExposureCompensation | 0 |
ExposureMode | Auto |
ExposureProgram | Aperture-priority AE |
ExposureTime | 1/1200 |
Flash | Off, Did not fire |
FNumber | 8.0 |
FocalLength | 23.0 mm |
FocalLength35efl | 23.0 mm (35 mm equivalent: 74.9 mm) |
Format | image/jpeg |
FOV | 27.0 deg |
GradientBasedCorrActive | true |
GradientBasedCorrAmount | 1.000000 |
GradientBasedCorrBrightness | 0.000000 |
GradientBasedCorrClarity2012 | 0.000000 |
GradientBasedCorrContrast2012 | 0.000000 |
GradientBasedCorrDefringe | 0.000000 |
GradientBasedCorrExposure2012 (1) | 0.050000 |
GradientBasedCorrExposure2012 (2) | -0.354106 |
GradientBasedCorrExposure2012 | -0.098474 |
GradientBasedCorrHighlights2012 (2) | -0.346748 |
GradientBasedCorrHighlights2012 | 0.000000 |
GradientBasedCorrHue | 0.000000 |
GradientBasedCorrLuminanceNoise | 0.000000 |
GradientBasedCorrMaskFullX (1) | 0.508234 |
GradientBasedCorrMaskFullX (2) | 0.444101 |
GradientBasedCorrMaskFullX | 0.446318 |
GradientBasedCorrMaskFullY (1) | 1.071410 |
GradientBasedCorrMaskFullY (2) | -0.002273 |
GradientBasedCorrMaskFullY | -0.001803 |
GradientBasedCorrMaskValue | 1.000000 |
GradientBasedCorrMaskWhat | Mask/Gradient |
GradientBasedCorrMaskZeroX (1) | 0.519689 |
GradientBasedCorrMaskZeroX (2) | 0.437653 |
GradientBasedCorrMaskZeroX | 0.446968 |
GradientBasedCorrMaskZeroY (1) | 0.246561 |
GradientBasedCorrMaskZeroY (2) | 0.625103 |
GradientBasedCorrMaskZeroY | 0.115802 |
GradientBasedCorrMoire | 0.000000 |
GradientBasedCorrSaturation | 0.000000 |
GradientBasedCorrShadows2012 | 0.000000 |
GradientBasedCorrSharpness | 0.000000 |
GradientBasedCorrTemperature (1) | 0.134539 |
GradientBasedCorrTemperature | 0.000000 |
GradientBasedCorrTint | 0.000000 |
GradientBasedCorrWhat | Correction |
GrainAmount | 0 |
GreenHue | 0 |
GreenSaturation | -9 |
HasCrop | True |
HasSettings | True |
Highlights2012 | -27 |
HueAdjustmentAqua | 0 |
HueAdjustmentBlue | 0 |
HueAdjustmentGreen | -31 |
HueAdjustmentMagenta | 0 |
HueAdjustmentOrange | 0 |
HueAdjustmentPurple | 0 |
HueAdjustmentRed | +18 |
HueAdjustmentYellow | +3 |
HyperfocalDistance | 7.16 m |
ImageHeight | 1536 |
ImageSize | 2304x1536 |
ImageWidth | 2304 |
ISO | 640 |
LensManualDistortionAmount | 0 |
LensProfileChromaticAberrationScale | 100 |
LensProfileDistortionScale | 100 |
LensProfileEnable | 1 |
LensProfileFilename | Fujifilm X100S.lcp |
LensProfileName | Adobe (Fujifilm X100S) |
LensProfileSetup | LensDefaults |
LensProfileVignettingScale | 100 |
LightSource | Unknown |
LightValue | 13.6 |
LuminanceAdjustmentAqua | 0 |
LuminanceAdjustmentBlue | +14 |
LuminanceAdjustmentGreen | +52 |
LuminanceAdjustmentMagenta | +1 |
LuminanceAdjustmentOrange | +60 |
LuminanceAdjustmentPurple | +33 |
LuminanceAdjustmentRed | +64 |
LuminanceAdjustmentYellow | +90 |
LuminanceSmoothing | 0 |
Make | FUJIFILM |
MaxApertureValue | 2.0 |
Megapixels | 3.5 |
MeteringMode | Multi-segment |
Model | X100S |
ModifyDate (1) | 2016:01:24 22:14:14+01:00 |
ModifyDate | 2016:01:24 22:14:14 |
Orientation | Horizontal (normal) |
PaintCorrectionActive | true |
PaintCorrectionAmount | 1.000000 |
PaintCorrectionBrightness | 0.000000 |
PaintCorrectionClarity2012 (1) | 0.305959 |
PaintCorrectionClarity2012 (2) | 0.156068 |
PaintCorrectionClarity2012 | 0.000000 |
PaintCorrectionContrast2012 (2) | -0.070676 |
PaintCorrectionContrast2012 (5) | 0.000000 |
PaintCorrectionContrast2012 | 0.452852 |
PaintCorrectionDefringe | 0.000000 |
PaintCorrectionExposure2012 (1) | 0.074945 |
PaintCorrectionExposure2012 (2) | -0.221021 |
PaintCorrectionExposure2012 (3) | 0.084484 |
PaintCorrectionExposure2012 (5) | -0.175000 |
PaintCorrectionExposure2012 | 0.000000 |
PaintCorrectionHighlights2012 (1) | 0.622366 |
PaintCorrectionHighlights2012 (2) | -0.190589 |
PaintCorrectionHighlights2012 (3) | 1.000000 |
PaintCorrectionHighlights2012 (4) | 0.000000 |
PaintCorrectionHighlights2012 | 0.665153 |
PaintCorrectionHue | 0.000000 |
PaintCorrectionLuminanceNoise | 0.000000 |
PaintCorrectionMaskCenterWeight (11) | 0.391369 |
PaintCorrectionMaskCenterWeight (2) | 0.132586 |
PaintCorrectionMaskCenterWeight (6) | 0.226340 |
PaintCorrectionMaskCenterWeight | 0.000000 |
PaintCorrectionMaskFlow (14) | 0.223926 |
PaintCorrectionMaskFlow (2) | 0.777725 |
PaintCorrectionMaskFlow (26) | 0.500342 |
PaintCorrectionMaskFlow (31) | 0.892114 |
PaintCorrectionMaskFlow (7) | 1.000000 |
PaintCorrectionMaskFlow | 0.443740 |
PaintCorrectionMaskRadius (10) | 0.003979 |
PaintCorrectionMaskRadius (11) | 0.053954 |
PaintCorrectionMaskRadius (15) | 0.058038 |
PaintCorrectionMaskRadius (2) | 0.058665 |
PaintCorrectionMaskRadius (25) | 0.032429 |
PaintCorrectionMaskRadius (26) | 0.026702 |
PaintCorrectionMaskRadius (27) | 0.083329 |
PaintCorrectionMaskRadius (28) | 0.093608 |
PaintCorrectionMaskRadius (29) | 0.046949 |
PaintCorrectionMaskRadius (3) | 0.136496 |
PaintCorrectionMaskRadius (30) | 0.046739 |
PaintCorrectionMaskRadius (31) | 0.046956 |
PaintCorrectionMaskRadius (32) | 0.046999 |
PaintCorrectionMaskRadius (33) | 0.090425 |
PaintCorrectionMaskRadius (34) | 0.089533 |
PaintCorrectionMaskRadius (35) | 0.089507 |
PaintCorrectionMaskRadius (36) | 0.089510 |
PaintCorrectionMaskRadius (37) | 0.089530 |
PaintCorrectionMaskRadius (38) | 0.089509 |
PaintCorrectionMaskRadius (39) | 0.090585 |
PaintCorrectionMaskRadius (40) | 0.089937 |
PaintCorrectionMaskRadius (41) | 0.091127 |
PaintCorrectionMaskRadius (42) | 0.091291 |
PaintCorrectionMaskRadius (43) | 0.090778 |
PaintCorrectionMaskRadius (44) | 0.091329 |
PaintCorrectionMaskRadius (45) | 0.091339 |
PaintCorrectionMaskRadius (5) | 0.039367 |
PaintCorrectionMaskRadius (8) | 0.014569 |
PaintCorrectionMaskRadius (9) | 0.019549 |
PaintCorrectionMaskRadius | 0.091210 |
PaintCorrectionMaskValue (6) | 0.000000 |
PaintCorrectionMaskValue | 1.000000 |
PaintCorrectionMaskWhat | Mask/Paint |
PaintCorrectionMoire | 0.000000 |
PaintCorrectionSaturation (1) | 0.202035 |
PaintCorrectionSaturation (11) | -0.258176 |
PaintCorrectionSaturation | 0.000000 |
PaintCorrectionShadows2012 (1) | 0.641261 |
PaintCorrectionShadows2012 (4) | -0.970203 |
PaintCorrectionShadows2012 | 0.000000 |
PaintCorrectionSharpness | 0.000000 |
PaintCorrectionTemperature | 0.000000 |
PaintCorrectionTint | 0.000000 |
PaintCorrectionWhat | Correction |
ParametricDarks | 0 |
ParametricHighlights | 0 |
ParametricHighlightSplit | 75 |
ParametricLights | 0 |
ParametricMidtoneSplit | 50 |
ParametricShadows | 0 |
ParametricShadowSplit | 25 |
PerspectiveAspect | 0 |
PerspectiveHorizontal | 0 |
PerspectiveRotate | 0.0 |
PerspectiveScale | 100 |
PerspectiveUpright | 0 |
PerspectiveVertical | 0 |
PostCropVignetteAmount | -13 |
PostCropVignetteFeather | 50 |
PostCropVignetteHighlightContrast | 93 |
PostCropVignetteMidpoint | 50 |
PostCropVignetteRoundness | 0 |
PostCropVignetteStyle | 1 |
ProcessVersion | 6.7 |
RedHue | 0 |
RedSaturation | 0 |
Saturation | -7 |
SaturationAdjustmentAqua | 0 |
SaturationAdjustmentBlue | -47 |
SaturationAdjustmentGreen | 0 |
SaturationAdjustmentMagenta | 0 |
SaturationAdjustmentOrange | +21 |
SaturationAdjustmentPurple | 0 |
SaturationAdjustmentRed | +51 |
SaturationAdjustmentYellow | -50 |
ScaleFactor35efl | 3.3 |
SceneCaptureType | Standard |
SceneType | Directly photographed |
SensingMethod | One-chip color area |
SensitivityType | Standard Output Sensitivity |
Shadows2012 | +28 |
ShadowTint | 0 |
SharpenDetail | 25 |
SharpenEdgeMasking | 52 |
SharpenRadius | +1.0 |
Sharpness (1) | 25 |
Sharpness | Normal |
ShutterSpeed | 1/1200 |
ShutterSpeedValue | 1/1200 |
Software | Adobe Photoshop Lightroom 5.4 (Macintosh) |
SplitToningBalance | 0 |
SplitToningHighlightHue | 0 |
SplitToningHighlightSaturation | 0 |
SplitToningShadowHue | 0 |
SplitToningShadowSaturation | 0 |
SubjectDistanceRange | Unknown |
Tint | +11 |
ToneCurve | 0, 0, 255, 255 |
ToneCurveBlue | 0, 0, 255, 255 |
ToneCurveGreen | 0, 0, 255, 255 |
ToneCurveName | Linear |
ToneCurveName2012 | Custom |
ToneCurvePV2012 | 0, 0, 60, 60, 128, 133, 189, 206, 255, 255 |
ToneCurvePV2012Blue | 0, 0, 255, 255 |
ToneCurvePV2012Green | 0, 0, 255, 255 |
ToneCurvePV2012Red | 0, 0, 255, 255 |
ToneCurveRed | 0, 0, 255, 255 |
Version | 8.4 |
Vibrance | +24 |
VignetteAmount | 0 |
WhiteBalance (1) | As Shot |
WhiteBalance | Auto |
Whites2012 | +59 |