Felt | Verdi |
AlreadyApplied | True |
Aperture | 5.0 |
ApertureValue | 5.0 |
ApproximateFocusDistance | 0.5 |
AutoLateralCA | 1 |
AutoWhiteVersion | 134348800 |
BitsPerSample | 8 |
Blacks2012 | -41 |
BlueHue | 0 |
BlueSaturation | 0 |
CameraProfile | Adobe Standard |
CircleOfConfusion | 0.030 mm |
Clarity2012 | +32 |
ColorComponents | 3 |
ColorNoiseReduction | 25 |
ColorNoiseReductionDetail | 50 |
ColorNoiseReductionSmoothness | 50 |
ColorSpace | sRGB |
ColorTemperature | 3593 |
Contrast | Normal |
Contrast2012 | +35 |
ConvertToGrayscale | True |
CreateDate (1) | 2015:04:09 18:06:37.70 |
CreateDate | 2015:04:09 18:06:37 |
CreatorTool | Adobe Photoshop Lightroom 5.4 (Macintosh) |
CropAngle | 2.13288 |
CropBottom | 0.999229 |
CropConstrainToWarp | 0 |
CropLeft | 0.124547 |
CropRight | 0.935077 |
CropTop | 0.122794 |
CustomRendered | Normal |
DateCreated (1) | 2015:04:09 18:06:37.70 |
DateCreated | 2015:04:09 |
DateTimeOriginal | 2015:04:09 18:06:37 |
DigitalZoomRatio | 1 |
DOF | 0.09 m (0.46 - 0.55 m) |
ExifImageHeight | 1536 |
ExifImageWidth | 2304 |
Exposure2012 | 0.00 |
ExposureCompensation | 0 |
ExposureMode | Manual |
ExposureProgram | Manual |
ExposureTime | 1/60 |
Flash | Off, Did not fire |
FNumber | 5.0 |
FocalLength | 28.0 mm |
FocalLength35efl | 28.0 mm (35 mm equivalent: 28.0 mm) |
FocalLengthIn35mmFormat | 28 mm |
Format | image/jpeg |
FOV | 65.5 deg |
GainControl | Low gain up |
GrainAmount | 0 |
GrayMixerAqua | -18 |
GrayMixerBlue | +25 |
GrayMixerGreen | -6 |
GrayMixerMagenta | +21 |
GrayMixerOrange | +6 |
GrayMixerPurple | +33 |
GrayMixerRed | +43 |
GrayMixerYellow | +1 |
GreenHue | 0 |
GreenSaturation | 0 |
HasCrop | True |
HasSettings | True |
Highlights2012 | +21 |
HyperfocalDistance | 5.22 m |
ImageHeight | 1536 |
ImageNumber | 10961 |
ImageSize | 2304x1536 |
ImageWidth | 2304 |
ISO | 800 |
Lens | 17.0-35.0 mm f/2.8-4.0 |
LensID (1) | 7 |
LensID | Tamron SP AF 17-35mm f/2.8-4 Di LD Aspherical (IF) (A05) |
LensInfo | 17-35mm f/2.8-4 |
LensManualDistortionAmount | 0 |
LensModel | 17.0-35.0 mm f/2.8-4.0 |
LensProfileEnable | 1 |
LensProfileSetup | LensDefaults |
LightSource | Unknown |
LightValue | 7.6 |
LuminanceSmoothing | 0 |
Make | NIKON CORPORATION |
MaxApertureValue | 3.4 |
Megapixels | 3.5 |
MeteringMode | Center-weighted average |
Model | NIKON D600 |
ModifyDate (1) | 2016:01:14 21:52:28+01:00 |
ModifyDate | 2016:01:14 21:52:28 |
Orientation | Horizontal (normal) |
PaintCorrectionActive | true |
PaintCorrectionAmount | 1.000000 |
PaintCorrectionBrightness | 0.000000 |
PaintCorrectionClarity2012 (1) | 0.710756 |
PaintCorrectionClarity2012 (2) | 0.296057 |
PaintCorrectionClarity2012 | 0.000000 |
PaintCorrectionContrast2012 | 0.000000 |
PaintCorrectionDefringe | 0.000000 |
PaintCorrectionExposure2012 | 0.000000 |
PaintCorrectionHighlights2012 (2) | 0.701126 |
PaintCorrectionHighlights2012 (3) | -0.701490 |
PaintCorrectionHighlights2012 | 0.000000 |
PaintCorrectionHue | 0.000000 |
PaintCorrectionLuminanceNoise | 0.000000 |
PaintCorrectionMaskCenterWeight | 0.175831 |
PaintCorrectionMaskFlow | 0.815693 |
PaintCorrectionMaskRadius (2) | 0.072289 |
PaintCorrectionMaskRadius (3) | 0.066571 |
PaintCorrectionMaskRadius (4) | 0.030771 |
PaintCorrectionMaskRadius | 0.048593 |
PaintCorrectionMaskValue | 1.000000 |
PaintCorrectionMaskWhat | Mask/Paint |
PaintCorrectionMoire | 0.000000 |
PaintCorrectionSaturation | 0.000000 |
PaintCorrectionShadows2012 (2) | 0.000000 |
PaintCorrectionShadows2012 | 0.456032 |
PaintCorrectionSharpness | 0.000000 |
PaintCorrectionTemperature | 0.000000 |
PaintCorrectionTint | 0.000000 |
PaintCorrectionWhat | Correction |
ParametricDarks | 0 |
ParametricHighlights | 0 |
ParametricHighlightSplit | 75 |
ParametricLights | 0 |
ParametricMidtoneSplit | 50 |
ParametricShadows | 0 |
ParametricShadowSplit | 25 |
PerspectiveAspect | 0 |
PerspectiveHorizontal | 0 |
PerspectiveRotate | 0.0 |
PerspectiveScale | 100 |
PerspectiveUpright | 0 |
PerspectiveVertical | 0 |
PostCropVignetteAmount | -24 |
PostCropVignetteFeather | 62 |
PostCropVignetteHighlightContrast | 0 |
PostCropVignetteMidpoint | 50 |
PostCropVignetteRoundness | 0 |
PostCropVignetteStyle | 1 |
ProcessVersion | 6.7 |
RedHue | 0 |
RedSaturation | 0 |
Saturation | Normal |
ScaleFactor35efl | 1.0 |
SceneCaptureType | Standard |
SceneType | Directly photographed |
SensingMethod | One-chip color area |
SensitivityType | Recommended Exposure Index |
SerialNumber | 6019834 |
Shadows2012 | +38 |
ShadowTint | 0 |
SharpenDetail | 25 |
SharpenEdgeMasking | 82 |
SharpenRadius | +1.0 |
Sharpness (1) | 42 |
Sharpness | Normal |
ShutterSpeed | 1/60 |
ShutterSpeedValue | 1/60 |
Software | Adobe Photoshop Lightroom 5.4 (Macintosh) |
SplitToningBalance | 0 |
SplitToningHighlightHue | 0 |
SplitToningHighlightSaturation | 0 |
SplitToningShadowHue | 0 |
SplitToningShadowSaturation | 0 |
SubjectDistanceRange | Unknown |
Tint | +37 |
ToneCurve | 0, 0, 255, 255 |
ToneCurveBlue | 0, 0, 255, 255 |
ToneCurveGreen | 0, 0, 255, 255 |
ToneCurveName | Linear |
ToneCurveName2012 | Custom |
ToneCurvePV2012 | 0, 0, 65, 59, 189, 203, 255, 255 |
ToneCurvePV2012Blue | 0, 0, 255, 255 |
ToneCurvePV2012Green | 0, 0, 255, 255 |
ToneCurvePV2012Red | 0, 0, 255, 255 |
ToneCurveRed | 0, 0, 255, 255 |
Version | 8.4 |
VignetteAmount | 0 |
WhiteBalance (1) | Custom |
WhiteBalance | Auto |
Whites2012 | +43 |