Felt | Verdi |
AlreadyApplied | True |
Aperture | 8.0 |
ApertureValue | 8.0 |
AutoLateralCA | 1 |
AutoWhiteVersion | 134348800 |
BitsPerSample | 8 |
Blacks2012 | -42 |
BlueHue | 0 |
BlueSaturation | 0 |
BrightnessValue | 2.8 |
CameraProfile | Adobe Standard |
CircleOfConfusion | 0.020 mm |
Clarity2012 | +9 |
ColorComponents | 3 |
ColorNoiseReduction | 25 |
ColorNoiseReductionDetail | 50 |
ColorNoiseReductionSmoothness | 50 |
ColorSpace | sRGB |
ColorTemperature | 5550 |
ColorTransform | YCbCr |
Contrast2012 | +35 |
ConvertToGrayscale | True |
CreateDate | 2015:08:05 08:41:49 |
CreatorTool | Adobe Photoshop Lightroom 5.4 (Macintosh) |
CustomRendered | Normal |
DateCreated (1) | 2015:08:05 |
DateCreated | 2015:08:05 08:41:49 |
DateTimeOriginal | 2015:08:05 08:41:49 |
Exposure2012 | +0.55 |
ExposureCompensation | 0 |
ExposureMode | Manual |
ExposureProgram | Manual |
ExposureTime | 1/30 |
Flash | Off, Did not fire |
FNumber | 8.0 |
FocalLength | 23.0 mm |
FocalLength35efl | 23.0 mm (35 mm equivalent: 35.2 mm) |
Format | image/jpeg |
FOV | 54.1 deg |
GradientBasedCorrActive | true |
GradientBasedCorrAmount | 1.000000 |
GradientBasedCorrBrightness | 0.000000 |
GradientBasedCorrClarity2012 | 0.000000 |
GradientBasedCorrContrast2012 | 0.000000 |
GradientBasedCorrDefringe | 0.000000 |
GradientBasedCorrExposure2012 (1) | 0.000000 |
GradientBasedCorrExposure2012 | -0.109287 |
GradientBasedCorrHighlights2012 (1) | 0.740344 |
GradientBasedCorrHighlights2012 | 0.000000 |
GradientBasedCorrHue | 0.000000 |
GradientBasedCorrLuminanceNoise | 0.000000 |
GradientBasedCorrMaskFullX (1) | 0.442499 |
GradientBasedCorrMaskFullX | 0.424777 |
GradientBasedCorrMaskFullY (1) | 1.019870 |
GradientBasedCorrMaskFullY | -0.004609 |
GradientBasedCorrMaskValue | 1.000000 |
GradientBasedCorrMaskWhat | Mask/Gradient |
GradientBasedCorrMaskZeroX (1) | 0.447533 |
GradientBasedCorrMaskZeroX | 0.426040 |
GradientBasedCorrMaskZeroY (1) | -0.106865 |
GradientBasedCorrMaskZeroY | 0.080354 |
GradientBasedCorrMoire | 0.000000 |
GradientBasedCorrSaturation | 0.000000 |
GradientBasedCorrShadows2012 | 0.000000 |
GradientBasedCorrSharpness | 0.000000 |
GradientBasedCorrTemperature | 0.000000 |
GradientBasedCorrTint | 0.000000 |
GradientBasedCorrWhat | Correction |
GrainAmount | 0 |
GrayMixerAqua | -18 |
GrayMixerBlue | +12 |
GrayMixerGreen | -28 |
GrayMixerMagenta | +5 |
GrayMixerOrange | -20 |
GrayMixerPurple | +18 |
GrayMixerRed | -10 |
GrayMixerYellow | -24 |
GreenHue | 0 |
GreenSaturation | 0 |
HasCrop | False |
HasExtendedXMP | E7D50AF41BDE73087988A36A0E0DBD98 |
HasSettings | True |
Highlights2012 | +67 |
HyperfocalDistance | 3.37 m |
ImageHeight | 3264 |
ImageSize | 4896x3264 |
ImageWidth | 4896 |
ISO | 640 |
LensManualDistortionAmount | 0 |
LensProfileChromaticAberrationScale | 100 |
LensProfileDistortionScale | 100 |
LensProfileEnable | 1 |
LensProfileFilename | Fujifilm X100S.lcp |
LensProfileName | Adobe (Fujifilm X100S) |
LensProfileSetup | LensDefaults |
LensProfileVignettingScale | 100 |
LightSource | Unknown |
LightValue | 8.2 |
LuminanceSmoothing | 0 |
Make | FUJIFILM |
MaxApertureValue | 2.0 |
Megapixels | 16.0 |
MeteringMode | Multi-segment |
Model | X100S |
ModifyDate (1) | 2015:12:30 21:18:11+01:00 |
ModifyDate | 2015:12:30 21:18:11 |
PaintCorrectionActive | true |
PaintCorrectionAmount | 1.000000 |
PaintCorrectionBrightness | 0.000000 |
PaintCorrectionClarity2012 (11) | 0.106654 |
PaintCorrectionClarity2012 (3) | 0.290379 |
PaintCorrectionClarity2012 (4) | 0.341555 |
PaintCorrectionClarity2012 (5) | 0.286341 |
PaintCorrectionClarity2012 (9) | 0.319610 |
PaintCorrectionClarity2012 | 0.000000 |
PaintCorrectionContrast2012 (1) | 0.517644 |
PaintCorrectionContrast2012 (4) | 0.306882 |
PaintCorrectionContrast2012 | 0.000000 |
PaintCorrectionDefringe | 0.000000 |
PaintCorrectionExposure2012 (10) | 0.293013 |
PaintCorrectionExposure2012 (11) | -0.207707 |
PaintCorrectionExposure2012 (12) | -0.187061 |
PaintCorrectionExposure2012 (2) | -0.157128 |
PaintCorrectionExposure2012 (3) | 0.130355 |
PaintCorrectionExposure2012 (6) | 0.129301 |
PaintCorrectionExposure2012 | 0.000000 |
PaintCorrectionHighlights2012 (3) | 0.988325 |
PaintCorrectionHighlights2012 (4) | 1.000000 |
PaintCorrectionHighlights2012 (8) | -1.000000 |
PaintCorrectionHighlights2012 | 0.000000 |
PaintCorrectionHue | 0.000000 |
PaintCorrectionLuminanceNoise | 0.000000 |
PaintCorrectionMaskCenterWeight (18) | 0.032540 |
PaintCorrectionMaskCenterWeight (22) | 0.170596 |
PaintCorrectionMaskCenterWeight (3) | 0.311992 |
PaintCorrectionMaskCenterWeight (41) | 0.044290 |
PaintCorrectionMaskCenterWeight (73) | 0.037761 |
PaintCorrectionMaskCenterWeight | 0.000000 |
PaintCorrectionMaskFlow (12) | 0.615151 |
PaintCorrectionMaskFlow (19) | 0.826742 |
PaintCorrectionMaskFlow (45) | 1.000000 |
PaintCorrectionMaskFlow (71) | 0.488766 |
PaintCorrectionMaskFlow (79) | 0.800606 |
PaintCorrectionMaskFlow | 0.941312 |
PaintCorrectionMaskRadius (1) | 0.021165 |
PaintCorrectionMaskRadius (10) | 0.118028 |
PaintCorrectionMaskRadius (11) | 0.118038 |
PaintCorrectionMaskRadius (12) | 0.136315 |
PaintCorrectionMaskRadius (13) | 0.102951 |
PaintCorrectionMaskRadius (14) | 0.059811 |
PaintCorrectionMaskRadius (15) | 0.048373 |
PaintCorrectionMaskRadius (16) | 0.040837 |
PaintCorrectionMaskRadius (17) | 0.174106 |
PaintCorrectionMaskRadius (18) | 0.173180 |
PaintCorrectionMaskRadius (19) | 0.101957 |
PaintCorrectionMaskRadius (20) | 0.053460 |
PaintCorrectionMaskRadius (21) | 0.083966 |
PaintCorrectionMaskRadius (22) | 0.006430 |
PaintCorrectionMaskRadius (23) | 0.024933 |
PaintCorrectionMaskRadius (24) | 0.085532 |
PaintCorrectionMaskRadius (25) | 0.119240 |
PaintCorrectionMaskRadius (26) | 0.119858 |
PaintCorrectionMaskRadius (27) | 0.118657 |
PaintCorrectionMaskRadius (28) | 0.118691 |
PaintCorrectionMaskRadius (29) | 0.118647 |
PaintCorrectionMaskRadius (3) | 0.006347 |
PaintCorrectionMaskRadius (30) | 0.253121 |
PaintCorrectionMaskRadius (31) | 0.248979 |
PaintCorrectionMaskRadius (32) | 0.248309 |
PaintCorrectionMaskRadius (33) | 0.250921 |
PaintCorrectionMaskRadius (34) | 0.153021 |
PaintCorrectionMaskRadius (35) | 0.150579 |
PaintCorrectionMaskRadius (36) | 0.152291 |
PaintCorrectionMaskRadius (37) | 0.068192 |
PaintCorrectionMaskRadius (38) | 0.068277 |
PaintCorrectionMaskRadius (39) | 0.068400 |
PaintCorrectionMaskRadius (40) | 0.069421 |
PaintCorrectionMaskRadius (41) | 0.151430 |
PaintCorrectionMaskRadius (42) | 0.151181 |
PaintCorrectionMaskRadius (43) | 0.151409 |
PaintCorrectionMaskRadius (44) | 0.054501 |
PaintCorrectionMaskRadius (45) | 0.028065 |
PaintCorrectionMaskRadius (46) | 0.119141 |
PaintCorrectionMaskRadius (47) | 0.119383 |
PaintCorrectionMaskRadius (48) | 0.097011 |
PaintCorrectionMaskRadius (49) | 0.027646 |
PaintCorrectionMaskRadius (50) | 0.047868 |
PaintCorrectionMaskRadius (51) | 0.047981 |
PaintCorrectionMaskRadius (52) | 0.047999 |
PaintCorrectionMaskRadius (53) | 0.098425 |
PaintCorrectionMaskRadius (54) | 0.106588 |
PaintCorrectionMaskRadius (55) | 0.134653 |
PaintCorrectionMaskRadius (56) | 0.100779 |
PaintCorrectionMaskRadius (57) | 0.087384 |
PaintCorrectionMaskRadius (58) | 0.132640 |
PaintCorrectionMaskRadius (59) | 0.131561 |
PaintCorrectionMaskRadius (6) | 0.055799 |
PaintCorrectionMaskRadius (60) | 0.131642 |
PaintCorrectionMaskRadius (61) | 0.131973 |
PaintCorrectionMaskRadius (62) | 0.070813 |
PaintCorrectionMaskRadius (63) | 0.070550 |
PaintCorrectionMaskRadius (64) | 0.135228 |
PaintCorrectionMaskRadius (65) | 0.138596 |
PaintCorrectionMaskRadius (66) | 0.137881 |
PaintCorrectionMaskRadius (67) | 0.135964 |
PaintCorrectionMaskRadius (68) | 0.065051 |
PaintCorrectionMaskRadius (69) | 0.065243 |
PaintCorrectionMaskRadius (7) | 0.014247 |
PaintCorrectionMaskRadius (70) | 0.132908 |
PaintCorrectionMaskRadius (71) | 0.133110 |
PaintCorrectionMaskRadius (72) | 0.103892 |
PaintCorrectionMaskRadius (73) | 0.132892 |
PaintCorrectionMaskRadius (74) | 0.133145 |
PaintCorrectionMaskRadius (75) | 0.132912 |
PaintCorrectionMaskRadius (76) | 0.080420 |
PaintCorrectionMaskRadius (77) | 0.059857 |
PaintCorrectionMaskRadius (78) | 0.083482 |
PaintCorrectionMaskRadius (79) | 0.083812 |
PaintCorrectionMaskRadius (80) | 0.114324 |
PaintCorrectionMaskRadius (81) | 0.052374 |
PaintCorrectionMaskRadius (82) | 0.053667 |
PaintCorrectionMaskRadius (9) | 0.101741 |
PaintCorrectionMaskRadius | 0.026467 |
PaintCorrectionMaskValue (61) | 0.000000 |
PaintCorrectionMaskValue | 1.000000 |
PaintCorrectionMaskWhat | Mask/Paint |
PaintCorrectionMoire | 0.000000 |
PaintCorrectionSaturation | 0.000000 |
PaintCorrectionShadows2012 (1) | -0.743416 |
PaintCorrectionShadows2012 (10) | 0.000000 |
PaintCorrectionShadows2012 (11) | 0.222963 |
PaintCorrectionShadows2012 (2) | -0.193645 |
PaintCorrectionShadows2012 (3) | 0.082338 |
PaintCorrectionShadows2012 (4) | -0.390098 |
PaintCorrectionShadows2012 (5) | 0.270102 |
PaintCorrectionShadows2012 (6) | 0.490783 |
PaintCorrectionShadows2012 (7) | 0.461113 |
PaintCorrectionShadows2012 (9) | 0.802581 |
PaintCorrectionShadows2012 | 0.139923 |
PaintCorrectionSharpness | 0.000000 |
PaintCorrectionTemperature (4) | 0.095681 |
PaintCorrectionTemperature | 0.000000 |
PaintCorrectionTint (10) | 0.000000 |
PaintCorrectionTint (4) | -0.097788 |
PaintCorrectionTint | -0.615607 |
PaintCorrectionWhat | Correction |
ParametricDarks | 0 |
ParametricHighlights | 0 |
ParametricHighlightSplit | 75 |
ParametricLights | 0 |
ParametricMidtoneSplit | 50 |
ParametricShadows | 0 |
ParametricShadowSplit | 25 |
PerspectiveAspect | 0 |
PerspectiveHorizontal | 0 |
PerspectiveRotate | 0.0 |
PerspectiveScale | 100 |
PerspectiveUpright | 0 |
PerspectiveVertical | 0 |
PostCropVignetteAmount | -23 |
PostCropVignetteFeather | 50 |
PostCropVignetteHighlightContrast | 0 |
PostCropVignetteMidpoint | 36 |
PostCropVignetteRoundness | -10 |
PostCropVignetteStyle | 1 |
ProcessVersion | 6.7 |
ProfileDescription | sRGB IEC61966-2.1 |
RedHue | 0 |
RedSaturation | 0 |
ScaleFactor35efl | 1.5 |
SceneCaptureType | Standard |
SceneType | Directly photographed |
SensingMethod | One-chip color area |
SensitivityType | Standard Output Sensitivity |
Shadows2012 | +74 |
ShadowTint | 0 |
SharpenDetail | 25 |
SharpenEdgeMasking | 61 |
SharpenRadius | +1.0 |
Sharpness (1) | 25 |
Sharpness | Normal |
ShutterSpeed | 1/30 |
ShutterSpeedValue | 1/30 |
Software | Adobe Photoshop Lightroom 5.4 (Macintosh) |
SplitToningBalance | 0 |
SplitToningHighlightHue | 0 |
SplitToningHighlightSaturation | 0 |
SplitToningShadowHue | 0 |
SplitToningShadowSaturation | 0 |
SubjectDistanceRange | Unknown |
Tint | +4 |
ToneCurve | 0, 0, 255, 255 |
ToneCurveBlue | 0, 0, 255, 255 |
ToneCurveGreen | 0, 0, 255, 255 |
ToneCurveName | Linear |
ToneCurveName2012 | Custom |
ToneCurvePV2012 | 0, 0, 63, 55, 124, 132, 184, 220, 255, 255 |
ToneCurvePV2012Blue | 0, 0, 255, 255 |
ToneCurvePV2012Green | 0, 0, 255, 255 |
ToneCurvePV2012Red | 0, 0, 255, 255 |
ToneCurveRed | 0, 0, 255, 255 |
Version | 8.4 |
VignetteAmount | 0 |
WhiteBalance (1) | As Shot |
WhiteBalance | Auto |
Whites2012 | +82 |