Felt | Verdi |
AlreadyApplied | True |
Aperture | 8.0 |
ApertureValue | 8.0 |
ApproximateFocusDistance | 0.53 |
AutoLateralCA | 0 |
AutoWhiteVersion | 134348800 |
BitsPerSample (1) | 8 8 8 |
BitsPerSample | 8 |
Blacks2012 | -18 |
BlueHue | 0 |
BlueSaturation | 0 |
CameraProfile | Adobe Standard |
CircleOfConfusion | 0.016 mm |
Clarity2012 | +8 |
ColorComponents | 3 |
ColorMode | RGB |
ColorNoiseReduction | 25 |
ColorNoiseReductionDetail | 50 |
ColorNoiseReductionSmoothness | 50 |
ColorSpace | sRGB |
ColorTemperature | 6450 |
ColorTransform | YCbCr |
Contrast2012 | -11 |
ConvertToGrayscale | False |
CreateDate | 2015:09:21 17:13:27 |
CreatorTool | Adobe Photoshop CC 2014 (Macintosh) |
CustomRendered | Normal |
DateCreated (1) | 2015:09:21 |
DateCreated | 2015:09:21 17:13:27.086 |
DateTimeOriginal | 2015:09:21 17:13:27 |
DefringeGreenAmount | 0 |
DefringeGreenHueHi | 60 |
DefringeGreenHueLo | 40 |
DefringePurpleAmount | 0 |
DefringePurpleHueHi | 70 |
DefringePurpleHueLo | 30 |
DOF | 0.000 m (0.530 - 0.530 m) |
ExifImageHeight | 2921 |
ExifImageWidth | 4655 |
Exposure2012 | -0.15 |
ExposureCompensation | +2/3 |
ExposureMode | Auto |
ExposureProgram | Shutter speed priority AE |
ExposureTime | 1/200 |
Firmware | 1.1.1 |
Flash | Off, Did not fire |
FlashCompensation | 0 |
FNumber | 8.0 |
FocalLength | 270.0 mm |
FocalLength35efl | 270.0 mm (35 mm equivalent: 521.2 mm) |
Format | image/jpeg |
FOV | 4.0 deg |
GrainAmount | 0 |
GreenHue | 0 |
GreenSaturation | 0 |
HasCrop | False |
HasSettings | True |
Highlights2012 | +100 |
HueAdjustmentAqua | 0 |
HueAdjustmentBlue | 0 |
HueAdjustmentGreen | 0 |
HueAdjustmentMagenta | 0 |
HueAdjustmentOrange | 0 |
HueAdjustmentPurple | 0 |
HueAdjustmentRed | 0 |
HueAdjustmentYellow | 0 |
HyperfocalDistance | 585.50 m |
ICCProfileName | sRGB IEC61966-2.1 |
ImageHeight | 2921 |
ImageNumber | 0 |
ImageSize | 4655x2921 |
ImageWidth | 4655 |
ISO | 1600 |
Lens | 18-270mm |
LensID (1) | 217 |
LensID | Tamron AF 18-270mm f/3.5-6.3 Di II VC PZD |
LensInfo | 18-270mm f/? |
LensManualDistortionAmount | 0 |
LensModel | 18-270mm |
LensProfileEnable | 0 |
LensProfileSetup | LensDefaults |
LensSerialNumber | 0000000000 |
LightValue | 9.6 |
LuminanceAdjustmentAqua | +41 |
LuminanceAdjustmentBlue | +11 |
LuminanceAdjustmentGreen | 0 |
LuminanceAdjustmentMagenta | 0 |
LuminanceAdjustmentOrange | +47 |
LuminanceAdjustmentPurple | +52 |
LuminanceAdjustmentRed | 0 |
LuminanceAdjustmentYellow | +85 |
LuminanceSmoothing | 0 |
Make | Canon |
MaxApertureValue | 6.2 |
Megapixels | 13.6 |
MeteringMode | Spot |
Model | Canon EOS 70D |
ModifyDate (1) | 2015:09:22 17:53:14+02:00 |
ModifyDate | 2015:09:22 17:53:14 |
Orientation | Horizontal (normal) |
ParametricDarks | 0 |
ParametricHighlights | 0 |
ParametricHighlightSplit | 75 |
ParametricLights | 0 |
ParametricMidtoneSplit | 50 |
ParametricShadows | 0 |
ParametricShadowSplit | 25 |
PerspectiveAspect | 0 |
PerspectiveHorizontal | 0 |
PerspectiveRotate | 0.0 |
PerspectiveScale | 100 |
PerspectiveUpright | 0 |
PerspectiveVertical | 0 |
PhotometricInterpretation | RGB |
PostCropVignetteAmount | 0 |
ProcessVersion | 6.7 |
ProfileDescription | sRGB IEC61966-2.1 |
Rating | 0 |
RawFileName | IMG_1926.CR2 |
RecommendedExposureIndex | 1600 |
RedHue | 0 |
RedSaturation | 0 |
SamplesPerPixel | 3 |
Saturation | 0 |
SaturationAdjustmentAqua | 0 |
SaturationAdjustmentBlue | +38 |
SaturationAdjustmentGreen | 0 |
SaturationAdjustmentMagenta | 0 |
SaturationAdjustmentOrange | -12 |
SaturationAdjustmentPurple | 0 |
SaturationAdjustmentRed | 0 |
SaturationAdjustmentYellow | 0 |
ScaleFactor35efl | 1.9 |
SceneCaptureType | Standard |
SensitivityType | Recommended Exposure Index |
SerialNumber | 103025027906 |
Shadows2012 | +23 |
ShadowTint | 0 |
SharpenDetail | 25 |
SharpenEdgeMasking | 0 |
SharpenRadius | +1.0 |
Sharpness | 25 |
ShutterSpeed | 1/200 |
ShutterSpeedValue | 1/200 |
Software | Adobe Photoshop CC 2014 (Macintosh) |
SplitToningBalance | 0 |
SplitToningHighlightHue | 0 |
SplitToningHighlightSaturation | 0 |
SplitToningShadowHue | 0 |
SplitToningShadowSaturation | 0 |
Tint | +9 |
ToneCurve | 0, 0, 32, 22, 64, 56, 128, 128, 192, 196, 255, 255 |
ToneCurveBlue | 0, 0, 255, 255 |
ToneCurveGreen | 0, 0, 255, 255 |
ToneCurveName | Medium Contrast |
ToneCurveName2012 | Linear |
ToneCurvePV2012 | 0, 0, 255, 255 |
ToneCurvePV2012Blue | 0, 0, 255, 255 |
ToneCurvePV2012Green | 0, 0, 255, 255 |
ToneCurvePV2012Red | 0, 0, 255, 255 |
ToneCurveRed | 0, 0, 255, 255 |
URL_List | |
Version | 8.7 |
Vibrance | 0 |
VignetteAmount | 0 |
WhiteBalance (1) | As Shot |
WhiteBalance | Auto |
Whites2012 | +38 |